Workbook

Sheet Tables multiplicat° (6e)
A1: NOM et PRENOM: | G1: Classe :
B2: CONTRÔLE : TABLE DE MULTIPLICATION
B6: 2 | C6: 3 | D6: 4 | E6: 5 | F6: 6 | G6: 7 | H6: 8 | I6: 9
A7: 1 | B7: =IF(COUNTIF($P$20:$P$39,CONCATENATE(CHAR(CELL("col",B7)+64),CELL("ligne",B7)-6))>0,"",".") | C7: =IF(COUNTIF($P$20:$P$39,CONCATENATE(CHAR(CELL("col",C7)+64),CELL("ligne",C7)-6))>0,"",".") | D7: =IF(COUNTIF($P$20:$P$39,CONCATENATE(CHAR(CELL("col",D7)+64),CELL("ligne",D7)-6))>0,"",".") -> . | E7: =IF(COUNTIF($P$20:$P$39,CONCATENATE(CHAR(CELL("col",E7)+64),CELL("ligne",E7)-6))>0,"",".") -> . | F7: =IF(COUNTIF($P$20:$P$39,CONCATENATE(CHAR(CELL("col",F7)+64),CELL("ligne",F7)-6))>0,"",".") -> . | G7: =IF(COUNTIF($P$20:$P$39,CONCATENATE(CHAR(CELL("col",G7)+64),CELL("ligne",G7)-6))>0,"",".") -> . | H7: =IF(COUNTIF($P$20:$P$39,CONCATENATE(CHAR(CELL("col",H7)+64),CELL("ligne",H7)-6))>0,"",".") | I7: =IF(COUNTIF($P$20:$P$39,CONCATENATE(CHAR(CELL("col",I7)+64),CELL("ligne",I7)-6))>0,"",".") -> . | K7: Nb de cases à remplir : | M7: =COUNTBLANK(B7:I16) -> 20
A8: 2 | B8: =IF(COUNTIF($P$20:$P$39,CONCATENATE(CHAR(CELL("col",B8)+64),CELL("ligne",B8)-6))>0,"",".") | C8: =IF(COUNTIF($P$20:$P$39,CONCATENATE(CHAR(CELL("col",C8)+64),CELL("ligne",C8)-6))>0,"",".") -> . | D8: =IF(COUNTIF($P$20:$P$39,CONCATENATE(CHAR(CELL("col",D8)+64),CELL("ligne",D8)-6))>0,"",".") -> . | E8: =IF(COUNTIF($P$20:$P$39,CONCATENATE(CHAR(CELL("col",E8)+64),CELL("ligne",E8)-6))>0,"",".") | F8: =IF(COUNTIF($P$20:$P$39,CONCATENATE(CHAR(CELL("col",F8)+64),CELL("ligne",F8)-6))>0,"",".") -> . | G8: =IF(COUNTIF($P$20:$P$39,CONCATENATE(CHAR(CELL("col",G8)+64),CELL("ligne",G8)-6))>0,"",".") -> . | H8: =IF(COUNTIF($P$20:$P$39,CONCATENATE(CHAR(CELL("col",H8)+64),CELL("ligne",H8)-6))>0,"",".") | I8: =IF(COUNTIF($P$20:$P$39,CONCATENATE(CHAR(CELL("col",I8)+64),CELL("ligne",I8)-6))>0,"",".") -> .
A9: 3 | B9: =IF(COUNTIF($P$20:$P$39,CONCATENATE(CHAR(CELL("col",B9)+64),CELL("ligne",B9)-6))>0,"",".") -> . | C9: =IF(COUNTIF($P$20:$P$39,CONCATENATE(CHAR(CELL("col",C9)+64),CELL("ligne",C9)-6))>0,"",".") -> . | D9: =IF(COUNTIF($P$20:$P$39,CONCATENATE(CHAR(CELL("col",D9)+64),CELL("ligne",D9)-6))>0,"",".") -> . | E9: =IF(COUNTIF($P$20:$P$39,CONCATENATE(CHAR(CELL("col",E9)+64),CELL("ligne",E9)-6))>0,"",".") -> . | F9: =IF(COUNTIF($P$20:$P$39,CONCATENATE(CHAR(CELL("col",F9)+64),CELL("ligne",F9)-6))>0,"",".") | G9: =IF(COUNTIF($P$20:$P$39,CONCATENATE(CHAR(CELL("col",G9)+64),CELL("ligne",G9)-6))>0,"",".") -> . | H9: =IF(COUNTIF($P$20:$P$39,CONCATENATE(CHAR(CELL("col",H9)+64),CELL("ligne",H9)-6))>0,"",".") -> . | I9: =IF(COUNTIF($P$20:$P$39,CONCATENATE(CHAR(CELL("col",I9)+64),CELL("ligne",I9)-6))>0,"",".") -> . | K9: APPUYER SUR F9 POUR GENERER UN NOUVEAU CONTRÔLE…
A10: 4 | B10: =IF(COUNTIF($P$20:$P$39,CONCATENATE(CHAR(CELL("col",B10)+64),CELL("ligne",B10)-6))>0,"",".") -> . | C10: =IF(COUNTIF($P$20:$P$39,CONCATENATE(CHAR(CELL("col",C10)+64),CELL("ligne",C10)-6))>0,"",".") -> . | D10: =IF(COUNTIF($P$20:$P$39,CONCATENATE(CHAR(CELL("col",D10)+64),CELL("ligne",D10)-6))>0,"",".") -> . | E10: =IF(COUNTIF($P$20:$P$39,CONCATENATE(CHAR(CELL("col",E10)+64),CELL("ligne",E10)-6))>0,"",".") -> . | F10: =IF(COUNTIF($P$20:$P$39,CONCATENATE(CHAR(CELL("col",F10)+64),CELL("ligne",F10)-6))>0,"",".") -> . | G10: =IF(COUNTIF($P$20:$P$39,CONCATENATE(CHAR(CELL("col",G10)+64),CELL("ligne",G10)-6))>0,"",".") -> . | H10: =IF(COUNTIF($P$20:$P$39,CONCATENATE(CHAR(CELL("col",H10)+64),CELL("ligne",H10)-6))>0,"",".") -> . | I10: =IF(COUNTIF($P$20:$P$39,CONCATENATE(CHAR(CELL("col",I10)+64),CELL("ligne",I10)-6))>0,"",".")
A11: 5 | B11: =IF(COUNTIF($P$20:$P$39,CONCATENATE(CHAR(CELL("col",B11)+64),CELL("ligne",B11)-6))>0,"",".") -> . | C11: =IF(COUNTIF($P$20:$P$39,CONCATENATE(CHAR(CELL("col",C11)+64),CELL("ligne",C11)-6))>0,"",".") -> . | D11: =IF(COUNTIF($P$20:$P$39,CONCATENATE(CHAR(CELL("col",D11)+64),CELL("ligne",D11)-6))>0,"",".") -> . | E11: =IF(COUNTIF($P$20:$P$39,CONCATENATE(CHAR(CELL("col",E11)+64),CELL("ligne",E11)-6))>0,"",".") -> . | F11: =IF(COUNTIF($P$20:$P$39,CONCATENATE(CHAR(CELL("col",F11)+64),CELL("ligne",F11)-6))>0,"",".") -> . | G11: =IF(COUNTIF($P$20:$P$39,CONCATENATE(CHAR(CELL("col",G11)+64),CELL("ligne",G11)-6))>0,"",".") | H11: =IF(COUNTIF($P$20:$P$39,CONCATENATE(CHAR(CELL("col",H11)+64),CELL("ligne",H11)-6))>0,"",".") -> . | I11: =IF(COUNTIF($P$20:$P$39,CONCATENATE(CHAR(CELL("col",I11)+64),CELL("ligne",I11)-6))>0,"",".")
A12: 6 | B12: =IF(COUNTIF($P$20:$P$39,CONCATENATE(CHAR(CELL("col",B12)+64),CELL("ligne",B12)-6))>0,"",".") -> . | C12: =IF(COUNTIF($P$20:$P$39,CONCATENATE(CHAR(CELL("col",C12)+64),CELL("ligne",C12)-6))>0,"",".") -> . | D12: =IF(COUNTIF($P$20:$P$39,CONCATENATE(CHAR(CELL("col",D12)+64),CELL("ligne",D12)-6))>0,"",".") | E12: =IF(COUNTIF($P$20:$P$39,CONCATENATE(CHAR(CELL("col",E12)+64),CELL("ligne",E12)-6))>0,"",".") | F12: =IF(COUNTIF($P$20:$P$39,CONCATENATE(CHAR(CELL("col",F12)+64),CELL("ligne",F12)-6))>0,"",".") -> . | G12: =IF(COUNTIF($P$20:$P$39,CONCATENATE(CHAR(CELL("col",G12)+64),CELL("ligne",G12)-6))>0,"",".") -> . | H12: =IF(COUNTIF($P$20:$P$39,CONCATENATE(CHAR(CELL("col",H12)+64),CELL("ligne",H12)-6))>0,"",".") -> . | I12: =IF(COUNTIF($P$20:$P$39,CONCATENATE(CHAR(CELL("col",I12)+64),CELL("ligne",I12)-6))>0,"",".") -> .
A13: 7 | B13: =IF(COUNTIF($P$20:$P$39,CONCATENATE(CHAR(CELL("col",B13)+64),CELL("ligne",B13)-6))>0,"",".") -> . | C13: =IF(COUNTIF($P$20:$P$39,CONCATENATE(CHAR(CELL("col",C13)+64),CELL("ligne",C13)-6))>0,"",".") | D13: =IF(COUNTIF($P$20:$P$39,CONCATENATE(CHAR(CELL("col",D13)+64),CELL("ligne",D13)-6))>0,"",".") | E13: =IF(COUNTIF($P$20:$P$39,CONCATENATE(CHAR(CELL("col",E13)+64),CELL("ligne",E13)-6))>0,"",".") -> . | F13: =IF(COUNTIF($P$20:$P$39,CONCATENATE(CHAR(CELL("col",F13)+64),CELL("ligne",F13)-6))>0,"",".") -> . | G13: =IF(COUNTIF($P$20:$P$39,CONCATENATE(CHAR(CELL("col",G13)+64),CELL("ligne",G13)-6))>0,"",".") -> . | H13: =IF(COUNTIF($P$20:$P$39,CONCATENATE(CHAR(CELL("col",H13)+64),CELL("ligne",H13)-6))>0,"",".") -> . | I13: =IF(COUNTIF($P$20:$P$39,CONCATENATE(CHAR(CELL("col",I13)+64),CELL("ligne",I13)-6))>0,"",".") -> . | K13: CTRL + P pour lancer l'impression
A14: 8 | B14: =IF(COUNTIF($P$20:$P$39,CONCATENATE(CHAR(CELL("col",B14)+64),CELL("ligne",B14)-6))>0,"",".") | C14: =IF(COUNTIF($P$20:$P$39,CONCATENATE(CHAR(CELL("col",C14)+64),CELL("ligne",C14)-6))>0,"",".") -> . | D14: =IF(COUNTIF($P$20:$P$39,CONCATENATE(CHAR(CELL("col",D14)+64),CELL("ligne",D14)-6))>0,"",".") -> . | E14: =IF(COUNTIF($P$20:$P$39,CONCATENATE(CHAR(CELL("col",E14)+64),CELL("ligne",E14)-6))>0,"",".") -> . | F14: =IF(COUNTIF($P$20:$P$39,CONCATENATE(CHAR(CELL("col",F14)+64),CELL("ligne",F14)-6))>0,"",".") | G14: =IF(COUNTIF($P$20:$P$39,CONCATENATE(CHAR(CELL("col",G14)+64),CELL("ligne",G14)-6))>0,"",".") -> . | H14: =IF(COUNTIF($P$20:$P$39,CONCATENATE(CHAR(CELL("col",H14)+64),CELL("ligne",H14)-6))>0,"",".") -> . | I14: =IF(COUNTIF($P$20:$P$39,CONCATENATE(CHAR(CELL("col",I14)+64),CELL("ligne",I14)-6))>0,"",".") -> .
A15: 9 | B15: =IF(COUNTIF($P$20:$P$39,CONCATENATE(CHAR(CELL("col",B15)+64),CELL("ligne",B15)-6))>0,"",".") -> . | C15: =IF(COUNTIF($P$20:$P$39,CONCATENATE(CHAR(CELL("col",C15)+64),CELL("ligne",C15)-6))>0,"",".") -> . | D15: =IF(COUNTIF($P$20:$P$39,CONCATENATE(CHAR(CELL("col",D15)+64),CELL("ligne",D15)-6))>0,"",".") -> . | E15: =IF(COUNTIF($P$20:$P$39,CONCATENATE(CHAR(CELL("col",E15)+64),CELL("ligne",E15)-6))>0,"",".") | F15: =IF(COUNTIF($P$20:$P$39,CONCATENATE(CHAR(CELL("col",F15)+64),CELL("ligne",F15)-6))>0,"",".") -> . | G15: =IF(COUNTIF($P$20:$P$39,CONCATENATE(CHAR(CELL("col",G15)+64),CELL("ligne",G15)-6))>0,"",".") -> . | H15: =IF(COUNTIF($P$20:$P$39,CONCATENATE(CHAR(CELL("col",H15)+64),CELL("ligne",H15)-6))>0,"",".") | I15: =IF(COUNTIF($P$20:$P$39,CONCATENATE(CHAR(CELL("col",I15)+64),CELL("ligne",I15)-6))>0,"",".") -> .
A16: 10 | B16: =IF(COUNTIF($P$20:$P$39,CONCATENATE(CHAR(CELL("col",B16)+64),CELL("ligne",B16)-6))>0,"",".") -> . | C16: =IF(COUNTIF($P$20:$P$39,CONCATENATE(CHAR(CELL("col",C16)+64),CELL("ligne",C16)-6))>0,"",".") | D16: =IF(COUNTIF($P$20:$P$39,CONCATENATE(CHAR(CELL("col",D16)+64),CELL("ligne",D16)-6))>0,"",".") -> . | E16: =IF(COUNTIF($P$20:$P$39,CONCATENATE(CHAR(CELL("col",E16)+64),CELL("ligne",E16)-6))>0,"",".") -> . | F16: =IF(COUNTIF($P$20:$P$39,CONCATENATE(CHAR(CELL("col",F16)+64),CELL("ligne",F16)-6))>0,"",".") -> . | G16: =IF(COUNTIF($P$20:$P$39,CONCATENATE(CHAR(CELL("col",G16)+64),CELL("ligne",G16)-6))>0,"",".") -> . | H16: =IF(COUNTIF($P$20:$P$39,CONCATENATE(CHAR(CELL("col",H16)+64),CELL("ligne",H16)-6))>0,"",".") -> . | I16: =IF(COUNTIF($P$20:$P$39,CONCATENATE(CHAR(CELL("col",I16)+64),CELL("ligne",I16)-6))>0,"",".") | K16: REPARTITION DU TIRAGE DANS LES CASES | R16: TIRAGE DES CASES A REMPLIR
R18: TIRAGE N° | V18: COLONNE : | W18: LIGNE :
M19: colonne | N19: ligne | R19: 1 | S19: =INT(RAND()*5+1) -> 1 | T19: =INT(S19*$S$40) -> 1 | V19: =IF(INT(T19/10)*10=T19,INT(T19/10)+1,INT(T19/10)+2) -> 2 | W19: =IF(T19-INT(T19/10)*10=0,10,T19-INT(T19/10)*10) -> 1
A20: NOM et PRENOM: | G20: Classe : | K20: TIRAGE N° | L20: 1 | M20: =V19 -> 2 | N20: =W19 -> 1 | O20: =CHAR(M20+64) -> B | P20: =CONCATENATE(O20,N20) -> B1 | R20: 2 | S20: =INT(RAND()*5+1)+S19 -> 2 | T20: =INT(S20*$S$40) -> 2 | V20: =IF(INT(T20/10)*10=T20,INT(T20/10)+1,INT(T20/10)+2) -> 2 | W20: =IF(T20-INT(T20/10)*10=0,10,T20-INT(T20/10)*10) -> 2
B21: CONTRÔLE : TABLE DE MULTIPLICATION | L21: 2 | M21: =V20 -> 2 | N21: =W20 -> 2 | O21: =CHAR(M21+64) -> B | P21: =CONCATENATE(O21,N21) -> B2 | R21: 3 | S21: =INT(RAND()*5+1)+S20 -> 6 | T21: =INT(S21*$S$40) -> 8 | V21: =IF(INT(T21/10)*10=T21,INT(T21/10)+1,INT(T21/10)+2) -> 2 | W21: =IF(T21-INT(T21/10)*10=0,10,T21-INT(T21/10)*10) -> 8
L22: 3 | M22: =V21 -> 2 | N22: =W21 -> 8 | O22: =CHAR(M22+64) -> B | P22: =CONCATENATE(O22,N22) -> B8 | R22: 4 | S22: =INT(RAND()*5+1)+S21 -> 8 | T22: =INT(S22*$S$40) -> 11 | V22: =IF(INT(T22/10)*10=T22,INT(T22/10)+1,INT(T22/10)+2) -> 3 | W22: =IF(T22-INT(T22/10)*10=0,10,T22-INT(T22/10)*10) -> 1
L23: 4 | M23: =V22 -> 3 | N23: =W22 -> 1 | O23: =CHAR(M23+64) -> C | P23: =CONCATENATE(O23,N23) -> C1 | R23: 5 | S23: =INT(RAND()*5+1)+S22 -> 12 | T23: =INT(S23*$S$40) -> 17 | V23: =IF(INT(T23/10)*10=T23,INT(T23/10)+1,INT(T23/10)+2) -> 3 | W23: =IF(T23-INT(T23/10)*10=0,10,T23-INT(T23/10)*10) -> 7
L24: 5 | M24: =V23 -> 3 | N24: =W23 -> 7 | O24: =CHAR(M24+64) -> C | P24: =CONCATENATE(O24,N24) -> C7 | R24: 6 | S24: =INT(RAND()*5+1)+S23 -> 14 | T24: =INT(S24*$S$40) -> 20 | V24: =IF(INT(T24/10)*10=T24,INT(T24/10)+1,INT(T24/10)+2) -> 3 | W24: =IF(T24-INT(T24/10)*10=0,10,T24-INT(T24/10)*10) -> 10
L25: 6 | M25: =V24 -> 3 | N25: =W24 -> 10 | O25: =CHAR(M25+64) -> C | P25: =CONCATENATE(O25,N25) -> C10 | R25: 7 | S25: =INT(RAND()*5+1)+S24 -> 18 | T25: =INT(S25*$S$40) -> 26 | V25: =IF(INT(T25/10)*10=T25,INT(T25/10)+1,INT(T25/10)+2) -> 4 | W25: =IF(T25-INT(T25/10)*10=0,10,T25-INT(T25/10)*10) -> 6
B26: 2 | C26: 3 | D26: 4 | E26: 5 | F26: 6 | G26: 7 | H26: 8 | I26: 9 | L26: 7 | M26: =V25 -> 4 | N26: =W25 -> 6 | O26: =CHAR(M26+64) -> D | P26: =CONCATENATE(O26,N26) -> D6 | R26: 8 | S26: =INT(RAND()*5+1)+S25 -> 19 | T26: =INT(S26*$S$40) -> 27 | V26: =IF(INT(T26/10)*10=T26,INT(T26/10)+1,INT(T26/10)+2) -> 4 | W26: =IF(T26-INT(T26/10)*10=0,10,T26-INT(T26/10)*10) -> 7
A27: 1 | B27: =IF(COUNTIF($P$20:$P$39,CONCATENATE(CHAR(CELL("col",B7)+64),CELL("ligne",B7)-6))>0,"",".") | C27: =IF(COUNTIF($P$20:$P$39,CONCATENATE(CHAR(CELL("col",C7)+64),CELL("ligne",C7)-6))>0,"",".") | D27: =IF(COUNTIF($P$20:$P$39,CONCATENATE(CHAR(CELL("col",D7)+64),CELL("ligne",D7)-6))>0,"",".") -> . | E27: =IF(COUNTIF($P$20:$P$39,CONCATENATE(CHAR(CELL("col",E7)+64),CELL("ligne",E7)-6))>0,"",".") -> . | F27: =IF(COUNTIF($P$20:$P$39,CONCATENATE(CHAR(CELL("col",F7)+64),CELL("ligne",F7)-6))>0,"",".") -> . | G27: =IF(COUNTIF($P$20:$P$39,CONCATENATE(CHAR(CELL("col",G7)+64),CELL("ligne",G7)-6))>0,"",".") -> . | H27: =IF(COUNTIF($P$20:$P$39,CONCATENATE(CHAR(CELL("col",H7)+64),CELL("ligne",H7)-6))>0,"",".") | I27: =IF(COUNTIF($P$20:$P$39,CONCATENATE(CHAR(CELL("col",I7)+64),CELL("ligne",I7)-6))>0,"",".") -> . | L27: 8 | M27: =V26 -> 4 | N27: =W26 -> 7 | O27: =CHAR(M27+64) -> D | P27: =CONCATENATE(O27,N27) -> D7 | R27: 9 | S27: =INT(RAND()*5+1)+S26 -> 22 | T27: =INT(S27*$S$40) -> 32 | V27: =IF(INT(T27/10)*10=T27,INT(T27/10)+1,INT(T27/10)+2) -> 5 | W27: =IF(T27-INT(T27/10)*10=0,10,T27-INT(T27/10)*10) -> 2
A28: 2 | B28: =IF(COUNTIF($P$20:$P$39,CONCATENATE(CHAR(CELL("col",B8)+64),CELL("ligne",B8)-6))>0,"",".") | C28: =IF(COUNTIF($P$20:$P$39,CONCATENATE(CHAR(CELL("col",C8)+64),CELL("ligne",C8)-6))>0,"",".") -> . | D28: =IF(COUNTIF($P$20:$P$39,CONCATENATE(CHAR(CELL("col",D8)+64),CELL("ligne",D8)-6))>0,"",".") -> . | E28: =IF(COUNTIF($P$20:$P$39,CONCATENATE(CHAR(CELL("col",E8)+64),CELL("ligne",E8)-6))>0,"",".") | F28: =IF(COUNTIF($P$20:$P$39,CONCATENATE(CHAR(CELL("col",F8)+64),CELL("ligne",F8)-6))>0,"",".") -> . | G28: =IF(COUNTIF($P$20:$P$39,CONCATENATE(CHAR(CELL("col",G8)+64),CELL("ligne",G8)-6))>0,"",".") -> . | H28: =IF(COUNTIF($P$20:$P$39,CONCATENATE(CHAR(CELL("col",H8)+64),CELL("ligne",H8)-6))>0,"",".") | I28: =IF(COUNTIF($P$20:$P$39,CONCATENATE(CHAR(CELL("col",I8)+64),CELL("ligne",I8)-6))>0,"",".") -> . | L28: 9 | M28: =V27 -> 5 | N28: =W27 -> 2 | O28: =CHAR(M28+64) -> E | P28: =CONCATENATE(O28,N28) -> E2 | R28: 10 | S28: =INT(RAND()*5+1)+S27 -> 25 | T28: =INT(S28*$S$40) -> 36 | V28: =IF(INT(T28/10)*10=T28,INT(T28/10)+1,INT(T28/10)+2) -> 5 | W28: =IF(T28-INT(T28/10)*10=0,10,T28-INT(T28/10)*10) -> 6
A29: 3 | B29: =IF(COUNTIF($P$20:$P$39,CONCATENATE(CHAR(CELL("col",B9)+64),CELL("ligne",B9)-6))>0,"",".") -> . | C29: =IF(COUNTIF($P$20:$P$39,CONCATENATE(CHAR(CELL("col",C9)+64),CELL("ligne",C9)-6))>0,"",".") -> . | D29: =IF(COUNTIF($P$20:$P$39,CONCATENATE(CHAR(CELL("col",D9)+64),CELL("ligne",D9)-6))>0,"",".") -> . | E29: =IF(COUNTIF($P$20:$P$39,CONCATENATE(CHAR(CELL("col",E9)+64),CELL("ligne",E9)-6))>0,"",".") -> . | F29: =IF(COUNTIF($P$20:$P$39,CONCATENATE(CHAR(CELL("col",F9)+64),CELL("ligne",F9)-6))>0,"",".") | G29: =IF(COUNTIF($P$20:$P$39,CONCATENATE(CHAR(CELL("col",G9)+64),CELL("ligne",G9)-6))>0,"",".") -> . | H29: =IF(COUNTIF($P$20:$P$39,CONCATENATE(CHAR(CELL("col",H9)+64),CELL("ligne",H9)-6))>0,"",".") -> . | I29: =IF(COUNTIF($P$20:$P$39,CONCATENATE(CHAR(CELL("col",I9)+64),CELL("ligne",I9)-6))>0,"",".") -> . | L29: 10 | M29: =V28 -> 5 | N29: =W28 -> 6 | O29: =CHAR(M29+64) -> E | P29: =CONCATENATE(O29,N29) -> E6 | R29: 11 | S29: =INT(RAND()*5+1)+S28 -> 27 | T29: =INT(S29*$S$40) -> 39 | V29: =IF(INT(T29/10)*10=T29,INT(T29/10)+1,INT(T29/10)+2) -> 5 | W29: =IF(T29-INT(T29/10)*10=0,10,T29-INT(T29/10)*10) -> 9
A30: 4 | B30: =IF(COUNTIF($P$20:$P$39,CONCATENATE(CHAR(CELL("col",B10)+64),CELL("ligne",B10)-6))>0,"",".") -> . | C30: =IF(COUNTIF($P$20:$P$39,CONCATENATE(CHAR(CELL("col",C10)+64),CELL("ligne",C10)-6))>0,"",".") -> . | D30: =IF(COUNTIF($P$20:$P$39,CONCATENATE(CHAR(CELL("col",D10)+64),CELL("ligne",D10)-6))>0,"",".") -> . | E30: =IF(COUNTIF($P$20:$P$39,CONCATENATE(CHAR(CELL("col",E10)+64),CELL("ligne",E10)-6))>0,"",".") -> . | F30: =IF(COUNTIF($P$20:$P$39,CONCATENATE(CHAR(CELL("col",F10)+64),CELL("ligne",F10)-6))>0,"",".") -> . | G30: =IF(COUNTIF($P$20:$P$39,CONCATENATE(CHAR(CELL("col",G10)+64),CELL("ligne",G10)-6))>0,"",".") -> . | H30: =IF(COUNTIF($P$20:$P$39,CONCATENATE(CHAR(CELL("col",H10)+64),CELL("ligne",H10)-6))>0,"",".") -> . | I30: =IF(COUNTIF($P$20:$P$39,CONCATENATE(CHAR(CELL("col",I10)+64),CELL("ligne",I10)-6))>0,"",".") | L30: 11 | M30: =V29 -> 5 | N30: =W29 -> 9 | O30: =CHAR(M30+64) -> E | P30: =CONCATENATE(O30,N30) -> E9 | R30: 12 | S30: =INT(RAND()*5+1)+S29 -> 30 | T30: =INT(S30*$S$40) -> 43 | V30: =IF(INT(T30/10)*10=T30,INT(T30/10)+1,INT(T30/10)+2) -> 6 | W30: =IF(T30-INT(T30/10)*10=0,10,T30-INT(T30/10)*10) -> 3
A31: 5 | B31: =IF(COUNTIF($P$20:$P$39,CONCATENATE(CHAR(CELL("col",B11)+64),CELL("ligne",B11)-6))>0,"",".") -> . | C31: =IF(COUNTIF($P$20:$P$39,CONCATENATE(CHAR(CELL("col",C11)+64),CELL("ligne",C11)-6))>0,"",".") -> . | D31: =IF(COUNTIF($P$20:$P$39,CONCATENATE(CHAR(CELL("col",D11)+64),CELL("ligne",D11)-6))>0,"",".") -> . | E31: =IF(COUNTIF($P$20:$P$39,CONCATENATE(CHAR(CELL("col",E11)+64),CELL("ligne",E11)-6))>0,"",".") -> . | F31: =IF(COUNTIF($P$20:$P$39,CONCATENATE(CHAR(CELL("col",F11)+64),CELL("ligne",F11)-6))>0,"",".") -> . | G31: =IF(COUNTIF($P$20:$P$39,CONCATENATE(CHAR(CELL("col",G11)+64),CELL("ligne",G11)-6))>0,"",".") | H31: =IF(COUNTIF($P$20:$P$39,CONCATENATE(CHAR(CELL("col",H11)+64),CELL("ligne",H11)-6))>0,"",".") -> . | I31: =IF(COUNTIF($P$20:$P$39,CONCATENATE(CHAR(CELL("col",I11)+64),CELL("ligne",I11)-6))>0,"",".") | L31: 12 | M31: =V30 -> 6 | N31: =W30 -> 3 | O31: =CHAR(M31+64) -> F | P31: =CONCATENATE(O31,N31) -> F3 | R31: 13 | S31: =INT(RAND()*5+1)+S30 -> 33 | T31: =INT(S31*$S$40) -> 48 | V31: =IF(INT(T31/10)*10=T31,INT(T31/10)+1,INT(T31/10)+2) -> 6 | W31: =IF(T31-INT(T31/10)*10=0,10,T31-INT(T31/10)*10) -> 8
A32: 6 | B32: =IF(COUNTIF($P$20:$P$39,CONCATENATE(CHAR(CELL("col",B12)+64),CELL("ligne",B12)-6))>0,"",".") -> . | C32: =IF(COUNTIF($P$20:$P$39,CONCATENATE(CHAR(CELL("col",C12)+64),CELL("ligne",C12)-6))>0,"",".") -> . | D32: =IF(COUNTIF($P$20:$P$39,CONCATENATE(CHAR(CELL("col",D12)+64),CELL("ligne",D12)-6))>0,"",".") | E32: =IF(COUNTIF($P$20:$P$39,CONCATENATE(CHAR(CELL("col",E12)+64),CELL("ligne",E12)-6))>0,"",".") | F32: =IF(COUNTIF($P$20:$P$39,CONCATENATE(CHAR(CELL("col",F12)+64),CELL("ligne",F12)-6))>0,"",".") -> . | G32: =IF(COUNTIF($P$20:$P$39,CONCATENATE(CHAR(CELL("col",G12)+64),CELL("ligne",G12)-6))>0,"",".") -> . | H32: =IF(COUNTIF($P$20:$P$39,CONCATENATE(CHAR(CELL("col",H12)+64),CELL("ligne",H12)-6))>0,"",".") -> . | I32: =IF(COUNTIF($P$20:$P$39,CONCATENATE(CHAR(CELL("col",I12)+64),CELL("ligne",I12)-6))>0,"",".") -> . | L32: 13 | M32: =V31 -> 6 | N32: =W31 -> 8 | O32: =CHAR(M32+64) -> F | P32: =CONCATENATE(O32,N32) -> F8 | R32: 14 | S32: =INT(RAND()*5+1)+S31 -> 38 | T32: =INT(S32*$S$40) -> 55 | V32: =IF(INT(T32/10)*10=T32,INT(T32/10)+1,INT(T32/10)+2) -> 7 | W32: =IF(T32-INT(T32/10)*10=0,10,T32-INT(T32/10)*10) -> 5
A33: 7 | B33: =IF(COUNTIF($P$20:$P$39,CONCATENATE(CHAR(CELL("col",B13)+64),CELL("ligne",B13)-6))>0,"",".") -> . | C33: =IF(COUNTIF($P$20:$P$39,CONCATENATE(CHAR(CELL("col",C13)+64),CELL("ligne",C13)-6))>0,"",".") | D33: =IF(COUNTIF($P$20:$P$39,CONCATENATE(CHAR(CELL("col",D13)+64),CELL("ligne",D13)-6))>0,"",".") | E33: =IF(COUNTIF($P$20:$P$39,CONCATENATE(CHAR(CELL("col",E13)+64),CELL("ligne",E13)-6))>0,"",".") -> . | F33: =IF(COUNTIF($P$20:$P$39,CONCATENATE(CHAR(CELL("col",F13)+64),CELL("ligne",F13)-6))>0,"",".") -> . | G33: =IF(COUNTIF($P$20:$P$39,CONCATENATE(CHAR(CELL("col",G13)+64),CELL("ligne",G13)-6))>0,"",".") -> . | H33: =IF(COUNTIF($P$20:$P$39,CONCATENATE(CHAR(CELL("col",H13)+64),CELL("ligne",H13)-6))>0,"",".") -> . | I33: =IF(COUNTIF($P$20:$P$39,CONCATENATE(CHAR(CELL("col",I13)+64),CELL("ligne",I13)-6))>0,"",".") -> . | L33: 14 | M33: =V32 -> 7 | N33: =W32 -> 5 | O33: =CHAR(M33+64) -> G | P33: =CONCATENATE(O33,N33) -> G5 | R33: 15 | S33: =INT(RAND()*5+1)+S32 -> 42 | T33: =INT(S33*$S$40) -> 61 | V33: =IF(INT(T33/10)*10=T33,INT(T33/10)+1,INT(T33/10)+2) -> 8 | W33: =IF(T33-INT(T33/10)*10=0,10,T33-INT(T33/10)*10) -> 1
A34: 8 | B34: =IF(COUNTIF($P$20:$P$39,CONCATENATE(CHAR(CELL("col",B14)+64),CELL("ligne",B14)-6))>0,"",".") | C34: =IF(COUNTIF($P$20:$P$39,CONCATENATE(CHAR(CELL("col",C14)+64),CELL("ligne",C14)-6))>0,"",".") -> . | D34: =IF(COUNTIF($P$20:$P$39,CONCATENATE(CHAR(CELL("col",D14)+64),CELL("ligne",D14)-6))>0,"",".") -> . | E34: =IF(COUNTIF($P$20:$P$39,CONCATENATE(CHAR(CELL("col",E14)+64),CELL("ligne",E14)-6))>0,"",".") -> . | F34: =IF(COUNTIF($P$20:$P$39,CONCATENATE(CHAR(CELL("col",F14)+64),CELL("ligne",F14)-6))>0,"",".") | G34: =IF(COUNTIF($P$20:$P$39,CONCATENATE(CHAR(CELL("col",G14)+64),CELL("ligne",G14)-6))>0,"",".") -> . | H34: =IF(COUNTIF($P$20:$P$39,CONCATENATE(CHAR(CELL("col",H14)+64),CELL("ligne",H14)-6))>0,"",".") -> . | I34: =IF(COUNTIF($P$20:$P$39,CONCATENATE(CHAR(CELL("col",I14)+64),CELL("ligne",I14)-6))>0,"",".") -> . | L34: 15 | M34: =V33 -> 8 | N34: =W33 -> 1 | O34: =CHAR(M34+64) -> H | P34: =CONCATENATE(O34,N34) -> H1 | R34: 16 | S34: =INT(RAND()*5+1)+S33 -> 43 | T34: =INT(S34*$S$40) -> 62 | V34: =IF(INT(T34/10)*10=T34,INT(T34/10)+1,INT(T34/10)+2) -> 8 | W34: =IF(T34-INT(T34/10)*10=0,10,T34-INT(T34/10)*10) -> 2
A35: 9 | B35: =IF(COUNTIF($P$20:$P$39,CONCATENATE(CHAR(CELL("col",B15)+64),CELL("ligne",B15)-6))>0,"",".") -> . | C35: =IF(COUNTIF($P$20:$P$39,CONCATENATE(CHAR(CELL("col",C15)+64),CELL("ligne",C15)-6))>0,"",".") -> . | D35: =IF(COUNTIF($P$20:$P$39,CONCATENATE(CHAR(CELL("col",D15)+64),CELL("ligne",D15)-6))>0,"",".") -> . | E35: =IF(COUNTIF($P$20:$P$39,CONCATENATE(CHAR(CELL("col",E15)+64),CELL("ligne",E15)-6))>0,"",".") | F35: =IF(COUNTIF($P$20:$P$39,CONCATENATE(CHAR(CELL("col",F15)+64),CELL("ligne",F15)-6))>0,"",".") -> . | G35: =IF(COUNTIF($P$20:$P$39,CONCATENATE(CHAR(CELL("col",G15)+64),CELL("ligne",G15)-6))>0,"",".") -> . | H35: =IF(COUNTIF($P$20:$P$39,CONCATENATE(CHAR(CELL("col",H15)+64),CELL("ligne",H15)-6))>0,"",".") | I35: =IF(COUNTIF($P$20:$P$39,CONCATENATE(CHAR(CELL("col",I15)+64),CELL("ligne",I15)-6))>0,"",".") -> . | L35: 16 | M35: =V34 -> 8 | N35: =W34 -> 2 | O35: =CHAR(M35+64) -> H | P35: =CONCATENATE(O35,N35) -> H2 | R35: 17 | S35: =INT(RAND()*5+1)+S34 -> 48 | T35: =INT(S35*$S$40) -> 69 | V35: =IF(INT(T35/10)*10=T35,INT(T35/10)+1,INT(T35/10)+2) -> 8 | W35: =IF(T35-INT(T35/10)*10=0,10,T35-INT(T35/10)*10) -> 9
A36: 10 | B36: =IF(COUNTIF($P$20:$P$39,CONCATENATE(CHAR(CELL("col",B16)+64),CELL("ligne",B16)-6))>0,"",".") -> . | C36: =IF(COUNTIF($P$20:$P$39,CONCATENATE(CHAR(CELL("col",C16)+64),CELL("ligne",C16)-6))>0,"",".") | D36: =IF(COUNTIF($P$20:$P$39,CONCATENATE(CHAR(CELL("col",D16)+64),CELL("ligne",D16)-6))>0,"",".") -> . | E36: =IF(COUNTIF($P$20:$P$39,CONCATENATE(CHAR(CELL("col",E16)+64),CELL("ligne",E16)-6))>0,"",".") -> . | F36: =IF(COUNTIF($P$20:$P$39,CONCATENATE(CHAR(CELL("col",F16)+64),CELL("ligne",F16)-6))>0,"",".") -> . | G36: =IF(COUNTIF($P$20:$P$39,CONCATENATE(CHAR(CELL("col",G16)+64),CELL("ligne",G16)-6))>0,"",".") -> . | H36: =IF(COUNTIF($P$20:$P$39,CONCATENATE(CHAR(CELL("col",H16)+64),CELL("ligne",H16)-6))>0,"",".") -> . | I36: =IF(COUNTIF($P$20:$P$39,CONCATENATE(CHAR(CELL("col",I16)+64),CELL("ligne",I16)-6))>0,"",".") | L36: 17 | M36: =V35 -> 8 | N36: =W35 -> 9 | O36: =CHAR(M36+64) -> H | P36: =CONCATENATE(O36,N36) -> H9 | R36: 18 | S36: =INT(RAND()*5+1)+S35 -> 51 | T36: =INT(S36*$S$40) -> 74 | V36: =IF(INT(T36/10)*10=T36,INT(T36/10)+1,INT(T36/10)+2) -> 9 | W36: =IF(T36-INT(T36/10)*10=0,10,T36-INT(T36/10)*10) -> 4
L37: 18 | M37: =V36 -> 9 | N37: =W36 -> 4 | O37: =CHAR(M37+64) -> I | P37: =CONCATENATE(O37,N37) -> I4 | R37: 19 | S37: =INT(RAND()*5+1)+S36 -> 52 | T37: =INT(S37*$S$40) -> 75 | V37: =IF(INT(T37/10)*10=T37,INT(T37/10)+1,INT(T37/10)+2) -> 9 | W37: =IF(T37-INT(T37/10)*10=0,10,T37-INT(T37/10)*10) -> 5
L38: 19 | M38: =V37 -> 9 | N38: =W37 -> 5 | O38: =CHAR(M38+64) -> I | P38: =CONCATENATE(O38,N38) -> I5 | R38: 20 | S38: =INT(RAND()*5+1)+S37 -> 55 | T38: =INT(S38*$S$40) -> 80 | V38: =IF(INT(T38/10)*10=T38,INT(T38/10)+1,INT(T38/10)+2) -> 9 | W38: =IF(T38-INT(T38/10)*10=0,10,T38-INT(T38/10)*10) -> 10
L39: 20 | M39: =V38 -> 9 | N39: =W38 -> 10 | O39: =CHAR(M39+64) -> I | P39: =CONCATENATE(O39,N39) -> I10
R40: COEFF. REPARTITION : | S40: =(80-INT(RAND()*6))/S38 -> 1.4545455

Sheet Calcul mental (5e 4e 3e)
A2: NOM et PRENOM: | G2: Classe : | L2: NOM et PRENOM: | R2: Classe : | V2: appuyer sur la touche F9 pour générer une nouvelle feuille
A4: CONTRÔLE : CALCUL MENTAL | L4: CONTRÔLE : CALCUL MENTAL
A10: + | B10: =CONCATENATE("opération n° ",CELL("ligne",B10)-9) -> opération n° 1 | D10: =Z15 -> 20 + 95 = | L10: + | M10: =CONCATENATE("opération n° ",CELL("ligne",M10)-9) -> opération n° 1 | O10: =Z15 -> 20 + 95 = | V10: CTRL + P pour lancer l'impression
B11: =CONCATENATE("opération n° ",CELL("ligne",B11)-9) -> opération n° 2 | D11: =Z16 -> 76 + 32 = | M11: =CONCATENATE("opération n° ",CELL("ligne",M11)-9) -> opération n° 2 | O11: =Z16 -> 76 + 32 =
B12: =CONCATENATE("opération n° ",CELL("ligne",B12)-9) -> opération n° 3 | D12: =Z17 -> 42 + 60 = | M12: =CONCATENATE("opération n° ",CELL("ligne",M12)-9) -> opération n° 3 | O12: =Z17 -> 42 + 60 =
B13: =CONCATENATE("opération n° ",CELL("ligne",B13)-9) -> opération n° 4 | D13: =Z18 -> 49 + 11 = | M13: =CONCATENATE("opération n° ",CELL("ligne",M13)-9) -> opération n° 4 | O13: =Z18 -> 49 + 11 = | X13: OPERATIONS :
B14: =CONCATENATE("opération n° ",CELL("ligne",B14)-9) -> opération n° 5 | D14: =Z19 -> 63 + 51 = | M14: =CONCATENATE("opération n° ",CELL("ligne",M14)-9) -> opération n° 5 | O14: =Z19 -> 63 + 51 =
B15: =CONCATENATE("opération n° ",CELL("ligne",B15)-9) -> opération n° 6 | D15: =Z20 -> 70 + 43 = | M15: =CONCATENATE("opération n° ",CELL("ligne",M15)-9) -> opération n° 6 | O15: =Z20 -> 70 + 43 = | V15: 7 additions | W15: =INT(RAND()*90+10) -> 20 | X15: + | Y15: =INT(RAND()*90+10) -> 95 | Z15: =CONCATENATE(W15," ",X15," ",Y15," =") -> 20 + 95 = | AB15: =W15+Y15 -> 115
B16: =CONCATENATE("opération n° ",CELL("ligne",B16)-9) -> opération n° 7 | D16: =Z21 -> 11 + 74 = | M16: =CONCATENATE("opération n° ",CELL("ligne",M16)-9) -> opération n° 7 | O16: =Z21 -> 11 + 74 = | W16: =INT(RAND()*90+10) -> 76 | X16: + | Y16: =INT(RAND()*90+10) -> 32 | Z16: =CONCATENATE(W16," ",X16," ",Y16," =") -> 76 + 32 = | AB16: =W16+Y16 -> 108
A17: - | B17: =CONCATENATE("opération n° ",CELL("ligne",B17)-9) -> opération n° 8 | D17: =Z23 -> 113 - 47 = | L17: - | M17: =CONCATENATE("opération n° ",CELL("ligne",M17)-9) -> opération n° 8 | O17: =Z23 -> 113 - 47 = | W17: =INT(RAND()*90+10) -> 42 | X17: + | Y17: =INT(RAND()*90+10) -> 60 | Z17: =CONCATENATE(W17," ",X17," ",Y17," =") -> 42 + 60 = | AB17: =W17+Y17 -> 102
B18: =CONCATENATE("opération n° ",CELL("ligne",B18)-9) -> opération n° 9 | D18: =Z24 -> 61 - 51 = | M18: =CONCATENATE("opération n° ",CELL("ligne",M18)-9) -> opération n° 9 | O18: =Z24 -> 61 - 51 = | W18: =INT(RAND()*90+10) -> 49 | X18: + | Y18: =INT(RAND()*90+10) -> 11 | Z18: =CONCATENATE(W18," ",X18," ",Y18," =") -> 49 + 11 = | AB18: =W18+Y18 -> 60
B19: =CONCATENATE("opération n° ",CELL("ligne",B19)-9) -> opération n° 10 | D19: =Z25 -> 142 - 98 = | M19: =CONCATENATE("opération n° ",CELL("ligne",M19)-9) -> opération n° 10 | O19: =Z25 -> 142 - 98 = | W19: =INT(RAND()*90+10) -> 63 | X19: + | Y19: =INT(RAND()*90+10) -> 51 | Z19: =CONCATENATE(W19," ",X19," ",Y19," =") -> 63 + 51 = | AB19: =W19+Y19 -> 114
B20: =CONCATENATE("opération n° ",CELL("ligne",B20)-9) -> opération n° 11 | D20: =Z26 -> 41 - 11 = | M20: =CONCATENATE("opération n° ",CELL("ligne",M20)-9) -> opération n° 11 | O20: =Z26 -> 41 - 11 = | W20: =INT(RAND()*90+10) -> 70 | X20: + | Y20: =INT(RAND()*90+10) -> 43 | Z20: =CONCATENATE(W20," ",X20," ",Y20," =") -> 70 + 43 = | AB20: =W20+Y20 -> 113
B21: =CONCATENATE("opération n° ",CELL("ligne",B21)-9) -> opération n° 12 | D21: =Z27 -> 93 - 73 = | M21: =CONCATENATE("opération n° ",CELL("ligne",M21)-9) -> opération n° 12 | O21: =Z27 -> 93 - 73 = | W21: =INT(RAND()*90+10) -> 11 | X21: + | Y21: =INT(RAND()*90+10) -> 74 | Z21: =CONCATENATE(W21," ",X21," ",Y21," =") -> 11 + 74 = | AB21: =W21+Y21 -> 85
B22: =CONCATENATE("opération n° ",CELL("ligne",B22)-9) -> opération n° 13 | D22: =Z28 -> 103 - 66 = | M22: =CONCATENATE("opération n° ",CELL("ligne",M22)-9) -> opération n° 13 | O22: =Z28 -> 103 - 66 =
B23: =CONCATENATE("opération n° ",CELL("ligne",B23)-9) -> opération n° 14 | D23: =Z29 -> 148 - 141 = | M23: =CONCATENATE("opération n° ",CELL("ligne",M23)-9) -> opération n° 14 | O23: =Z29 -> 148 - 141 = | V23: 7 soustractions | W23: =INT(RAND()*140+10) -> 113 | X23: - | Y23: =INT(RAND()*140+10) -> 47 | Z23: =IF(W23>Y23,CONCATENATE(W23," - ",Y23," ="),CONCATENATE(Y23," - ",W23," =")) -> 113 - 47 = | AB23: =IF(W23>Y23,W23-Y23,Y23-W23) -> 66
A24: x | B24: =CONCATENATE("opération n° ",CELL("ligne",B24)-9) -> opération n° 15 | D24: =Z32 -> 14 x 2 = | L24: x | M24: =CONCATENATE("opération n° ",CELL("ligne",M24)-9) -> opération n° 15 | O24: =Z32 -> 14 x 2 = | W24: =INT(RAND()*140+10) -> 61 | X24: - | Y24: =INT(RAND()*140+10) -> 51 | Z24: =IF(W24>Y24,CONCATENATE(W24," - ",Y24," ="),CONCATENATE(Y24," - ",W24," =")) -> 61 - 51 = | AB24: =IF(W24>Y24,W24-Y24,Y24-W24) -> 10
B25: =CONCATENATE("opération n° ",CELL("ligne",B25)-9) -> opération n° 16 | D25: =Z33 -> 57 x 4 = | M25: =CONCATENATE("opération n° ",CELL("ligne",M25)-9) -> opération n° 16 | O25: =Z33 -> 57 x 4 = | W25: =INT(RAND()*140+10) -> 98 | X25: - | Y25: =INT(RAND()*140+10) -> 142 | Z25: =IF(W25>Y25,CONCATENATE(W25," - ",Y25," ="),CONCATENATE(Y25," - ",W25," =")) -> 142 - 98 = | AB25: =IF(W25>Y25,W25-Y25,Y25-W25) -> 44
B26: =CONCATENATE("opération n° ",CELL("ligne",B26)-9) -> opération n° 17 | D26: =Z34 -> 71 x 5 = | M26: =CONCATENATE("opération n° ",CELL("ligne",M26)-9) -> opération n° 17 | O26: =Z34 -> 71 x 5 = | W26: =INT(RAND()*140+10) -> 41 | X26: - | Y26: =INT(RAND()*140+10) -> 11 | Z26: =IF(W26>Y26,CONCATENATE(W26," - ",Y26," ="),CONCATENATE(Y26," - ",W26," =")) -> 41 - 11 = | AB26: =IF(W26>Y26,W26-Y26,Y26-W26) -> 30
B27: =CONCATENATE("opération n° ",CELL("ligne",B27)-9) -> opération n° 18 | D27: =Z35 -> 50 x 5 = | M27: =CONCATENATE("opération n° ",CELL("ligne",M27)-9) -> opération n° 18 | O27: =Z35 -> 50 x 5 = | W27: =INT(RAND()*140+10) -> 73 | X27: - | Y27: =INT(RAND()*140+10) -> 93 | Z27: =IF(W27>Y27,CONCATENATE(W27," - ",Y27," ="),CONCATENATE(Y27," - ",W27," =")) -> 93 - 73 = | AB27: =IF(W27>Y27,W27-Y27,Y27-W27) -> 20
B28: =CONCATENATE("opération n° ",CELL("ligne",B28)-9) -> opération n° 19 | D28: =Z36 -> 90 x 2 = | M28: =CONCATENATE("opération n° ",CELL("ligne",M28)-9) -> opération n° 19 | O28: =Z36 -> 90 x 2 = | W28: =INT(RAND()*140+10) -> 66 | X28: - | Y28: =INT(RAND()*140+10) -> 103 | Z28: =IF(W28>Y28,CONCATENATE(W28," - ",Y28," ="),CONCATENATE(Y28," - ",W28," =")) -> 103 - 66 = | AB28: =IF(W28>Y28,W28-Y28,Y28-W28) -> 37
B29: =CONCATENATE("opération n° ",CELL("ligne",B29)-9) -> opération n° 20 | D29: =Z37 -> 13 x 5 = | M29: =CONCATENATE("opération n° ",CELL("ligne",M29)-9) -> opération n° 20 | O29: =Z37 -> 13 x 5 = | W29: =INT(RAND()*140+10) -> 141 | X29: - | Y29: =INT(RAND()*140+10) -> 148 | Z29: =IF(W29>Y29,CONCATENATE(W29," - ",Y29," ="),CONCATENATE(Y29," - ",W29," =")) -> 148 - 141 = | AB29: =IF(W29>Y29,W29-Y29,Y29-W29) -> 7
V32: 6 multiplications | W32: =INT(RAND()*90+10) -> 14 | X32: x | Y32: =INT(RAND()*4+2) -> 2 | Z32: =CONCATENATE(W32," ",X32," ",Y32," =") -> 14 x 2 = | AB32: =W32*Y32 -> 28
W33: =INT(RAND()*90+10) -> 57 | X33: x | Y33: =INT(RAND()*4+2) -> 4 | Z33: =CONCATENATE(W33," ",X33," ",Y33," =") -> 57 x 4 = | AB33: =W33*Y33 -> 228
W34: =INT(RAND()*90+10) -> 71 | X34: x | Y34: =INT(RAND()*4+2) -> 5 | Z34: =CONCATENATE(W34," ",X34," ",Y34," =") -> 71 x 5 = | AB34: =W34*Y34 -> 355
W35: =INT(RAND()*90+10) -> 50 | X35: x | Y35: =INT(RAND()*4+2) -> 5 | Z35: =CONCATENATE(W35," ",X35," ",Y35," =") -> 50 x 5 = | AB35: =W35*Y35 -> 250
A36: NOM et PRENOM: | G36: Classe : | L36: NOM et PRENOM: | R36: Classe : | W36: =INT(RAND()*90+10) -> 90 | X36: x | Y36: =INT(RAND()*4+2) -> 2 | Z36: =CONCATENATE(W36," ",X36," ",Y36," =") -> 90 x 2 = | AB36: =W36*Y36 -> 180
W37: =INT(RAND()*90+10) -> 13 | X37: x | Y37: =INT(RAND()*4+2) -> 5 | Z37: =CONCATENATE(W37," ",X37," ",Y37," =") -> 13 x 5 = | AB37: =W37*Y37 -> 65
A38: CONTRÔLE : CALCUL MENTAL | L38: CONTRÔLE : CALCUL MENTAL
A43: + | B43: =CONCATENATE("opération n° ",CELL("ligne",B43)-42) -> opération n° 1 | D43: =Z15 -> 20 + 95 = | L43: + | M43: =CONCATENATE("opération n° ",CELL("ligne",M43)-42) -> opération n° 1 | O43: =Z15 -> 20 + 95 =
B44: =CONCATENATE("opération n° ",CELL("ligne",B44)-42) -> opération n° 2 | D44: =Z16 -> 76 + 32 = | M44: =CONCATENATE("opération n° ",CELL("ligne",M44)-42) -> opération n° 2 | O44: =Z16 -> 76 + 32 =
B45: =CONCATENATE("opération n° ",CELL("ligne",B45)-42) -> opération n° 3 | D45: =Z17 -> 42 + 60 = | M45: =CONCATENATE("opération n° ",CELL("ligne",M45)-42) -> opération n° 3 | O45: =Z17 -> 42 + 60 =
B46: =CONCATENATE("opération n° ",CELL("ligne",B46)-42) -> opération n° 4 | D46: =Z18 -> 49 + 11 = | M46: =CONCATENATE("opération n° ",CELL("ligne",M46)-42) -> opération n° 4 | O46: =Z18 -> 49 + 11 =
B47: =CONCATENATE("opération n° ",CELL("ligne",B47)-42) -> opération n° 5 | D47: =Z19 -> 63 + 51 = | M47: =CONCATENATE("opération n° ",CELL("ligne",M47)-42) -> opération n° 5 | O47: =Z19 -> 63 + 51 =
B48: =CONCATENATE("opération n° ",CELL("ligne",B48)-42) -> opération n° 6 | D48: =Z20 -> 70 + 43 = | M48: =CONCATENATE("opération n° ",CELL("ligne",M48)-42) -> opération n° 6 | O48: =Z20 -> 70 + 43 =
B49: =CONCATENATE("opération n° ",CELL("ligne",B49)-42) -> opération n° 7 | D49: =Z21 -> 11 + 74 = | M49: =CONCATENATE("opération n° ",CELL("ligne",M49)-42) -> opération n° 7 | O49: =Z21 -> 11 + 74 =
A50: - | B50: =CONCATENATE("opération n° ",CELL("ligne",B50)-42) -> opération n° 8 | D50: =Z23 -> 113 - 47 = | L50: - | M50: =CONCATENATE("opération n° ",CELL("ligne",M50)-42) -> opération n° 8 | O50: =Z23 -> 113 - 47 =
B51: =CONCATENATE("opération n° ",CELL("ligne",B51)-42) -> opération n° 9 | D51: =Z24 -> 61 - 51 = | M51: =CONCATENATE("opération n° ",CELL("ligne",M51)-42) -> opération n° 9 | O51: =Z24 -> 61 - 51 =
B52: =CONCATENATE("opération n° ",CELL("ligne",B52)-42) -> opération n° 10 | D52: =Z25 -> 142 - 98 = | M52: =CONCATENATE("opération n° ",CELL("ligne",M52)-42) -> opération n° 10 | O52: =Z25 -> 142 - 98 =
B53: =CONCATENATE("opération n° ",CELL("ligne",B53)-42) -> opération n° 11 | D53: =Z26 -> 41 - 11 = | M53: =CONCATENATE("opération n° ",CELL("ligne",M53)-42) -> opération n° 11 | O53: =Z26 -> 41 - 11 =
B54: =CONCATENATE("opération n° ",CELL("ligne",B54)-42) -> opération n° 12 | D54: =Z27 -> 93 - 73 = | M54: =CONCATENATE("opération n° ",CELL("ligne",M54)-42) -> opération n° 12 | O54: =Z27 -> 93 - 73 =
B55: =CONCATENATE("opération n° ",CELL("ligne",B55)-42) -> opération n° 13 | D55: =Z28 -> 103 - 66 = | M55: =CONCATENATE("opération n° ",CELL("ligne",M55)-42) -> opération n° 13 | O55: =Z28 -> 103 - 66 =
B56: =CONCATENATE("opération n° ",CELL("ligne",B56)-42) -> opération n° 14 | D56: =Z29 -> 148 - 141 = | M56: =CONCATENATE("opération n° ",CELL("ligne",M56)-42) -> opération n° 14 | O56: =Z29 -> 148 - 141 =
A57: x | B57: =CONCATENATE("opération n° ",CELL("ligne",B57)-42) -> opération n° 15 | D57: =Z32 -> 14 x 2 = | L57: x | M57: =CONCATENATE("opération n° ",CELL("ligne",M57)-42) -> opération n° 15 | O57: =Z32 -> 14 x 2 =
B58: =CONCATENATE("opération n° ",CELL("ligne",B58)-42) -> opération n° 16 | D58: =Z33 -> 57 x 4 = | M58: =CONCATENATE("opération n° ",CELL("ligne",M58)-42) -> opération n° 16 | O58: =Z33 -> 57 x 4 =
B59: =CONCATENATE("opération n° ",CELL("ligne",B59)-42) -> opération n° 17 | D59: =Z34 -> 71 x 5 = | M59: =CONCATENATE("opération n° ",CELL("ligne",M59)-42) -> opération n° 17 | O59: =Z34 -> 71 x 5 =
B60: =CONCATENATE("opération n° ",CELL("ligne",B60)-42) -> opération n° 18 | D60: =Z35 -> 50 x 5 = | M60: =CONCATENATE("opération n° ",CELL("ligne",M60)-42) -> opération n° 18 | O60: =Z35 -> 50 x 5 =
B61: =CONCATENATE("opération n° ",CELL("ligne",B61)-42) -> opération n° 19 | D61: =Z36 -> 90 x 2 = | M61: =CONCATENATE("opération n° ",CELL("ligne",M61)-42) -> opération n° 19 | O61: =Z36 -> 90 x 2 =
B62: =CONCATENATE("opération n° ",CELL("ligne",B62)-42) -> opération n° 20 | D62: =Z37 -> 13 x 5 = | M62: =CONCATENATE("opération n° ",CELL("ligne",M62)-42) -> opération n° 20 | O62: =Z37 -> 13 x 5 =
A67: CORRECTION
A69: CONTRÔLE : CALCUL MENTAL
A74: + | B74: =CONCATENATE("opération n° ",CELL("ligne",B74)-73) -> opération n° 1 | D74: =Z15 -> 20 + 95 = | F74: =AB15 -> 115
B75: =CONCATENATE("opération n° ",CELL("ligne",B75)-73) -> opération n° 2 | D75: =Z16 -> 76 + 32 = | F75: =AB16 -> 108
B76: =CONCATENATE("opération n° ",CELL("ligne",B76)-73) -> opération n° 3 | D76: =Z17 -> 42 + 60 = | F76: =AB17 -> 102
B77: =CONCATENATE("opération n° ",CELL("ligne",B77)-73) -> opération n° 4 | D77: =Z18 -> 49 + 11 = | F77: =AB18 -> 60
B78: =CONCATENATE("opération n° ",CELL("ligne",B78)-73) -> opération n° 5 | D78: =Z19 -> 63 + 51 = | F78: =AB19 -> 114
B79: =CONCATENATE("opération n° ",CELL("ligne",B79)-73) -> opération n° 6 | D79: =Z20 -> 70 + 43 = | F79: =AB20 -> 113
B80: =CONCATENATE("opération n° ",CELL("ligne",B80)-73) -> opération n° 7 | D80: =Z21 -> 11 + 74 = | F80: =AB21 -> 85
A81: - | B81: =CONCATENATE("opération n° ",CELL("ligne",B81)-73) -> opération n° 8 | D81: =Z23 -> 113 - 47 = | F81: =AB23 -> 66
B82: =CONCATENATE("opération n° ",CELL("ligne",B82)-73) -> opération n° 9 | D82: =Z24 -> 61 - 51 = | F82: =AB24 -> 10
B83: =CONCATENATE("opération n° ",CELL("ligne",B83)-73) -> opération n° 10 | D83: =Z25 -> 142 - 98 = | F83: =AB25 -> 44
B84: =CONCATENATE("opération n° ",CELL("ligne",B84)-73) -> opération n° 11 | D84: =Z26 -> 41 - 11 = | F84: =AB26 -> 30
B85: =CONCATENATE("opération n° ",CELL("ligne",B85)-73) -> opération n° 12 | D85: =Z27 -> 93 - 73 = | F85: =AB27 -> 20
B86: =CONCATENATE("opération n° ",CELL("ligne",B86)-73) -> opération n° 13 | D86: =Z28 -> 103 - 66 = | F86: =AB28 -> 37
B87: =CONCATENATE("opération n° ",CELL("ligne",B87)-73) -> opération n° 14 | D87: =Z29 -> 148 - 141 = | F87: =AB29 -> 7
A88: x | B88: =CONCATENATE("opération n° ",CELL("ligne",B88)-73) -> opération n° 15 | D88: =Z32 -> 14 x 2 = | F88: =AB32 -> 28
B89: =CONCATENATE("opération n° ",CELL("ligne",B89)-73) -> opération n° 16 | D89: =Z33 -> 57 x 4 = | F89: =AB33 -> 228
B90: =CONCATENATE("opération n° ",CELL("ligne",B90)-73) -> opération n° 17 | D90: =Z34 -> 71 x 5 = | F90: =AB34 -> 355
B91: =CONCATENATE("opération n° ",CELL("ligne",B91)-73) -> opération n° 18 | D91: =Z35 -> 50 x 5 = | F91: =AB35 -> 250
B92: =CONCATENATE("opération n° ",CELL("ligne",B92)-73) -> opération n° 19 | D92: =Z36 -> 90 x 2 = | F92: =AB36 -> 180
B93: =CONCATENATE("opération n° ",CELL("ligne",B93)-73) -> opération n° 20 | D93: =Z37 -> 13 x 5 = | F93: =AB37 -> 65

Sheet Fractions (5e 4e 3e)
B1: NOM et PRENOM : | G1: Classe : | J1: NOM et PRENOM : | O1: Classe :
AA2: OPERATIONS GENEREES ALEATOIREMENT (NE PAS MODIFIER)
B3: CONTRÔLE : Calcul de fractions | J3: CONTRÔLE : Calcul de fractions
S4: Choix des opérations : | AA4: Liste des opérations : | AC4: 10 ADDITIONS | AG4: résultats: | AI4: 10 SOUSTRACT° | AM4: Dans le bon sens | AP4: résultats: | AS4: Listing des opérations pour le tirage
B5: Opération n° 1 | C5: =VLOOKUP(INT($Z13),$AS$5:$BB$44,3) -> 2 | D5: =VLOOKUP(INT($Z13),$AS$5:$BB$44,5) -> + | E5: =VLOOKUP(INT($Z13),$AS$5:$BB$44,6) -> 4 | J5: Opération n° 1 | K5: =C5 -> 2 | L5: =D5 -> + | M5: =E5 -> 4 | AA5: + | AC5: opération 1 | AD5: =IF(AC6=0,INT(RAND()*8+2),INT(RAND()*28+2)) -> 2 | AE5: + | AF5: =IF(AC6=1,INT(RAND()*8+2),INT(RAND()*28+2)) -> 4 | AG5: =IF(AC6=0,AD5*(AF6/AD6)+AF5,AF5*(AD6/AF6)+AD5) -> 14 | AI5: opération 1 | AJ5: =IF(AI6=0,INT(RAND()*8+2),INT(RAND()*28+2)) -> 24 | AK5: - | AL5: =IF(AI6=1,INT(RAND()*8+2),INT(RAND()*28+2)) -> 5 | AM5: =IF(AJ5/AJ6>AL5/AL6,AJ5,AL5) -> 5 | AO5: =IF(AJ5/AJ6>AL5/AL6,AL5,AJ5) -> 24 | AP5: =IF(AO6>AM6,AM5*(AO6/AM6)-AO5,AM5-AO5*(AM6/AO6)) -> 11 | AS5: 1 | AT5: A1 | AU5: =AD5 -> 2 | AV5: =AD6 -> 3 | AW5: =AE5 -> + | AX5: =AF5 -> 4 | AY5: =AF6 -> 15 | AZ5: ="=" -> = | BA5: =AG5 -> 14 | BB5: =AG6 -> 15
C6: ― | D6: =VLOOKUP(INT($Z$13),$AS$5:$BB$44,3) -> 2 | E6: ― | F6: = | K6: ― | L6: =D6 -> 2 | M6: ― | N6: = | S6: Nombres de + | U6: 4 | AA6: - | AC6: =INT(RAND()*2) -> 0 | AD6: =IF(AC6=0,INT(RAND()*8+2),INT(RAND()*8+2)*AF6) -> 3 | AF6: =IF(AC6=1,INT(RAND()*8+2),INT(RAND()*8+2)*AD6) -> 15 | AG6: =IF(AC6=1,AD6,AF6) -> 15 | AI6: =INT(RAND()*2) -> 1 | AJ6: =IF(AI6=0,INT(RAND()*8+2),INT(RAND()*8+2)*AL6) -> 42 | AL6: =IF(AI6=1,INT(RAND()*8+2),INT(RAND()*8+2)*AJ6) -> 6 | AM6: =IF(AJ5/AJ6>AL5/AL6,AJ6,AL6) -> 6 | AO6: =IF(AJ5/AJ6>AL5/AL6,AL6,AJ6) -> 42 | AP6: =IF(AM6>AO6,AM6,AO6) -> 42 | AS6: 2 | AT6: A2 | AU6: =AD7 -> 5 | AV6: =AD8 -> 9 | AW6: =AE7 -> + | AX6: =AF7 -> 29 | AY6: =AF8 -> 36 | AZ6: ="=" -> = | BA6: =AG7 -> 49 | BB6: =AG8 -> 36
C7: =VLOOKUP(INT($Z13),$AS$5:$BB$44,4) -> 3 | D7: =VLOOKUP(INT($Z$13),$AS$5:$BB$44,3) -> 2 | E7: =VLOOKUP(INT($Z13),$AS$5:$BB$44,7) -> 15 | K7: =C7 -> 3 | L7: =D7 -> 2 | M7: =E7 -> 15 | S7: Nombres de - | U7: 3 | AA7: × | AC7: opération 2 | AD7: =IF(AC8=0,INT(RAND()*8+2),INT(RAND()*28+2)) -> 5 | AE7: + | AF7: =IF(AC8=1,INT(RAND()*8+2),INT(RAND()*28+2)) -> 29 | AG7: =IF(AC8=0,AD7*(AF8/AD8)+AF7,AF7*(AD8/AF8)+AD7) -> 49 | AI7: opération 2 | AJ7: =IF(AI8=0,INT(RAND()*8+2),INT(RAND()*28+2)) -> 2 | AK7: - | AL7: =IF(AI8=1,INT(RAND()*8+2),INT(RAND()*28+2)) -> 27 | AM7: =IF(AJ7/AJ8>AL7/AL8,AJ7,AL7) -> 27 | AO7: =IF(AJ7/AJ8>AL7/AL8,AL7,AJ7) -> 2 | AP7: =IF(AO8>AM8,AM7*(AO8/AM8)-AO7,AM7-AO7*(AM8/AO8)) -> 17 | AS7: 3 | AT7: A3 | AU7: =AD9 -> 19 | AV7: =AD10 -> 72 | AW7: =AE9 -> + | AX7: =AF9 -> 5 | AY7: =AF10 -> 8 | AZ7: ="=" -> = | BA7: =AG9 -> 64 | BB7: =AG10 -> 72
B8: Opération n° 2 | C8: =VLOOKUP(INT($Z14),$AS$5:$BB$44,3) -> 27 | D8: =VLOOKUP(INT($Z14),$AS$5:$BB$44,5) -> - | E8: =VLOOKUP(INT($Z14),$AS$5:$BB$44,6) -> 2 | J8: Opération n° 2 | K8: =C8 -> 27 | L8: =D8 -> - | M8: =E8 -> 2 | S8: Nombres de × | U8: 1 | AA8: ÷ | AC8: =INT(RAND()*2) -> 0 | AD8: =IF(AC8=0,INT(RAND()*8+2),INT(RAND()*8+2)*AF8) -> 9 | AF8: =IF(AC8=1,INT(RAND()*8+2),INT(RAND()*8+2)*AD8) -> 36 | AG8: =IF(AC8=1,AD8,AF8) -> 36 | AI8: =INT(RAND()*2) -> 0 | AJ8: =IF(AI8=0,INT(RAND()*8+2),INT(RAND()*8+2)*AL8) -> 7 | AL8: =IF(AI8=1,INT(RAND()*8+2),INT(RAND()*8+2)*AJ8) -> 35 | AM8: =IF(AJ7/AJ8>AL7/AL8,AJ8,AL8) -> 35 | AO8: =IF(AJ7/AJ8>AL7/AL8,AL8,AJ8) -> 7 | AP8: =IF(AM8>AO8,AM8,AO8) -> 35 | AS8: 4 | AT8: A4 | AU8: =AD11 -> 9 | AV8: =AD12 -> 8 | AW8: =AE11 -> + | AX8: =AF11 -> 24 | AY8: =AF12 -> 32 | AZ8: ="=" -> = | BA8: =AG11 -> 60 | BB8: =AG12 -> 32
C9: ― | D9: =VLOOKUP(INT($Z$13),$AS$5:$BB$44,3) -> 2 | E9: ― | F9: = | K9: ― | L9: =D9 -> 2 | M9: ― | N9: = | S9: Nombres de ÷ | U9: 2 | AC9: opération 3 | AD9: =IF(AC10=0,INT(RAND()*8+2),INT(RAND()*28+2)) -> 19 | AE9: + | AF9: =IF(AC10=1,INT(RAND()*8+2),INT(RAND()*28+2)) -> 5 | AG9: =IF(AC10=0,AD9*(AF10/AD10)+AF9,AF9*(AD10/AF10)+AD9) -> 64 | AI9: opération 3 | AJ9: =IF(AI10=0,INT(RAND()*8+2),INT(RAND()*28+2)) -> 4 | AK9: - | AL9: =IF(AI10=1,INT(RAND()*8+2),INT(RAND()*28+2)) -> 2 | AM9: =IF(AJ9/AJ10>AL9/AL10,AJ9,AL9) -> 2 | AO9: =IF(AJ9/AJ10>AL9/AL10,AL9,AJ9) -> 4 | AP9: =IF(AO10>AM10,AM9*(AO10/AM10)-AO9,AM9-AO9*(AM10/AO10)) -> 12 | AS9: 5 | AT9: A5 | AU9: =AD13 -> 3 | AV9: =AD14 -> 9 | AW9: =AE13 -> + | AX9: =AF13 -> 5 | AY9: =AF14 -> 36 | AZ9: ="=" -> = | BA9: =AG13 -> 17 | BB9: =AG14 -> 36
C10: =VLOOKUP(INT($Z14),$AS$5:$BB$44,4) -> 35 | D10: =VLOOKUP(INT($Z$13),$AS$5:$BB$44,3) -> 2 | E10: =VLOOKUP(INT($Z14),$AS$5:$BB$44,7) -> 7 | K10: =C10 -> 35 | L10: =D10 -> 2 | M10: =E10 -> 7 | S10: TOTAL = | U10: =SUM(U6:U9) -> 10 | AC10: =INT(RAND()*2) -> 1 | AD10: =IF(AC10=0,INT(RAND()*8+2),INT(RAND()*8+2)*AF10) -> 72 | AF10: =IF(AC10=1,INT(RAND()*8+2),INT(RAND()*8+2)*AD10) -> 8 | AG10: =IF(AC10=1,AD10,AF10) -> 72 | AI10: =INT(RAND()*2) -> 1 | AJ10: =IF(AI10=0,INT(RAND()*8+2),INT(RAND()*8+2)*AL10) -> 40 | AL10: =IF(AI10=1,INT(RAND()*8+2),INT(RAND()*8+2)*AJ10) -> 5 | AM10: =IF(AJ9/AJ10>AL9/AL10,AJ10,AL10) -> 5 | AO10: =IF(AJ9/AJ10>AL9/AL10,AL10,AJ10) -> 40 | AP10: =IF(AM10>AO10,AM10,AO10) -> 40 | AS10: 6 | AT10: A6 | AU10: =AD15 -> 4 | AV10: =AD16 -> 5 | AW10: =AE15 -> + | AX10: =AF15 -> 13 | AY10: =AF16 -> 40 | AZ10: ="=" -> = | BA10: =AG15 -> 45 | BB10: =AG16 -> 40
B11: Opération n° 3 | C11: =VLOOKUP(INT($Z15),$AS$5:$BB$44,3) -> 2 | D11: =VLOOKUP(INT($Z15),$AS$5:$BB$44,5) -> - | E11: =VLOOKUP(INT($Z15),$AS$5:$BB$44,6) -> 4 | J11: Opération n° 3 | K11: =C11 -> 2 | L11: =D11 -> - | M11: =E11 -> 4 | AC11: opération 4 | AD11: =IF(AC12=0,INT(RAND()*8+2),INT(RAND()*28+2)) -> 9 | AE11: + | AF11: =IF(AC12=1,INT(RAND()*8+2),INT(RAND()*28+2)) -> 24 | AG11: =IF(AC12=0,AD11*(AF12/AD12)+AF11,AF11*(AD12/AF12)+AD11) -> 60 | AI11: opération 4 | AJ11: =IF(AI12=0,INT(RAND()*8+2),INT(RAND()*28+2)) -> 9 | AK11: - | AL11: =IF(AI12=1,INT(RAND()*8+2),INT(RAND()*28+2)) -> 18 | AM11: =IF(AJ11/AJ12>AL11/AL12,AJ11,AL11) -> 9 | AO11: =IF(AJ11/AJ12>AL11/AL12,AL11,AJ11) -> 18 | AP11: =IF(AO12>AM12,AM11*(AO12/AM12)-AO11,AM11-AO11*(AM12/AO12)) -> 18 | AS11: 7 | AT11: A7 | AU11: =AD17 -> 5 | AV11: =AD18 -> 6 | AW11: =AE17 -> + | AX11: =AF17 -> 14 | AY11: =AF18 -> 54 | AZ11: ="=" -> = | BA11: =AG17 -> 59 | BB11: =AG18 -> 54
C12: ― | D12: =VLOOKUP(INT($Z$13),$AS$5:$BB$44,3) -> 2 | E12: ― | F12: = | K12: ― | L12: =D12 -> 2 | M12: ― | N12: = | S12: RECHERCHE des opérations | X12: Mélange des opérations | AC12: =INT(RAND()*2) -> 0 | AD12: =IF(AC12=0,INT(RAND()*8+2),INT(RAND()*8+2)*AF12) -> 8 | AF12: =IF(AC12=1,INT(RAND()*8+2),INT(RAND()*8+2)*AD12) -> 32 | AG12: =IF(AC12=1,AD12,AF12) -> 32 | AI12: =INT(RAND()*2) -> 0 | AJ12: =IF(AI12=0,INT(RAND()*8+2),INT(RAND()*8+2)*AL12) -> 4 | AL12: =IF(AI12=1,INT(RAND()*8+2),INT(RAND()*8+2)*AJ12) -> 16 | AM12: =IF(AJ11/AJ12>AL11/AL12,AJ12,AL12) -> 4 | AO12: =IF(AJ11/AJ12>AL11/AL12,AL12,AJ12) -> 16 | AP12: =IF(AM12>AO12,AM12,AO12) -> 16 | AS12: 8 | AT12: A8 | AU12: =AD19 -> 14 | AV12: =AD20 -> 20 | AW12: =AE19 -> + | AX12: =AF19 -> 2 | AY12: =AF20 -> 5 | AZ12: ="=" -> = | BA12: =AG19 -> 22 | BB12: =AG20 -> 20
C13: =VLOOKUP(INT($Z15),$AS$5:$BB$44,4) -> 5 | D13: =VLOOKUP(INT($Z$13),$AS$5:$BB$44,3) -> 2 | E13: =VLOOKUP(INT($Z15),$AS$5:$BB$44,7) -> 40 | K13: =C13 -> 5 | L13: =D13 -> 2 | M13: =E13 -> 40 | S13: 1 | T13: =IF($U$6>(S13-1),AT5,"") -> A1 | U13: =IF(S13>$U$6,IF(S13>($U$7+$U$6),IF(S13>($U$7+$U$6+$U$8),IF(S13>($U$7+$U$6+$U$8+$U$9),"",OFFSET(T13,(10-$U$6)+(10-$U$7)+(10-$U$8),0,1,1)),OFFSET(T13,(10-$U$6)+(10-$U$7),0,1,1)),OFFSET(T13,10-$U$6,0,1,1)),T13) -> A1 | X13: =U13 -> A1 | Z13: =IF(RIGHT(X13)="0",IF(LEFT(X13)="A",10,IF(LEFT(X13)="M",30,IF(LEFT(X13)="S",20,40))),IF(LEFT(X13)="A",RIGHT(X13),IF(LEFT(X13)="M",RIGHT(X13)+20,IF(LEFT(X13)="S",RIGHT(X13)+10,RIGHT(X13)+30)))) -> 1 | AC13: opération 5 | AD13: =IF(AC14=0,INT(RAND()*8+2),INT(RAND()*28+2)) -> 3 | AE13: + | AF13: =IF(AC14=1,INT(RAND()*8+2),INT(RAND()*28+2)) -> 5 | AG13: =IF(AC14=0,AD13*(AF14/AD14)+AF13,AF13*(AD14/AF14)+AD13) -> 17 | AI13: opération 5 | AJ13: =IF(AI14=0,INT(RAND()*8+2),INT(RAND()*28+2)) -> 8 | AK13: - | AL13: =IF(AI14=1,INT(RAND()*8+2),INT(RAND()*28+2)) -> 25 | AM13: =IF(AJ13/AJ14>AL13/AL14,AJ13,AL13) -> 8 | AO13: =IF(AJ13/AJ14>AL13/AL14,AL13,AJ13) -> 25 | AP13: =IF(AO14>AM14,AM13*(AO14/AM14)-AO13,AM13-AO13*(AM14/AO14)) -> 7 | AS13: 9 | AT13: A9 | AU13: =AD21 -> 28 | AV13: =AD22 -> 63 | AW13: =AE21 -> + | AX13: =AF21 -> 9 | AY13: =AF22 -> 9 | AZ13: ="=" -> = | BA13: =AG21 -> 91 | BB13: =AG22 -> 63
B14: Opération n° 4 | C14: =VLOOKUP(INT($Z16),$AS$5:$BB$44,3) -> 19 | D14: =VLOOKUP(INT($Z16),$AS$5:$BB$44,5) -> + | E14: =VLOOKUP(INT($Z16),$AS$5:$BB$44,6) -> 5 | J14: Opération n° 4 | K14: =C14 -> 19 | L14: =D14 -> + | M14: =E14 -> 5 | S14: 2 | T14: =IF($U$6>(S14-1),AT6,"") -> A2 | U14: =IF(S14>$U$6,IF(S14>($U$7+$U$6),IF(S14>($U$7+$U$6+$U$8),IF(S14>($U$7+$U$6+$U$8+$U$9),"",OFFSET(T14,(10-$U$6)+(10-$U$7)+(10-$U$8),0,1,1)),OFFSET(T14,(10-$U$6)+(10-$U$7),0,1,1)),OFFSET(T14,10-$U$6,0,1,1)),T14) -> A2 | X14: =U18 -> S2 | Z14: =IF(RIGHT(X14)="0",IF(LEFT(X14)="A",10,IF(LEFT(X14)="M",30,IF(LEFT(X14)="S",20,40))),IF(LEFT(X14)="A",RIGHT(X14),IF(LEFT(X14)="M",RIGHT(X14)+20,IF(LEFT(X14)="S",RIGHT(X14)+10,RIGHT(X14)+30)))) -> 12 | AC14: =INT(RAND()*2) -> 0 | AD14: =IF(AC14=0,INT(RAND()*8+2),INT(RAND()*8+2)*AF14) -> 9 | AF14: =IF(AC14=1,INT(RAND()*8+2),INT(RAND()*8+2)*AD14) -> 36 | AG14: =IF(AC14=1,AD14,AF14) -> 36 | AI14: =INT(RAND()*2) -> 0 | AJ14: =IF(AI14=0,INT(RAND()*8+2),INT(RAND()*8+2)*AL14) -> 7 | AL14: =IF(AI14=1,INT(RAND()*8+2),INT(RAND()*8+2)*AJ14) -> 28 | AM14: =IF(AJ13/AJ14>AL13/AL14,AJ14,AL14) -> 7 | AO14: =IF(AJ13/AJ14>AL13/AL14,AL14,AJ14) -> 28 | AP14: =IF(AM14>AO14,AM14,AO14) -> 28 | AS14: 10 | AT14: A10 | AU14: =AD23 -> 10 | AV14: =AD24 -> 42 | AW14: =AE23 -> + | AX14: =AF23 -> 3 | AY14: =AF24 -> 7 | AZ14: ="=" -> = | BA14: =AG23 -> 28 | BB14: =AG24 -> 42
C15: ― | D15: =VLOOKUP(INT($Z$13),$AS$5:$BB$44,3) -> 2 | E15: ― | F15: = | K15: ― | L15: =D15 -> 2 | M15: ― | N15: = | S15: 3 | T15: =IF($U$6>(S15-1),AT7,"") -> A3 | U15: =IF(S15>$U$6,IF(S15>($U$7+$U$6),IF(S15>($U$7+$U$6+$U$8),IF(S15>($U$7+$U$6+$U$8+$U$9),"",OFFSET(T15,(10-$U$6)+(10-$U$7)+(10-$U$8),0,1,1)),OFFSET(T15,(10-$U$6)+(10-$U$7),0,1,1)),OFFSET(T15,10-$U$6,0,1,1)),T15) -> A3 | X15: =U19 -> S3 | Z15: =IF(RIGHT(X15)="0",IF(LEFT(X15)="A",10,IF(LEFT(X15)="M",30,IF(LEFT(X15)="S",20,40))),IF(LEFT(X15)="A",RIGHT(X15),IF(LEFT(X15)="M",RIGHT(X15)+20,IF(LEFT(X15)="S",RIGHT(X15)+10,RIGHT(X15)+30)))) -> 13 | AC15: opération 6 | AD15: =IF(AC16=0,INT(RAND()*8+2),INT(RAND()*28+2)) -> 4 | AE15: + | AF15: =IF(AC16=1,INT(RAND()*8+2),INT(RAND()*28+2)) -> 13 | AG15: =IF(AC16=0,AD15*(AF16/AD16)+AF15,AF15*(AD16/AF16)+AD15) -> 45 | AI15: opération 6 | AJ15: =IF(AI16=0,INT(RAND()*8+2),INT(RAND()*28+2)) -> 8 | AK15: - | AL15: =IF(AI16=1,INT(RAND()*8+2),INT(RAND()*28+2)) -> 7 | AM15: =IF(AJ15/AJ16>AL15/AL16,AJ15,AL15) -> 8 | AO15: =IF(AJ15/AJ16>AL15/AL16,AL15,AJ15) -> 7 | AP15: =IF(AO16>AM16,AM15*(AO16/AM16)-AO15,AM15-AO15*(AM16/AO16)) -> 57 | AS15: 11 | AT15: S1 | AU15: =AM5 -> 5 | AV15: =AM6 -> 6 | AW15: =AK5 -> - | AX15: =AO5 -> 24 | AY15: =AO6 -> 42 | AZ15: ="=" -> = | BA15: =AP5 -> 11 | BB15: =AP6 -> 42
C16: =VLOOKUP(INT($Z16),$AS$5:$BB$44,4) -> 72 | D16: =VLOOKUP(INT($Z$13),$AS$5:$BB$44,3) -> 2 | E16: =VLOOKUP(INT($Z16),$AS$5:$BB$44,7) -> 8 | K16: =C16 -> 72 | L16: =D16 -> 2 | M16: =E16 -> 8 | S16: 4 | T16: =IF($U$6>(S16-1),AT8,"") -> A4 | U16: =IF(S16>$U$6,IF(S16>($U$7+$U$6),IF(S16>($U$7+$U$6+$U$8),IF(S16>($U$7+$U$6+$U$8+$U$9),"",OFFSET(T16,(10-$U$6)+(10-$U$7)+(10-$U$8),0,1,1)),OFFSET(T16,(10-$U$6)+(10-$U$7),0,1,1)),OFFSET(T16,10-$U$6,0,1,1)),T16) -> A4 | X16: =U15 -> A3 | Z16: =IF(RIGHT(X16)="0",IF(LEFT(X16)="A",10,IF(LEFT(X16)="M",30,IF(LEFT(X16)="S",20,40))),IF(LEFT(X16)="A",RIGHT(X16),IF(LEFT(X16)="M",RIGHT(X16)+20,IF(LEFT(X16)="S",RIGHT(X16)+10,RIGHT(X16)+30)))) -> 3 | AC16: =INT(RAND()*2) -> 0 | AD16: =IF(AC16=0,INT(RAND()*8+2),INT(RAND()*8+2)*AF16) -> 5 | AF16: =IF(AC16=1,INT(RAND()*8+2),INT(RAND()*8+2)*AD16) -> 40 | AG16: =IF(AC16=1,AD16,AF16) -> 40 | AI16: =INT(RAND()*2) -> 0 | AJ16: =IF(AI16=0,INT(RAND()*8+2),INT(RAND()*8+2)*AL16) -> 3 | AL16: =IF(AI16=1,INT(RAND()*8+2),INT(RAND()*8+2)*AJ16) -> 24 | AM16: =IF(AJ15/AJ16>AL15/AL16,AJ16,AL16) -> 3 | AO16: =IF(AJ15/AJ16>AL15/AL16,AL16,AJ16) -> 24 | AP16: =IF(AM16>AO16,AM16,AO16) -> 24 | AS16: 12 | AT16: S2 | AU16: =AM7 -> 27 | AV16: =AM8 -> 35 | AW16: =AK7 -> - | AX16: =AO7 -> 2 | AY16: =AO8 -> 7 | AZ16: ="=" -> = | BA16: =AP7 -> 17 | BB16: =AP8 -> 35
B17: Opération n° 5 | C17: =VLOOKUP(INT($Z17),$AS$5:$BB$44,3) -> 9 | D17: =VLOOKUP(INT($Z17),$AS$5:$BB$44,5) -> + | E17: =VLOOKUP(INT($Z17),$AS$5:$BB$44,6) -> 24 | J17: Opération n° 5 | K17: =C17 -> 9 | L17: =D17 -> + | M17: =E17 -> 24 | S17: 5 | T17: =IF($U$6>(S17-1),AT9,"") | U17: =IF(S17>$U$6,IF(S17>($U$7+$U$6),IF(S17>($U$7+$U$6+$U$8),IF(S17>($U$7+$U$6+$U$8+$U$9),"",OFFSET(T17,(10-$U$6)+(10-$U$7)+(10-$U$8),0,1,1)),OFFSET(T17,(10-$U$6)+(10-$U$7),0,1,1)),OFFSET(T17,10-$U$6,0,1,1)),T17) -> S1 | X17: =U16 -> A4 | Z17: =IF(RIGHT(X17)="0",IF(LEFT(X17)="A",10,IF(LEFT(X17)="M",30,IF(LEFT(X17)="S",20,40))),IF(LEFT(X17)="A",RIGHT(X17),IF(LEFT(X17)="M",RIGHT(X17)+20,IF(LEFT(X17)="S",RIGHT(X17)+10,RIGHT(X17)+30)))) -> 4 | AC17: opération 7 | AD17: =IF(AC18=0,INT(RAND()*8+2),INT(RAND()*28+2)) -> 5 | AE17: + | AF17: =IF(AC18=1,INT(RAND()*8+2),INT(RAND()*28+2)) -> 14 | AG17: =IF(AC18=0,AD17*(AF18/AD18)+AF17,AF17*(AD18/AF18)+AD17) -> 59 | AI17: opération 7 | AJ17: =IF(AI18=0,INT(RAND()*8+2),INT(RAND()*28+2)) -> 6 | AK17: - | AL17: =IF(AI18=1,INT(RAND()*8+2),INT(RAND()*28+2)) -> 6 | AM17: =IF(AJ17/AJ18>AL17/AL18,AJ17,AL17) -> 6 | AO17: =IF(AJ17/AJ18>AL17/AL18,AL17,AJ17) -> 6 | AP17: =IF(AO18>AM18,AM17*(AO18/AM18)-AO17,AM17-AO17*(AM18/AO18)) -> 24 | AS17: 13 | AT17: S3 | AU17: =AM9 -> 2 | AV17: =AM10 -> 5 | AW17: =AK9 -> - | AX17: =AO9 -> 4 | AY17: =AO10 -> 40 | AZ17: ="=" -> = | BA17: =AP9 -> 12 | BB17: =AP10 -> 40
C18: ― | D18: =VLOOKUP(INT($Z$13),$AS$5:$BB$44,3) -> 2 | E18: ― | F18: = | K18: ― | L18: =D18 -> 2 | M18: ― | N18: = | S18: 6 | T18: =IF($U$6>(S18-1),AT10,"") | U18: =IF(S18>$U$6,IF(S18>($U$7+$U$6),IF(S18>($U$7+$U$6+$U$8),IF(S18>($U$7+$U$6+$U$8+$U$9),"",OFFSET(T18,(10-$U$6)+(10-$U$7)+(10-$U$8),0,1,1)),OFFSET(T18,(10-$U$6)+(10-$U$7),0,1,1)),OFFSET(T18,10-$U$6,0,1,1)),T18) -> S2 | X18: =U22 -> D2 | Z18: =IF(RIGHT(X18)="0",IF(LEFT(X18)="A",10,IF(LEFT(X18)="M",30,IF(LEFT(X18)="S",20,40))),IF(LEFT(X18)="A",RIGHT(X18),IF(LEFT(X18)="M",RIGHT(X18)+20,IF(LEFT(X18)="S",RIGHT(X18)+10,RIGHT(X18)+30)))) -> 32 | AC18: =INT(RAND()*2) -> 0 | AD18: =IF(AC18=0,INT(RAND()*8+2),INT(RAND()*8+2)*AF18) -> 6 | AF18: =IF(AC18=1,INT(RAND()*8+2),INT(RAND()*8+2)*AD18) -> 54 | AG18: =IF(AC18=1,AD18,AF18) -> 54 | AI18: =INT(RAND()*2) -> 1 | AJ18: =IF(AI18=0,INT(RAND()*8+2),INT(RAND()*8+2)*AL18) -> 15 | AL18: =IF(AI18=1,INT(RAND()*8+2),INT(RAND()*8+2)*AJ18) -> 3 | AM18: =IF(AJ17/AJ18>AL17/AL18,AJ18,AL18) -> 3 | AO18: =IF(AJ17/AJ18>AL17/AL18,AL18,AJ18) -> 15 | AP18: =IF(AM18>AO18,AM18,AO18) -> 15 | AS18: 14 | AT18: S4 | AU18: =AM11 -> 9 | AV18: =AM12 -> 4 | AW18: =AK11 -> - | AX18: =AO11 -> 18 | AY18: =AO12 -> 16 | AZ18: ="=" -> = | BA18: =AP11 -> 18 | BB18: =AP12 -> 16
C19: =VLOOKUP(INT($Z17),$AS$5:$BB$44,4) -> 8 | D19: =VLOOKUP(INT($Z$13),$AS$5:$BB$44,3) -> 2 | E19: =VLOOKUP(INT($Z17),$AS$5:$BB$44,7) -> 32 | K19: =C19 -> 8 | L19: =D19 -> 2 | M19: =E19 -> 32 | S19: 7 | T19: =IF($U$6>(S19-1),AT11,"") | U19: =IF(S19>$U$6,IF(S19>($U$7+$U$6),IF(S19>($U$7+$U$6+$U$8),IF(S19>($U$7+$U$6+$U$8+$U$9),"",OFFSET(T19,(10-$U$6)+(10-$U$7)+(10-$U$8),0,1,1)),OFFSET(T19,(10-$U$6)+(10-$U$7),0,1,1)),OFFSET(T19,10-$U$6,0,1,1)),T19) -> S3 | X19: =U14 -> A2 | Z19: =IF(RIGHT(X19)="0",IF(LEFT(X19)="A",10,IF(LEFT(X19)="M",30,IF(LEFT(X19)="S",20,40))),IF(LEFT(X19)="A",RIGHT(X19),IF(LEFT(X19)="M",RIGHT(X19)+20,IF(LEFT(X19)="S",RIGHT(X19)+10,RIGHT(X19)+30)))) -> 2 | AC19: opération 8 | AD19: =IF(AC20=0,INT(RAND()*8+2),INT(RAND()*28+2)) -> 14 | AE19: + | AF19: =IF(AC20=1,INT(RAND()*8+2),INT(RAND()*28+2)) -> 2 | AG19: =IF(AC20=0,AD19*(AF20/AD20)+AF19,AF19*(AD20/AF20)+AD19) -> 22 | AI19: opération 8 | AJ19: =IF(AI20=0,INT(RAND()*8+2),INT(RAND()*28+2)) -> 19 | AK19: - | AL19: =IF(AI20=1,INT(RAND()*8+2),INT(RAND()*28+2)) -> 6 | AM19: =IF(AJ19/AJ20>AL19/AL20,AJ19,AL19) -> 6 | AO19: =IF(AJ19/AJ20>AL19/AL20,AL19,AJ19) -> 19 | AP19: =IF(AO20>AM20,AM19*(AO20/AM20)-AO19,AM19-AO19*(AM20/AO20)) -> 23 | AS19: 15 | AT19: S5 | AU19: =AM13 -> 8 | AV19: =AM14 -> 7 | AW19: =AK13 -> - | AX19: =AO13 -> 25 | AY19: =AO14 -> 28 | AZ19: ="=" -> = | BA19: =AP13 -> 7 | BB19: =AP14 -> 28
B20: Opération n° 6 | C20: =VLOOKUP(INT($Z18),$AS$5:$BB$44,3) -> 3 | D20: =VLOOKUP(INT($Z18),$AS$5:$BB$44,5) -> ÷ | E20: =VLOOKUP(INT($Z18),$AS$5:$BB$44,6) -> 8 | J20: Opération n° 6 | K20: =C20 -> 3 | L20: =D20 -> ÷ | M20: =E20 -> 8 | S20: 8 | T20: =IF($U$6>(S20-1),AT12,"") | U20: =IF(S20>$U$6,IF(S20>($U$7+$U$6),IF(S20>($U$7+$U$6+$U$8),IF(S20>($U$7+$U$6+$U$8+$U$9),"",OFFSET(T20,(10-$U$6)+(10-$U$7)+(10-$U$8),0,1,1)),OFFSET(T20,(10-$U$6)+(10-$U$7),0,1,1)),OFFSET(T20,10-$U$6,0,1,1)),T20) -> M1 | X20: =U17 -> S1 | Z20: =IF(RIGHT(X20)="0",IF(LEFT(X20)="A",10,IF(LEFT(X20)="M",30,IF(LEFT(X20)="S",20,40))),IF(LEFT(X20)="A",RIGHT(X20),IF(LEFT(X20)="M",RIGHT(X20)+20,IF(LEFT(X20)="S",RIGHT(X20)+10,RIGHT(X20)+30)))) -> 11 | AC20: =INT(RAND()*2) -> 1 | AD20: =IF(AC20=0,INT(RAND()*8+2),INT(RAND()*8+2)*AF20) -> 20 | AF20: =IF(AC20=1,INT(RAND()*8+2),INT(RAND()*8+2)*AD20) -> 5 | AG20: =IF(AC20=1,AD20,AF20) -> 20 | AI20: =INT(RAND()*2) -> 1 | AJ20: =IF(AI20=0,INT(RAND()*8+2),INT(RAND()*8+2)*AL20) -> 42 | AL20: =IF(AI20=1,INT(RAND()*8+2),INT(RAND()*8+2)*AJ20) -> 6 | AM20: =IF(AJ19/AJ20>AL19/AL20,AJ20,AL20) -> 6 | AO20: =IF(AJ19/AJ20>AL19/AL20,AL20,AJ20) -> 42 | AP20: =IF(AM20>AO20,AM20,AO20) -> 42 | AS20: 16 | AT20: S6 | AU20: =AM15 -> 8 | AV20: =AM16 -> 3 | AW20: =AK15 -> - | AX20: =AO15 -> 7 | AY20: =AO16 -> 24 | AZ20: ="=" -> = | BA20: =AP15 -> 57 | BB20: =AP16 -> 24
C21: ― | D21: =VLOOKUP(INT($Z$13),$AS$5:$BB$44,3) -> 2 | E21: ― | F21: = | K21: ― | L21: =D21 -> 2 | M21: ― | N21: = | S21: 9 | T21: =IF($U$6>(S21-1),AT13,"") | U21: =IF(S21>$U$6,IF(S21>($U$7+$U$6),IF(S21>($U$7+$U$6+$U$8),IF(S21>($U$7+$U$6+$U$8+$U$9),"",OFFSET(T21,(10-$U$6)+(10-$U$7)+(10-$U$8),0,1,1)),OFFSET(T21,(10-$U$6)+(10-$U$7),0,1,1)),OFFSET(T21,10-$U$6,0,1,1)),T21) -> D1 | X21: =U21 -> D1 | Z21: =IF(RIGHT(X21)="0",IF(LEFT(X21)="A",10,IF(LEFT(X21)="M",30,IF(LEFT(X21)="S",20,40))),IF(LEFT(X21)="A",RIGHT(X21),IF(LEFT(X21)="M",RIGHT(X21)+20,IF(LEFT(X21)="S",RIGHT(X21)+10,RIGHT(X21)+30)))) -> 31 | AC21: opération 9 | AD21: =IF(AC22=0,INT(RAND()*8+2),INT(RAND()*28+2)) -> 28 | AE21: + | AF21: =IF(AC22=1,INT(RAND()*8+2),INT(RAND()*28+2)) -> 9 | AG21: =IF(AC22=0,AD21*(AF22/AD22)+AF21,AF21*(AD22/AF22)+AD21) -> 91 | AI21: opération 9 | AJ21: =IF(AI22=0,INT(RAND()*8+2),INT(RAND()*28+2)) -> 11 | AK21: - | AL21: =IF(AI22=1,INT(RAND()*8+2),INT(RAND()*28+2)) -> 8 | AM21: =IF(AJ21/AJ22>AL21/AL22,AJ21,AL21) -> 8 | AO21: =IF(AJ21/AJ22>AL21/AL22,AL21,AJ21) -> 11 | AP21: =IF(AO22>AM22,AM21*(AO22/AM22)-AO21,AM21-AO21*(AM22/AO22)) -> 29 | AS21: 17 | AT21: S7 | AU21: =AM17 -> 6 | AV21: =AM18 -> 3 | AW21: =AK17 -> - | AX21: =AO17 -> 6 | AY21: =AO18 -> 15 | AZ21: ="=" -> = | BA21: =AP17 -> 24 | BB21: =AP18 -> 15
C22: =VLOOKUP(INT($Z18),$AS$5:$BB$44,4) -> 2 | D22: =VLOOKUP(INT($Z$13),$AS$5:$BB$44,3) -> 2 | E22: =VLOOKUP(INT($Z18),$AS$5:$BB$44,7) -> 3 | K22: =C22 -> 2 | L22: =D22 -> 2 | M22: =E22 -> 3 | S22: 10 | T22: =IF($U$6>(S22-1),AT14,"") | U22: =IF(S22>$U$6,IF(S22>($U$7+$U$6),IF(S22>($U$7+$U$6+$U$8),IF(S22>($U$7+$U$6+$U$8+$U$9),"",OFFSET(T22,(10-$U$6)+(10-$U$7)+(10-$U$8),0,1,1)),OFFSET(T22,(10-$U$6)+(10-$U$7),0,1,1)),OFFSET(T22,10-$U$6,0,1,1)),T22) -> D2 | X22: =U20 -> M1 | Z22: =IF(RIGHT(X22)="0",IF(LEFT(X22)="A",10,IF(LEFT(X22)="M",30,IF(LEFT(X22)="S",20,40))),IF(LEFT(X22)="A",RIGHT(X22),IF(LEFT(X22)="M",RIGHT(X22)+20,IF(LEFT(X22)="S",RIGHT(X22)+10,RIGHT(X22)+30)))) -> 21 | AC22: =INT(RAND()*2) -> 1 | AD22: =IF(AC22=0,INT(RAND()*8+2),INT(RAND()*8+2)*AF22) -> 63 | AF22: =IF(AC22=1,INT(RAND()*8+2),INT(RAND()*8+2)*AD22) -> 9 | AG22: =IF(AC22=1,AD22,AF22) -> 63 | AI22: =INT(RAND()*2) -> 1 | AJ22: =IF(AI22=0,INT(RAND()*8+2),INT(RAND()*8+2)*AL22) -> 40 | AL22: =IF(AI22=1,INT(RAND()*8+2),INT(RAND()*8+2)*AJ22) -> 8 | AM22: =IF(AJ21/AJ22>AL21/AL22,AJ22,AL22) -> 8 | AO22: =IF(AJ21/AJ22>AL21/AL22,AL22,AJ22) -> 40 | AP22: =IF(AM22>AO22,AM22,AO22) -> 40 | AS22: 18 | AT22: S8 | AU22: =AM19 -> 6 | AV22: =AM20 -> 6 | AW22: =AK19 -> - | AX22: =AO19 -> 19 | AY22: =AO20 -> 42 | AZ22: ="=" -> = | BA22: =AP19 -> 23 | BB22: =AP20 -> 42
B23: Opération n° 7 | C23: =VLOOKUP(INT($Z19),$AS$5:$BB$44,3) -> 5 | D23: =VLOOKUP(INT($Z19),$AS$5:$BB$44,5) -> + | E23: =VLOOKUP(INT($Z19),$AS$5:$BB$44,6) -> 29 | J23: Opération n° 7 | K23: =C23 -> 5 | L23: =D23 -> + | M23: =E23 -> 29 | S23: 11 | T23: =IF($U$7>(S23-11),AT15,"") -> S1 | U23: =IF(S23>$U$6,IF(S23>($U$7+$U$6),IF(S23>($U$7+$U$6+$U$8),IF(S23>($U$7+$U$6+$U$8+$U$9),"",OFFSET(T23,(10-$U$6)+(10-$U$7)+(10-$U$8),0,1,1)),OFFSET(T23,(10-$U$6)+(10-$U$7),0,1,1)),OFFSET(T23,10-$U$6,0,1,1)),T23) | AC23: opération 10 | AD23: =IF(AC24=0,INT(RAND()*8+2),INT(RAND()*28+2)) -> 10 | AE23: + | AF23: =IF(AC24=1,INT(RAND()*8+2),INT(RAND()*28+2)) -> 3 | AG23: =IF(AC24=0,AD23*(AF24/AD24)+AF23,AF23*(AD24/AF24)+AD23) -> 28 | AI23: opération 10 | AJ23: =IF(AI24=0,INT(RAND()*8+2),INT(RAND()*28+2)) -> 14 | AK23: - | AL23: =IF(AI24=1,INT(RAND()*8+2),INT(RAND()*28+2)) -> 6 | AM23: =IF(AJ23/AJ24>AL23/AL24,AJ23,AL23) -> 6 | AO23: =IF(AJ23/AJ24>AL23/AL24,AL23,AJ23) -> 14 | AP23: =IF(AO24>AM24,AM23*(AO24/AM24)-AO23,AM23-AO23*(AM24/AO24)) -> 16 | AS23: 19 | AT23: S9 | AU23: =AM21 -> 8 | AV23: =AM22 -> 8 | AW23: =AK21 -> - | AX23: =AO21 -> 11 | AY23: =AO22 -> 40 | AZ23: ="=" -> = | BA23: =AP21 -> 29 | BB23: =AP22 -> 40
C24: ― | D24: =VLOOKUP(INT($Z$13),$AS$5:$BB$44,3) -> 2 | E24: ― | F24: = | K24: ― | L24: =D24 -> 2 | M24: ― | N24: = | S24: 12 | T24: =IF($U$7>(S24-11),AT16,"") -> S2 | U24: =IF(S24>$U$6,IF(S24>($U$7+$U$6),IF(S24>($U$7+$U$6+$U$8),IF(S24>($U$7+$U$6+$U$8+$U$9),"",OFFSET(T24,(10-$U$6)+(10-$U$7)+(10-$U$8),0,1,1)),OFFSET(T24,(10-$U$6)+(10-$U$7),0,1,1)),OFFSET(T24,10-$U$6,0,1,1)),T24) | AC24: =INT(RAND()*2) -> 1 | AD24: =IF(AC24=0,INT(RAND()*8+2),INT(RAND()*8+2)*AF24) -> 42 | AF24: =IF(AC24=1,INT(RAND()*8+2),INT(RAND()*8+2)*AD24) -> 7 | AG24: =IF(AC24=1,AD24,AF24) -> 42 | AI24: =INT(RAND()*2) -> 1 | AJ24: =IF(AI24=0,INT(RAND()*8+2),INT(RAND()*8+2)*AL24) -> 15 | AL24: =IF(AI24=1,INT(RAND()*8+2),INT(RAND()*8+2)*AJ24) -> 3 | AM24: =IF(AJ23/AJ24>AL23/AL24,AJ24,AL24) -> 3 | AO24: =IF(AJ23/AJ24>AL23/AL24,AL24,AJ24) -> 15 | AP24: =IF(AM24>AO24,AM24,AO24) -> 15 | AS24: 20 | AT24: S10 | AU24: =AM23 -> 6 | AV24: =AM24 -> 3 | AW24: =AK23 -> - | AX24: =AO23 -> 14 | AY24: =AO24 -> 15 | AZ24: ="=" -> = | BA24: =AP23 -> 16 | BB24: =AP24 -> 15
C25: =VLOOKUP(INT($Z19),$AS$5:$BB$44,4) -> 9 | D25: =VLOOKUP(INT($Z$13),$AS$5:$BB$44,3) -> 2 | E25: =VLOOKUP(INT($Z19),$AS$5:$BB$44,7) -> 36 | K25: =C25 -> 9 | L25: =D25 -> 2 | M25: =E25 -> 36 | S25: 13 | T25: =IF($U$7>(S25-11),AT17,"") -> S3 | U25: =IF(S25>$U$6,IF(S25>($U$7+$U$6),IF(S25>($U$7+$U$6+$U$8),IF(S25>($U$7+$U$6+$U$8+$U$9),"",OFFSET(T25,(10-$U$6)+(10-$U$7)+(10-$U$8),0,1,1)),OFFSET(T25,(10-$U$6)+(10-$U$7),0,1,1)),OFFSET(T25,10-$U$6,0,1,1)),T25) | AS25: 21 | AT25: M1 | AU25: =AD28 -> 2 | AV25: =AD29 -> 9 | AW25: =AE28 -> × | AX25: =AF28 -> 8 | AY25: =AF29 -> 9 | AZ25: ="=" -> = | BA25: =AG28 -> 16 | BB25: =AG29 -> 81
B26: Opération n° 8 | C26: =VLOOKUP(INT($Z20),$AS$5:$BB$44,3) -> 5 | D26: =VLOOKUP(INT($Z20),$AS$5:$BB$44,5) -> - | E26: =VLOOKUP(INT($Z20),$AS$5:$BB$44,6) -> 24 | J26: Opération n° 8 | K26: =C26 -> 5 | L26: =D26 -> - | M26: =E26 -> 24 | S26: 14 | T26: =IF($U$7>(S26-11),AT18,"") | U26: =IF(S26>$U$6,IF(S26>($U$7+$U$6),IF(S26>($U$7+$U$6+$U$8),IF(S26>($U$7+$U$6+$U$8+$U$9),"",OFFSET(T26,(10-$U$6)+(10-$U$7)+(10-$U$8),0,1,1)),OFFSET(T26,(10-$U$6)+(10-$U$7),0,1,1)),OFFSET(T26,10-$U$6,0,1,1)),T26) | AS26: 22 | AT26: M2 | AU26: =AD30 -> 5 | AV26: =AD31 -> 2 | AW26: =AE30 -> × | AX26: =AF30 -> 4 | AY26: =AF31 -> 9 | AZ26: ="=" -> = | BA26: =AG30 -> 20 | BB26: =AG31 -> 18
C27: ― | D27: =VLOOKUP(INT($Z$13),$AS$5:$BB$44,3) -> 2 | E27: ― | F27: = | K27: ― | L27: =D27 -> 2 | M27: ― | N27: = | S27: 15 | T27: =IF($U$7>(S27-11),AT19,"") | U27: =IF(S27>$U$6,IF(S27>($U$7+$U$6),IF(S27>($U$7+$U$6+$U$8),IF(S27>($U$7+$U$6+$U$8+$U$9),"",OFFSET(T27,(10-$U$6)+(10-$U$7)+(10-$U$8),0,1,1)),OFFSET(T27,(10-$U$6)+(10-$U$7),0,1,1)),OFFSET(T27,10-$U$6,0,1,1)),T27) | AC27: 10 mulitplications | AG27: résultats | AI27: 10 divisions | AM27: résultats | AS27: 23 | AT27: M3 | AU27: =AD32 -> 4 | AV27: =AD33 -> 5 | AW27: =AE32 -> × | AX27: =AF32 -> 9 | AY27: =AF33 -> 4 | AZ27: ="=" -> = | BA27: =AG32 -> 36 | BB27: =AG33 -> 20
C28: =VLOOKUP(INT($Z20),$AS$5:$BB$44,4) -> 6 | D28: =VLOOKUP(INT($Z$13),$AS$5:$BB$44,3) -> 2 | E28: =VLOOKUP(INT($Z20),$AS$5:$BB$44,7) -> 42 | K28: =C28 -> 6 | L28: =D28 -> 2 | M28: =E28 -> 42 | S28: 16 | T28: =IF($U$7>(S28-11),AT20,"") | U28: =IF(S28>$U$6,IF(S28>($U$7+$U$6),IF(S28>($U$7+$U$6+$U$8),IF(S28>($U$7+$U$6+$U$8+$U$9),"",OFFSET(T28,(10-$U$6)+(10-$U$7)+(10-$U$8),0,1,1)),OFFSET(T28,(10-$U$6)+(10-$U$7),0,1,1)),OFFSET(T28,10-$U$6,0,1,1)),T28) | AC28: opération 1 | AD28: =INT(RAND()*8+2) -> 2 | AE28: × | AF28: =INT(RAND()*8+2) -> 8 | AG28: =AD28*AF28 -> 16 | AI28: opération 1 | AJ28: =INT(RAND()*8+2) -> 9 | AK28: ÷ | AL28: =INT(RAND()*8+2) -> 7 | AM28: =AJ28*AL29 -> 36 | AS28: 24 | AT28: M4 | AU28: =AD34 -> 6 | AV28: =AD35 -> 7 | AW28: =AE34 -> × | AX28: =AF34 -> 3 | AY28: =AF35 -> 2 | AZ28: ="=" -> = | BA28: =AG34 -> 18 | BB28: =AG35 -> 14
B29: Opération n° 9 | C29: =VLOOKUP(INT($Z21),$AS$5:$BB$44,3) -> 9 | D29: =VLOOKUP(INT($Z21),$AS$5:$BB$44,5) -> ÷ | E29: =VLOOKUP(INT($Z21),$AS$5:$BB$44,6) -> 7 | J29: Opération n° 9 | K29: =C29 -> 9 | L29: =D29 -> ÷ | M29: =E29 -> 7 | S29: 17 | T29: =IF($U$7>(S29-11),AT21,"") | U29: =IF(S29>$U$6,IF(S29>($U$7+$U$6),IF(S29>($U$7+$U$6+$U$8),IF(S29>($U$7+$U$6+$U$8+$U$9),"",OFFSET(T29,(10-$U$6)+(10-$U$7)+(10-$U$8),0,1,1)),OFFSET(T29,(10-$U$6)+(10-$U$7),0,1,1)),OFFSET(T29,10-$U$6,0,1,1)),T29) | AD29: =INT(RAND()*8+2) -> 9 | AF29: =INT(RAND()*8+2) -> 9 | AG29: =AD29*AF29 -> 81 | AJ29: =INT(RAND()*8+2) -> 4 | AL29: =INT(RAND()*8+2) -> 4 | AM29: =AL28*AJ29 -> 28 | AS29: 25 | AT29: M5 | AU29: =AD36 -> 8 | AV29: =AD37 -> 8 | AW29: =AE36 -> × | AX29: =AF36 -> 4 | AY29: =AF37 -> 3 | AZ29: ="=" -> = | BA29: =AG36 -> 32 | BB29: =AG37 -> 24
C30: ― | D30: =VLOOKUP(INT($Z$13),$AS$5:$BB$44,3) -> 2 | E30: ― | F30: = | K30: ― | L30: =D30 -> 2 | M30: ― | N30: = | S30: 18 | T30: =IF($U$7>(S30-11),AT22,"") | U30: =IF(S30>$U$6,IF(S30>($U$7+$U$6),IF(S30>($U$7+$U$6+$U$8),IF(S30>($U$7+$U$6+$U$8+$U$9),"",OFFSET(T30,(10-$U$6)+(10-$U$7)+(10-$U$8),0,1,1)),OFFSET(T30,(10-$U$6)+(10-$U$7),0,1,1)),OFFSET(T30,10-$U$6,0,1,1)),T30) | AC30: opération 2 | AD30: =INT(RAND()*8+2) -> 5 | AE30: × | AF30: =INT(RAND()*8+2) -> 4 | AG30: =AD30*AF30 -> 20 | AI30: opération 2 | AJ30: =INT(RAND()*8+2) -> 3 | AK30: ÷ | AL30: =INT(RAND()*8+2) -> 8 | AM30: =AJ30*AL31 -> 9 | AS30: 26 | AT30: M6 | AU30: =AD38 -> 2 | AV30: =AD39 -> 8 | AW30: =AE38 -> × | AX30: =AF38 -> 2 | AY30: =AF39 -> 7 | AZ30: ="=" -> = | BA30: =AG38 -> 4 | BB30: =AG39 -> 56
C31: =VLOOKUP(INT($Z21),$AS$5:$BB$44,4) -> 4 | D31: =VLOOKUP(INT($Z$13),$AS$5:$BB$44,3) -> 2 | E31: =VLOOKUP(INT($Z21),$AS$5:$BB$44,7) -> 4 | K31: =C31 -> 4 | L31: =D31 -> 2 | M31: =E31 -> 4 | S31: 19 | T31: =IF($U$7>(S31-11),AT23,"") | U31: =IF(S31>$U$6,IF(S31>($U$7+$U$6),IF(S31>($U$7+$U$6+$U$8),IF(S31>($U$7+$U$6+$U$8+$U$9),"",OFFSET(T31,(10-$U$6)+(10-$U$7)+(10-$U$8),0,1,1)),OFFSET(T31,(10-$U$6)+(10-$U$7),0,1,1)),OFFSET(T31,10-$U$6,0,1,1)),T31) | AD31: =INT(RAND()*8+2) -> 2 | AF31: =INT(RAND()*8+2) -> 9 | AG31: =AD31*AF31 -> 18 | AJ31: =INT(RAND()*8+2) -> 2 | AL31: =INT(RAND()*8+2) -> 3 | AM31: =AL30*AJ31 -> 16 | AS31: 27 | AT31: M7 | AU31: =AD40 -> 5 | AV31: =AD41 -> 4 | AW31: =AE40 -> × | AX31: =AF40 -> 3 | AY31: =AF41 -> 5 | AZ31: ="=" -> = | BA31: =AG40 -> 15 | BB31: =AG41 -> 20
B32: Opération n° 10 | C32: =VLOOKUP(INT($Z22),$AS$5:$BB$44,3) -> 2 | D32: =VLOOKUP(INT($Z22),$AS$5:$BB$44,5) -> × | E32: =VLOOKUP(INT($Z22),$AS$5:$BB$44,6) -> 8 | J32: Opération n° 10 | K32: =C32 -> 2 | L32: =D32 -> × | M32: =E32 -> 8 | S32: 20 | T32: =IF($U$7>(S32-11),AT24,"") | U32: =IF(S32>$U$6,IF(S32>($U$7+$U$6),IF(S32>($U$7+$U$6+$U$8),IF(S32>($U$7+$U$6+$U$8+$U$9),"",OFFSET(T32,(10-$U$6)+(10-$U$7)+(10-$U$8),0,1,1)),OFFSET(T32,(10-$U$6)+(10-$U$7),0,1,1)),OFFSET(T32,10-$U$6,0,1,1)),T32) | AC32: opération 3 | AD32: =INT(RAND()*8+2) -> 4 | AE32: × | AF32: =INT(RAND()*8+2) -> 9 | AG32: =AD32*AF32 -> 36 | AI32: opération 3 | AJ32: =INT(RAND()*8+2) -> 6 | AK32: ÷ | AL32: =INT(RAND()*8+2) -> 8 | AM32: =AJ32*AL33 -> 54 | AS32: 28 | AT32: M8 | AU32: =AD42 -> 7 | AV32: =AD43 -> 3 | AW32: =AE42 -> × | AX32: =AF42 -> 7 | AY32: =AF43 -> 9 | AZ32: ="=" -> = | BA32: =AG42 -> 49 | BB32: =AG43 -> 27
C33: ― | D33: =VLOOKUP(INT($Z$13),$AS$5:$BB$44,3) -> 2 | E33: ― | F33: = | K33: ― | L33: =D33 -> 2 | M33: ― | N33: = | S33: 21 | T33: =IF($U$8>(S33-21),AT25,"") -> M1 | U33: =IF(S33>$U$6,IF(S33>($U$7+$U$6),IF(S33>($U$7+$U$6+$U$8),IF(S33>($U$7+$U$6+$U$8+$U$9),"",OFFSET(T33,(10-$U$6)+(10-$U$7)+(10-$U$8),0,1,1)),OFFSET(T33,(10-$U$6)+(10-$U$7),0,1,1)),OFFSET(T33,10-$U$6,0,1,1)),T33) | AD33: =INT(RAND()*8+2) -> 5 | AF33: =INT(RAND()*8+2) -> 4 | AG33: =AD33*AF33 -> 20 | AJ33: =INT(RAND()*8+2) -> 6 | AL33: =INT(RAND()*8+2) -> 9 | AM33: =AL32*AJ33 -> 48 | AS33: 29 | AT33: M9 | AU33: =AD44 -> 3 | AV33: =AD45 -> 2 | AW33: =AE44 -> × | AX33: =AF44 -> 3 | AY33: =AF45 -> 8 | AZ33: ="=" -> = | BA33: =AG44 -> 9 | BB33: =AG45 -> 16
C34: =VLOOKUP(INT($Z22),$AS$5:$BB$44,4) -> 9 | D34: =VLOOKUP(INT($Z$13),$AS$5:$BB$44,3) -> 2 | E34: =VLOOKUP(INT($Z22),$AS$5:$BB$44,7) -> 9 | K34: =C34 -> 9 | L34: =D34 -> 2 | M34: =E34 -> 9 | S34: 22 | T34: =IF($U$8>(S34-21),AT26,"") | U34: =IF(S34>$U$6,IF(S34>($U$7+$U$6),IF(S34>($U$7+$U$6+$U$8),IF(S34>($U$7+$U$6+$U$8+$U$9),"",OFFSET(T34,(10-$U$6)+(10-$U$7)+(10-$U$8),0,1,1)),OFFSET(T34,(10-$U$6)+(10-$U$7),0,1,1)),OFFSET(T34,10-$U$6,0,1,1)),T34) | AC34: opération 4 | AD34: =INT(RAND()*8+2) -> 6 | AE34: × | AF34: =INT(RAND()*8+2) -> 3 | AG34: =AD34*AF34 -> 18 | AI34: opération 4 | AJ34: =INT(RAND()*8+2) -> 2 | AK34: ÷ | AL34: =INT(RAND()*8+2) -> 2 | AM34: =AJ34*AL35 -> 14 | AS34: 30 | AT34: M10 | AU34: =AD46 -> 2 | AV34: =AD47 -> 8 | AW34: =AE46 -> × | AX34: =AF46 -> 6 | AY34: =AF47 -> 7 | AZ34: ="=" -> = | BA34: =AG46 -> 12 | BB34: =AG47 -> 56
S35: 23 | T35: =IF($U$8>(S35-21),AT27,"") | U35: =IF(S35>$U$6,IF(S35>($U$7+$U$6),IF(S35>($U$7+$U$6+$U$8),IF(S35>($U$7+$U$6+$U$8+$U$9),"",OFFSET(T35,(10-$U$6)+(10-$U$7)+(10-$U$8),0,1,1)),OFFSET(T35,(10-$U$6)+(10-$U$7),0,1,1)),OFFSET(T35,10-$U$6,0,1,1)),T35) | AD35: =INT(RAND()*8+2) -> 7 | AF35: =INT(RAND()*8+2) -> 2 | AG35: =AD35*AF35 -> 14 | AJ35: =INT(RAND()*8+2) -> 4 | AL35: =INT(RAND()*8+2) -> 7 | AM35: =AL34*AJ35 -> 8 | AS35: 31 | AT35: D1 | AU35: =AJ28 -> 9 | AV35: =AJ29 -> 4 | AW35: =AK28 -> ÷ | AX35: =AL28 -> 7 | AY35: =AL29 -> 4 | AZ35: ="=" -> = | BA35: =AM28 -> 36 | BB35: =AM29 -> 28
S36: 24 | T36: =IF($U$8>(S36-21),AT28,"") | U36: =IF(S36>$U$6,IF(S36>($U$7+$U$6),IF(S36>($U$7+$U$6+$U$8),IF(S36>($U$7+$U$6+$U$8+$U$9),"",OFFSET(T36,(10-$U$6)+(10-$U$7)+(10-$U$8),0,1,1)),OFFSET(T36,(10-$U$6)+(10-$U$7),0,1,1)),OFFSET(T36,10-$U$6,0,1,1)),T36) | AC36: opération 5 | AD36: =INT(RAND()*8+2) -> 8 | AE36: × | AF36: =INT(RAND()*8+2) -> 4 | AG36: =AD36*AF36 -> 32 | AI36: opération 5 | AJ36: =INT(RAND()*8+2) -> 6 | AK36: ÷ | AL36: =INT(RAND()*8+2) -> 4 | AM36: =AJ36*AL37 -> 30 | AS36: 32 | AT36: D2 | AU36: =AJ30 -> 3 | AV36: =AJ31 -> 2 | AW36: =AK30 -> ÷ | AX36: =AL30 -> 8 | AY36: =AL31 -> 3 | AZ36: ="=" -> = | BA36: =AM30 -> 9 | BB36: =AM31 -> 16
S37: 25 | T37: =IF($U$8>(S37-21),AT29,"") | U37: =IF(S37>$U$6,IF(S37>($U$7+$U$6),IF(S37>($U$7+$U$6+$U$8),IF(S37>($U$7+$U$6+$U$8+$U$9),"",OFFSET(T37,(10-$U$6)+(10-$U$7)+(10-$U$8),0,1,1)),OFFSET(T37,(10-$U$6)+(10-$U$7),0,1,1)),OFFSET(T37,10-$U$6,0,1,1)),T37) | AD37: =INT(RAND()*8+2) -> 8 | AF37: =INT(RAND()*8+2) -> 3 | AG37: =AD37*AF37 -> 24 | AJ37: =INT(RAND()*8+2) -> 8 | AL37: =INT(RAND()*8+2) -> 5 | AM37: =AL36*AJ37 -> 32 | AS37: 33 | AT37: D3 | AU37: =AJ32 -> 6 | AV37: =AJ33 -> 6 | AW37: =AK32 -> ÷ | AX37: =AL32 -> 8 | AY37: =AL33 -> 9 | AZ37: ="=" -> = | BA37: =AM32 -> 54 | BB37: =AM33 -> 48
S38: 26 | T38: =IF($U$8>(S38-21),AT30,"") | U38: =IF(S38>$U$6,IF(S38>($U$7+$U$6),IF(S38>($U$7+$U$6+$U$8),IF(S38>($U$7+$U$6+$U$8+$U$9),"",OFFSET(T38,(10-$U$6)+(10-$U$7)+(10-$U$8),0,1,1)),OFFSET(T38,(10-$U$6)+(10-$U$7),0,1,1)),OFFSET(T38,10-$U$6,0,1,1)),T38) | AC38: opération 6 | AD38: =INT(RAND()*8+2) -> 2 | AE38: × | AF38: =INT(RAND()*8+2) -> 2 | AG38: =AD38*AF38 -> 4 | AI38: opération 6 | AJ38: =INT(RAND()*8+2) -> 9 | AK38: ÷ | AL38: =INT(RAND()*8+2) -> 4 | AM38: =AJ38*AL39 -> 63 | AS38: 34 | AT38: D4 | AU38: =AJ34 -> 2 | AV38: =AJ35 -> 4 | AW38: =AK34 -> ÷ | AX38: =AL34 -> 2 | AY38: =AL35 -> 7 | AZ38: ="=" -> = | BA38: =AM34 -> 14 | BB38: =AM35 -> 8
B39: NOM et PRENOM : | G39: Classe : | J39: NOM et PRENOM : | O39: Classe : | S39: 27 | T39: =IF($U$8>(S39-21),AT31,"") | U39: =IF(S39>$U$6,IF(S39>($U$7+$U$6),IF(S39>($U$7+$U$6+$U$8),IF(S39>($U$7+$U$6+$U$8+$U$9),"",OFFSET(T39,(10-$U$6)+(10-$U$7)+(10-$U$8),0,1,1)),OFFSET(T39,(10-$U$6)+(10-$U$7),0,1,1)),OFFSET(T39,10-$U$6,0,1,1)),T39) | AD39: =INT(RAND()*8+2) -> 8 | AF39: =INT(RAND()*8+2) -> 7 | AG39: =AD39*AF39 -> 56 | AJ39: =INT(RAND()*8+2) -> 9 | AL39: =INT(RAND()*8+2) -> 7 | AM39: =AL38*AJ39 -> 36 | AS39: 35 | AT39: D5 | AU39: =AJ36 -> 6 | AV39: =AJ37 -> 8 | AW39: =AK36 -> ÷ | AX39: =AL36 -> 4 | AY39: =AL37 -> 5 | AZ39: ="=" -> = | BA39: =AM36 -> 30 | BB39: =AM37 -> 32
S40: 28 | T40: =IF($U$8>(S40-21),AT32,"") | U40: =IF(S40>$U$6,IF(S40>($U$7+$U$6),IF(S40>($U$7+$U$6+$U$8),IF(S40>($U$7+$U$6+$U$8+$U$9),"",OFFSET(T40,(10-$U$6)+(10-$U$7)+(10-$U$8),0,1,1)),OFFSET(T40,(10-$U$6)+(10-$U$7),0,1,1)),OFFSET(T40,10-$U$6,0,1,1)),T40) | AC40: opération 7 | AD40: =INT(RAND()*8+2) -> 5 | AE40: × | AF40: =INT(RAND()*8+2) -> 3 | AG40: =AD40*AF40 -> 15 | AI40: opération 7 | AJ40: =INT(RAND()*8+2) -> 5 | AK40: ÷ | AL40: =INT(RAND()*8+2) -> 8 | AM40: =AJ40*AL41 -> 20 | AS40: 36 | AT40: D6 | AU40: =AJ38 -> 9 | AV40: =AJ39 -> 9 | AW40: =AK38 -> ÷ | AX40: =AL38 -> 4 | AY40: =AL39 -> 7 | AZ40: ="=" -> = | BA40: =AM38 -> 63 | BB40: =AM39 -> 36
B41: CONTRÔLE : Calcul de fractions | J41: CONTRÔLE : Calcul de fractions | S41: 29 | T41: =IF($U$8>(S41-21),AT33,"") | U41: =IF(S41>$U$6,IF(S41>($U$7+$U$6),IF(S41>($U$7+$U$6+$U$8),IF(S41>($U$7+$U$6+$U$8+$U$9),"",OFFSET(T41,(10-$U$6)+(10-$U$7)+(10-$U$8),0,1,1)),OFFSET(T41,(10-$U$6)+(10-$U$7),0,1,1)),OFFSET(T41,10-$U$6,0,1,1)),T41) | AD41: =INT(RAND()*8+2) -> 4 | AF41: =INT(RAND()*8+2) -> 5 | AG41: =AD41*AF41 -> 20 | AJ41: =INT(RAND()*8+2) -> 8 | AL41: =INT(RAND()*8+2) -> 4 | AM41: =AL40*AJ41 -> 64 | AS41: 37 | AT41: D7 | AU41: =AJ40 -> 5 | AV41: =AJ41 -> 8 | AW41: =AK40 -> ÷ | AX41: =AL40 -> 8 | AY41: =AL41 -> 4 | AZ41: ="=" -> = | BA41: =AM40 -> 20 | BB41: =AM41 -> 64
S42: 30 | T42: =IF($U$8>(S42-21),AT34,"") | U42: =IF(S42>$U$6,IF(S42>($U$7+$U$6),IF(S42>($U$7+$U$6+$U$8),IF(S42>($U$7+$U$6+$U$8+$U$9),"",OFFSET(T42,(10-$U$6)+(10-$U$7)+(10-$U$8),0,1,1)),OFFSET(T42,(10-$U$6)+(10-$U$7),0,1,1)),OFFSET(T42,10-$U$6,0,1,1)),T42) | AC42: opération 8 | AD42: =INT(RAND()*8+2) -> 7 | AE42: × | AF42: =INT(RAND()*8+2) -> 7 | AG42: =AD42*AF42 -> 49 | AI42: opération 8 | AJ42: =INT(RAND()*8+2) -> 9 | AK42: ÷ | AL42: =INT(RAND()*8+2) -> 2 | AM42: =AJ42*AL43 -> 36 | AS42: 38 | AT42: D8 | AU42: =AJ42 -> 9 | AV42: =AJ43 -> 3 | AW42: =AK42 -> ÷ | AX42: =AL42 -> 2 | AY42: =AL43 -> 4 | AZ42: ="=" -> = | BA42: =AM42 -> 36 | BB42: =AM43 -> 6
B43: Opération n° 1 | C43: =C5 -> 2 | D43: =D5 -> + | E43: =E5 -> 4 | J43: Opération n° 1 | K43: =C5 -> 2 | L43: =D5 -> + | M43: =E5 -> 4 | S43: 31 | T43: =IF($U$9>(S43-31),AT35,"") -> D1 | U43: =IF(S43>$U$6,IF(S43>($U$7+$U$6),IF(S43>($U$7+$U$6+$U$8),IF(S43>($U$7+$U$6+$U$8+$U$9),"",OFFSET(T43,(10-$U$6)+(10-$U$7)+(10-$U$8),0,1,1)),OFFSET(T43,(10-$U$6)+(10-$U$7),0,1,1)),OFFSET(T43,10-$U$6,0,1,1)),T43) | AD43: =INT(RAND()*8+2) -> 3 | AF43: =INT(RAND()*8+2) -> 9 | AG43: =AD43*AF43 -> 27 | AJ43: =INT(RAND()*8+2) -> 3 | AL43: =INT(RAND()*8+2) -> 4 | AM43: =AL42*AJ43 -> 6 | AS43: 39 | AT43: D9 | AU43: =AJ44 -> 8 | AV43: =AJ45 -> 9 | AW43: =AK44 -> ÷ | AX43: =AL44 -> 5 | AY43: =AL45 -> 8 | AZ43: ="=" -> = | BA43: =AM44 -> 64 | BB43: =AM45 -> 45
C44: ― | D44: =D6 -> 2 | E44: ― | F44: = | K44: ― | L44: =D6 -> 2 | M44: ― | N44: = | S44: 32 | T44: =IF($U$9>(S44-31),AT36,"") -> D2 | U44: =IF(S44>$U$6,IF(S44>($U$7+$U$6),IF(S44>($U$7+$U$6+$U$8),IF(S44>($U$7+$U$6+$U$8+$U$9),"",OFFSET(T44,(10-$U$6)+(10-$U$7)+(10-$U$8),0,1,1)),OFFSET(T44,(10-$U$6)+(10-$U$7),0,1,1)),OFFSET(T44,10-$U$6,0,1,1)),T44) | AC44: opération 9 | AD44: =INT(RAND()*8+2) -> 3 | AE44: × | AF44: =INT(RAND()*8+2) -> 3 | AG44: =AD44*AF44 -> 9 | AI44: opération 9 | AJ44: =INT(RAND()*8+2) -> 8 | AK44: ÷ | AL44: =INT(RAND()*8+2) -> 5 | AM44: =AJ44*AL45 -> 64 | AS44: 40 | AT44: D10 | AU44: =AJ46 -> 7 | AV44: =AJ47 -> 9 | AW44: =AK46 -> ÷ | AX44: =AL46 -> 6 | AY44: =AL47 -> 3 | AZ44: ="=" -> = | BA44: =AM46 -> 21 | BB44: =AM47 -> 54
C45: =C7 -> 3 | D45: =D7 -> 2 | E45: =E7 -> 15 | K45: =C7 -> 3 | L45: =D7 -> 2 | M45: =E7 -> 15 | S45: 33 | T45: =IF($U$9>(S45-31),AT37,"") | U45: =IF(S45>$U$6,IF(S45>($U$7+$U$6),IF(S45>($U$7+$U$6+$U$8),IF(S45>($U$7+$U$6+$U$8+$U$9),"",OFFSET(T45,(10-$U$6)+(10-$U$7)+(10-$U$8),0,1,1)),OFFSET(T45,(10-$U$6)+(10-$U$7),0,1,1)),OFFSET(T45,10-$U$6,0,1,1)),T45) | AD45: =INT(RAND()*8+2) -> 2 | AF45: =INT(RAND()*8+2) -> 8 | AG45: =AD45*AF45 -> 16 | AJ45: =INT(RAND()*8+2) -> 9 | AL45: =INT(RAND()*8+2) -> 8 | AM45: =AL44*AJ45 -> 45
B46: Opération n° 2 | C46: =C8 -> 27 | D46: =D8 -> - | E46: =E8 -> 2 | J46: Opération n° 2 | K46: =C8 -> 27 | L46: =D8 -> - | M46: =E8 -> 2 | S46: 34 | T46: =IF($U$9>(S46-31),AT38,"") | U46: =IF(S46>$U$6,IF(S46>($U$7+$U$6),IF(S46>($U$7+$U$6+$U$8),IF(S46>($U$7+$U$6+$U$8+$U$9),"",OFFSET(T46,(10-$U$6)+(10-$U$7)+(10-$U$8),0,1,1)),OFFSET(T46,(10-$U$6)+(10-$U$7),0,1,1)),OFFSET(T46,10-$U$6,0,1,1)),T46) | AC46: opération 10 | AD46: =INT(RAND()*8+2) -> 2 | AE46: × | AF46: =INT(RAND()*8+2) -> 6 | AG46: =AD46*AF46 -> 12 | AI46: opération 10 | AJ46: =INT(RAND()*8+2) -> 7 | AK46: ÷ | AL46: =INT(RAND()*8+2) -> 6 | AM46: =AJ46*AL47 -> 21
C47: ― | D47: =D9 -> 2 | E47: ― | F47: = | K47: ― | L47: =D9 -> 2 | M47: ― | N47: = | S47: 35 | T47: =IF($U$9>(S47-31),AT39,"") | U47: =IF(S47>$U$6,IF(S47>($U$7+$U$6),IF(S47>($U$7+$U$6+$U$8),IF(S47>($U$7+$U$6+$U$8+$U$9),"",OFFSET(T47,(10-$U$6)+(10-$U$7)+(10-$U$8),0,1,1)),OFFSET(T47,(10-$U$6)+(10-$U$7),0,1,1)),OFFSET(T47,10-$U$6,0,1,1)),T47) | AD47: =INT(RAND()*8+2) -> 8 | AF47: =INT(RAND()*8+2) -> 7 | AG47: =AD47*AF47 -> 56 | AJ47: =INT(RAND()*8+2) -> 9 | AL47: =INT(RAND()*8+2) -> 3 | AM47: =AL46*AJ47 -> 54
C48: =C10 -> 35 | D48: =D10 -> 2 | E48: =E10 -> 7 | K48: =C10 -> 35 | L48: =D10 -> 2 | M48: =E10 -> 7 | S48: 36 | T48: =IF($U$9>(S48-31),AT40,"") | U48: =IF(S48>$U$6,IF(S48>($U$7+$U$6),IF(S48>($U$7+$U$6+$U$8),IF(S48>($U$7+$U$6+$U$8+$U$9),"",OFFSET(T48,(10-$U$6)+(10-$U$7)+(10-$U$8),0,1,1)),OFFSET(T48,(10-$U$6)+(10-$U$7),0,1,1)),OFFSET(T48,10-$U$6,0,1,1)),T48)
B49: Opération n° 3 | C49: =C11 -> 2 | D49: =D11 -> - | E49: =E11 -> 4 | J49: Opération n° 3 | K49: =C11 -> 2 | L49: =D11 -> - | M49: =E11 -> 4 | S49: 37 | T49: =IF($U$9>(S49-31),AT41,"") | U49: =IF(S49>$U$6,IF(S49>($U$7+$U$6),IF(S49>($U$7+$U$6+$U$8),IF(S49>($U$7+$U$6+$U$8+$U$9),"",OFFSET(T49,(10-$U$6)+(10-$U$7)+(10-$U$8),0,1,1)),OFFSET(T49,(10-$U$6)+(10-$U$7),0,1,1)),OFFSET(T49,10-$U$6,0,1,1)),T49)
C50: ― | D50: =D12 -> 2 | E50: ― | F50: = | K50: ― | L50: =D12 -> 2 | M50: ― | N50: = | S50: 38 | T50: =IF($U$9>(S50-31),AT42,"") | U50: =IF(S50>$U$6,IF(S50>($U$7+$U$6),IF(S50>($U$7+$U$6+$U$8),IF(S50>($U$7+$U$6+$U$8+$U$9),"",OFFSET(T50,(10-$U$6)+(10-$U$7)+(10-$U$8),0,1,1)),OFFSET(T50,(10-$U$6)+(10-$U$7),0,1,1)),OFFSET(T50,10-$U$6,0,1,1)),T50)
C51: =C13 -> 5 | D51: =D13 -> 2 | E51: =E13 -> 40 | K51: =C13 -> 5 | L51: =D13 -> 2 | M51: =E13 -> 40 | S51: 39 | T51: =IF($U$9>(S51-31),AT43,"") | U51: =IF(S51>$U$6,IF(S51>($U$7+$U$6),IF(S51>($U$7+$U$6+$U$8),IF(S51>($U$7+$U$6+$U$8+$U$9),"",OFFSET(T51,(10-$U$6)+(10-$U$7)+(10-$U$8),0,1,1)),OFFSET(T51,(10-$U$6)+(10-$U$7),0,1,1)),OFFSET(T51,10-$U$6,0,1,1)),T51)
B52: Opération n° 4 | C52: =C14 -> 19 | D52: =D14 -> + | E52: =E14 -> 5 | J52: Opération n° 4 | K52: =C14 -> 19 | L52: =D14 -> + | M52: =E14 -> 5 | S52: 40 | T52: =IF($U$9>(S52-31),AT44,"") | U52: =IF(S52>$U$6,IF(S52>($U$7+$U$6),IF(S52>($U$7+$U$6+$U$8),IF(S52>($U$7+$U$6+$U$8+$U$9),"",OFFSET(T52,(10-$U$6)+(10-$U$7)+(10-$U$8),0,1,1)),OFFSET(T52,(10-$U$6)+(10-$U$7),0,1,1)),OFFSET(T52,10-$U$6,0,1,1)),T52)
C53: ― | D53: =D15 -> 2 | E53: ― | F53: = | K53: ― | L53: =D15 -> 2 | M53: ― | N53: =
C54: =C16 -> 72 | D54: =D16 -> 2 | E54: =E16 -> 8 | K54: =C16 -> 72 | L54: =D16 -> 2 | M54: =E16 -> 8
B55: Opération n° 5 | C55: =C17 -> 9 | D55: =D17 -> + | E55: =E17 -> 24 | J55: Opération n° 5 | K55: =C17 -> 9 | L55: =D17 -> + | M55: =E17 -> 24
C56: ― | D56: =D18 -> 2 | E56: ― | F56: = | K56: ― | L56: =D18 -> 2 | M56: ― | N56: =
C57: =C19 -> 8 | D57: =D19 -> 2 | E57: =E19 -> 32 | K57: =C19 -> 8 | L57: =D19 -> 2 | M57: =E19 -> 32
B58: Opération n° 6 | C58: =C20 -> 3 | D58: =D20 -> ÷ | E58: =E20 -> 8 | J58: Opération n° 6 | K58: =C20 -> 3 | L58: =D20 -> ÷ | M58: =E20 -> 8
C59: ― | D59: =D21 -> 2 | E59: ― | F59: = | K59: ― | L59: =D21 -> 2 | M59: ― | N59: =
C60: =C22 -> 2 | D60: =D22 -> 2 | E60: =E22 -> 3 | K60: =C22 -> 2 | L60: =D22 -> 2 | M60: =E22 -> 3
B61: Opération n° 7 | C61: =C23 -> 5 | D61: =D23 -> + | E61: =E23 -> 29 | J61: Opération n° 7 | K61: =C23 -> 5 | L61: =D23 -> + | M61: =E23 -> 29
C62: ― | D62: =D24 -> 2 | E62: ― | F62: = | K62: ― | L62: =D24 -> 2 | M62: ― | N62: =
C63: =C25 -> 9 | D63: =D25 -> 2 | E63: =E25 -> 36 | K63: =C25 -> 9 | L63: =D25 -> 2 | M63: =E25 -> 36
B64: Opération n° 8 | C64: =C26 -> 5 | D64: =D26 -> - | E64: =E26 -> 24 | J64: Opération n° 8 | K64: =C26 -> 5 | L64: =D26 -> - | M64: =E26 -> 24
C65: ― | D65: =D27 -> 2 | E65: ― | F65: = | K65: ― | L65: =D27 -> 2 | M65: ― | N65: =
C66: =C28 -> 6 | D66: =D28 -> 2 | E66: =E28 -> 42 | K66: =C28 -> 6 | L66: =D28 -> 2 | M66: =E28 -> 42
B67: Opération n° 9 | C67: =C29 -> 9 | D67: =D29 -> ÷ | E67: =E29 -> 7 | J67: Opération n° 9 | K67: =C29 -> 9 | L67: =D29 -> ÷ | M67: =E29 -> 7
C68: ― | D68: =D30 -> 2 | E68: ― | F68: = | K68: ― | L68: =D30 -> 2 | M68: ― | N68: =
C69: =C31 -> 4 | D69: =D31 -> 2 | E69: =E31 -> 4 | K69: =C31 -> 4 | L69: =D31 -> 2 | M69: =E31 -> 4
B70: Opération n° 10 | C70: =C32 -> 2 | D70: =D32 -> × | E70: =E32 -> 8 | J70: Opération n° 10 | K70: =C32 -> 2 | L70: =D32 -> × | M70: =E32 -> 8
C71: ― | D71: =D33 -> 2 | E71: ― | F71: = | K71: ― | L71: =D33 -> 2 | M71: ― | N71: =
C72: =C34 -> 9 | D72: =D34 -> 2 | E72: =E34 -> 9 | K72: =C34 -> 9 | L72: =D34 -> 2 | M72: =E34 -> 9
B76: CORRECTION :
B78: CONTRÔLE : Calcul de fractions
B80: Opération n° 1 | C80: =C5 -> 2 | D80: =D5 -> + | E80: =E5 -> 4 | G80: =VLOOKUP(INT($Z13),$AS$5:$BB$44,9) -> 14
C81: ― | D81: =#REF! -> #REF! | E81: ― | F81: = | G81: ―
C82: =C7 -> 3 | D82: =#REF! -> #REF! | E82: =E7 -> 15 | G82: =VLOOKUP(INT($Z13),$AS$5:$BB$44,10) -> 15
B83: Opération n° 2 | C83: =C8 -> 27 | D83: =D8 -> - | E83: =E8 -> 2 | G83: =VLOOKUP(INT($Z14),$AS$5:$BB$44,9) -> 17 | J83: Attention : les réponses affichées ne sont pas simplifiées ! Il faut donc comparer les valeurs decimales ou mettre sur le même dénominateur
C84: ― | D84: =#REF! -> #REF! | E84: ― | F84: = | G84: ―
C85: =C10 -> 35 | D85: =#REF! -> #REF! | E85: =E10 -> 7 | G85: =VLOOKUP(INT($Z14),$AS$5:$BB$44,10) -> 35
B86: Opération n° 3 | C86: =C11 -> 2 | D86: =D11 -> - | E86: =E11 -> 4 | G86: =VLOOKUP(INT($Z15),$AS$5:$BB$44,9) -> 12
C87: ― | D87: =#REF! -> #REF! | E87: ― | F87: = | G87: ―
C88: =C13 -> 5 | D88: =#REF! -> #REF! | E88: =E13 -> 40 | G88: =VLOOKUP(INT($Z15),$AS$5:$BB$44,10) -> 40
B89: Opération n° 4 | C89: =C14 -> 19 | D89: =D14 -> + | E89: =E14 -> 5 | G89: =VLOOKUP(INT($Z16),$AS$5:$BB$44,9) -> 64
C90: ― | D90: =#REF! -> #REF! | E90: ― | F90: = | G90: ―
C91: =C16 -> 72 | D91: =#REF! -> #REF! | E91: =E16 -> 8 | G91: =VLOOKUP(INT($Z16),$AS$5:$BB$44,10) -> 72
B92: Opération n° 5 | C92: =C17 -> 9 | D92: =D17 -> + | E92: =E17 -> 24 | G92: =VLOOKUP(INT($Z17),$AS$5:$BB$44,9) -> 60
C93: ― | D93: =#REF! -> #REF! | E93: ― | F93: = | G93: ―
C94: =C19 -> 8 | D94: =#REF! -> #REF! | E94: =E19 -> 32 | G94: =VLOOKUP(INT($Z17),$AS$5:$BB$44,10) -> 32
B95: Opération n° 6 | C95: =C20 -> 3 | D95: =D20 -> ÷ | E95: =E20 -> 8 | G95: =VLOOKUP(INT($Z18),$AS$5:$BB$44,9) -> 9
C96: ― | D96: =#REF! -> #REF! | E96: ― | F96: = | G96: ―
C97: =C22 -> 2 | D97: =#REF! -> #REF! | E97: =E22 -> 3 | G97: =VLOOKUP(INT($Z18),$AS$5:$BB$44,10) -> 16
B98: Opération n° 7 | C98: =C23 -> 5 | D98: =D23 -> + | E98: =E23 -> 29 | G98: =VLOOKUP(INT($Z19),$AS$5:$BB$44,9) -> 49
C99: ― | D99: =#REF! -> #REF! | E99: ― | F99: = | G99: ―
C100: =C25 -> 9 | D100: =#REF! -> #REF! | E100: =E25 -> 36 | G100: =VLOOKUP(INT($Z19),$AS$5:$BB$44,10) -> 36
B101: Opération n° 8 | C101: =C26 -> 5 | D101: =D26 -> - | E101: =E26 -> 24 | G101: =VLOOKUP(INT($Z20),$AS$5:$BB$44,9) -> 11
C102: ― | D102: =#REF! -> #REF! | E102: ― | F102: = | G102: ―
C103: =C28 -> 6 | D103: =#REF! -> #REF! | E103: =E28 -> 42 | G103: =VLOOKUP(INT($Z20),$AS$5:$BB$44,10) -> 42
B104: Opération n° 9 | C104: =C29 -> 9 | D104: =D29 -> ÷ | E104: =E29 -> 7 | G104: =VLOOKUP(INT($Z21),$AS$5:$BB$44,9) -> 36
C105: ― | D105: =#REF! -> #REF! | E105: ― | F105: = | G105: ―
...

Sheet Developpement (3e)
B2: NOM et PRENOM: | H2: Classe : | N2: NOM et PRENOM: | T2: Classe : | Z2: appuyer sur la touche F9 pour generer une nouvelle feuille
B4: CONTRÔLE : DEVELOPPEMENT | N4: CONTRÔLE : DEVELOPPEMENT
B10: 1 | C10: =AE15 -> ( 5x + 4) ( 8x + 1 ) = | N10: 1 | O10: =AE15 -> ( 5x + 4) ( 8x + 1 ) = | Z10: CTRL + P pour imprimer
B12: 2 | C12: =AE16 -> ( 7 + 2x ) ( 4x + 6 ) = | N12: 2 | O12: =AE16 -> ( 7 + 2x ) ( 4x + 6 ) =
AB13: OPERATIONS :
B14: 3 | C14: =AE17 -> ( 10x - 4) ( 5x + 8 ) = | N14: 3 | O14: =AE17 -> ( 10x - 4) ( 5x + 8 ) =
Z15: =INT(RAND()*10)+1 -> 5 | AA15: =INT(RAND()*10)+1 -> 4 | AB15: =INT(RAND()*10)+1 -> 8 | AC15: =INT(RAND()*10)+1 -> 1 | AE15: =CONCATENATE("( ",IF(Z15=1,"",Z15),"x + ",AA15,") ( ",IF(AB15=1,"",AB15),"x + ",AC15," ) =") -> ( 5x + 4) ( 8x + 1 ) = | AG15: =CONCATENATE(Z15*AB15,"x² + ",Z15*AC15+AA15*AB15,"x + ",AA15*AC15) -> 40x² + 37x + 4
B16: 4 | C16: =AE18 -> ( 10x - 8) ( 2x - 8 ) = | N16: 4 | O16: =AE18 -> ( 10x - 8) ( 2x - 8 ) = | Z16: =INT(RAND()*10)+1 -> 7 | AA16: =INT(RAND()*10)+1 -> 2 | AB16: =INT(RAND()*10)+1 -> 4 | AC16: =INT(RAND()*10)+1 -> 6 | AE16: =CONCATENATE("( ",Z16," + ",IF(AA16=1,"",AA16),"x ) ( ",IF(AB16=1,"",AB16),"x + ",AC16," ) =") -> ( 7 + 2x ) ( 4x + 6 ) = | AG16: =CONCATENATE(AA16*AB16,"x² + ",Z16*AB16+AA16*AC16,"x + ",Z16*AC16) -> 8x² + 40x + 42
Z17: =INT(RAND()*10)+1 -> 10 | AA17: =INT(RAND()*10)+1 -> 4 | AB17: =INT(RAND()*10)+1 -> 5 | AC17: =INT(RAND()*10)+1 -> 8 | AE17: =CONCATENATE("( ",IF(Z17=1,"",Z17),"x - ",AA17,") ( ",IF(AB17=1,"",AB17),"x + ",AC17," ) =") -> ( 10x - 4) ( 5x + 8 ) = | AG17: =CONCATENATE(Z17*AB17,"x²",IF(Z17*AC17-AA17*AB17<0,CONCATENATE(" - ",ABS(Z17*AC17-AA17*AB17),"x"),CONCATENATE(" + ",Z17*AC17-AA17*AB17,"x"))," - ",AA17*AC17) -> 50x² + 60x - 32
B18: 5 | C18: =AE19 -> ( 6 - 9x ) ( x + 6 ) = | N18: 5 | O18: =AE19 -> ( 6 - 9x ) ( x + 6 ) = | Z18: =INT(RAND()*10)+1 -> 10 | AA18: =INT(RAND()*10)+1 -> 8 | AB18: =INT(RAND()*10)+1 -> 2 | AC18: =INT(RAND()*10)+1 -> 8 | AE18: =CONCATENATE("( ",IF(Z18=1,"",Z18),"x - ",AA18,") ( ",IF(AB18=1,"",AB18),"x - ",AC18," ) =") -> ( 10x - 8) ( 2x - 8 ) = | AG18: =CONCATENATE(Z18*AB18,"x² - ",Z18*AC18+AA18*AB18,"x + ",AA18*AC18) -> 20x² - 96x + 64
Z19: =INT(RAND()*10)+1 -> 6 | AA19: =INT(RAND()*10)+1 -> 9 | AB19: =INT(RAND()*10)+1 -> 1 | AC19: =INT(RAND()*10)+1 -> 6 | AE19: =CONCATENATE("( ",Z19," - ",IF(AA19=1,"",AA19),"x ) ( ",IF(AB19=1,"",AB19),"x + ",AC19," ) =") -> ( 6 - 9x ) ( x + 6 ) = | AG19: =CONCATENATE("-",AA19*AB19,"x² ",IF(AI19<0,CONCATENATE("- ",ABS(AI19)),CONCATENATE("+ ",ABS(AI19))),"x + ",Z19*AC19) -> -9x² - 48x + 36 | AI19: =Z19*AB19-AA19*AC19 -> -48
B20: 6 | C20: =AE20 -> ( 5x + 1) ( 5x - 6 ) = | N20: 6 | O20: =AE20 -> ( 5x + 1) ( 5x - 6 ) = | Z20: =INT(RAND()*10)+1 -> 5 | AA20: =INT(RAND()*10)+1 -> 1 | AB20: =INT(RAND()*10)+1 -> 5 | AC20: =INT(RAND()*10)+1 -> 6 | AE20: =CONCATENATE("( ",IF(Z20=1,"",Z20),"x + ",AA20,") ( ",IF(AB20=1,"",AB20),"x - ",AC20," ) =") -> ( 5x + 1) ( 5x - 6 ) = | AG20: =CONCATENATE(Z20*AB20,"x² ",IF(AI20<0,CONCATENATE("- ",ABS(AI20)),CONCATENATE("+ ",ABS(AI20))),"x - ",AA20*AC20) -> 25x² - 25x - 6 | AI20: =-Z20*AC20+AA20*AB20 -> -25
Z21: =INT(RAND()*10)+1 -> 7 | AA21: =INT(RAND()*10)+1 -> 4 | AB21: =INT(RAND()*10)+1 -> 6 | AC21: =INT(RAND()*10)+1 -> 3 | AE21: =CONCATENATE("( ",IF(Z21=1,"",Z21),"x - ",AA21,") ( ",AB21," - ",IF(AC21=1,"",AC21),"x ) =") -> ( 7x - 4) ( 6 - 3x ) = | AG21: =CONCATENATE("-",Z21*AC21,"x² ",IF(AI21<0,CONCATENATE("- ",ABS(AI21)),CONCATENATE("+ ",ABS(AI21))),"x - ",AA21*AB21) -> -21x² + 54x - 24 | AI21: =Z21*AB21+AA21*AC21 -> 54
B22: 7 | C22: =AE21 -> ( 7x - 4) ( 6 - 3x ) = | N22: 7 | O22: =AE21 -> ( 7x - 4) ( 6 - 3x ) = | Z22: =INT(RAND()*10)+1 -> 3 | AA22: =INT(RAND()*10)+1 -> 1 | AB22: =INT(RAND()*10)+1 -> 5 | AC22: =INT(RAND()*10)+1 -> 10 | AE22: =CONCATENATE("( ",IF(Z22=1,"",Z22),"x + ",AA22,") ( ",AB22," + ",IF(AC22=1,"",AC22),"x ) =") -> ( 3x + 1) ( 5 + 10x ) = | AG22: =CONCATENATE(Z22*AC22,"x² ",IF(AI22<0,CONCATENATE("- ",ABS(AI22)),CONCATENATE("+ ",ABS(AI22))),"x + ",AA22*AB22) -> 30x² + 25x + 5 | AI22: =Z22*AB22+AA22*AC22 -> 25
Z23: =INT(RAND()*10)+1 -> 2 | AA23: =INT(RAND()*10)+1 -> 4 | AB23: =INT(RAND()*10)+1 -> 8 | AC23: =INT(RAND()*10)+1 -> 5 | AE23: =CONCATENATE("( ",Z23," - ",IF(AA23=1,"",AA23),"x ) ( ",AB23," - ",IF(AC23=1,"",AC23),"x ) =") -> ( 2 - 4x ) ( 8 - 5x ) = | AG23: =CONCATENATE(AA23*AC23,"x² ",IF(AI23<0,CONCATENATE("- ",ABS(AI23)),CONCATENATE("+ ",ABS(AI23))),"x + ",Z23*AB23) -> 20x² - 42x + 16 | AI23: =-Z23*AC23-AA23*AB23 -> -42
B24: 8 | C24: =AE22 -> ( 3x + 1) ( 5 + 10x ) = | N24: 8 | O24: =AE22 -> ( 3x + 1) ( 5 + 10x ) = | Z24: =INT(RAND()*10)+1 -> 8 | AA24: =INT(RAND()*10)+1 -> 2 | AB24: =INT(RAND()*10)+1 -> 5 | AC24: =INT(RAND()*10)+1 -> 9 | AE24: =CONCATENATE("( ",Z24," - ",IF(AA24=1,"",AA24),"x ) ( ",AB24," + ",IF(AC24=1,"",AC24),"x ) =") -> ( 8 - 2x ) ( 5 + 9x ) = | AG24: =CONCATENATE("-",AA24*AC24,"x² ",IF(AI24<0,CONCATENATE("- ",ABS(AI24)),CONCATENATE("+ ",ABS(AI24))),"x + ",Z24*AB24) -> -18x² + 62x + 40 | AI24: =Z24*AC24-AA24*AB24 -> 62
B26: 9 | C26: =AE23 -> ( 2 - 4x ) ( 8 - 5x ) = | N26: 9 | O26: =AE23 -> ( 2 - 4x ) ( 8 - 5x ) =
B28: 10 | C28: =AE24 -> ( 8 - 2x ) ( 5 + 9x ) = | N28: 10 | O28: =AE24 -> ( 8 - 2x ) ( 5 + 9x ) =
B32: NOM et PRENOM: | H32: Classe : | N32: NOM et PRENOM: | T32: Classe :
B34: CONTRÔLE : DEVELOPPEMENT | N34: CONTRÔLE : DEVELOPPEMENT
B40: 1 | C40: =AE15 -> ( 5x + 4) ( 8x + 1 ) = | N40: 1 | O40: =AE15 -> ( 5x + 4) ( 8x + 1 ) =
B42: 2 | C42: =AE16 -> ( 7 + 2x ) ( 4x + 6 ) = | N42: 2 | O42: =AE16 -> ( 7 + 2x ) ( 4x + 6 ) =
B44: 3 | C44: =AE17 -> ( 10x - 4) ( 5x + 8 ) = | N44: 3 | O44: =AE17 -> ( 10x - 4) ( 5x + 8 ) =
B46: 4 | C46: =AE18 -> ( 10x - 8) ( 2x - 8 ) = | N46: 4 | O46: =AE18 -> ( 10x - 8) ( 2x - 8 ) =
B48: 5 | C48: =AE19 -> ( 6 - 9x ) ( x + 6 ) = | N48: 5 | O48: =AE19 -> ( 6 - 9x ) ( x + 6 ) =
B50: 6 | C50: =AE20 -> ( 5x + 1) ( 5x - 6 ) = | N50: 6 | O50: =AE20 -> ( 5x + 1) ( 5x - 6 ) =
B52: 7 | C52: =AE21 -> ( 7x - 4) ( 6 - 3x ) = | N52: 7 | O52: =AE21 -> ( 7x - 4) ( 6 - 3x ) =
B54: 8 | C54: =AE22 -> ( 3x + 1) ( 5 + 10x ) = | N54: 8 | O54: =AE22 -> ( 3x + 1) ( 5 + 10x ) =
B56: 9 | C56: =AE23 -> ( 2 - 4x ) ( 8 - 5x ) = | N56: 9 | O56: =AE23 -> ( 2 - 4x ) ( 8 - 5x ) =
B58: 10 | C58: =AE24 -> ( 8 - 2x ) ( 5 + 9x ) = | N58: 10 | O58: =AE24 -> ( 8 - 2x ) ( 5 + 9x ) =
C62: CORRECTION
B64: CONTRÔLE : DEVELOPPEMENT
B70: 1 | C70: =AE15 -> ( 5x + 4) ( 8x + 1 ) = | G70: =AG15 -> 40x² + 37x + 4
B72: 2 | C72: =AE16 -> ( 7 + 2x ) ( 4x + 6 ) = | G72: =AG16 -> 8x² + 40x + 42
B74: 3 | C74: =AE17 -> ( 10x - 4) ( 5x + 8 ) = | G74: =AG17 -> 50x² + 60x - 32
B76: 4 | C76: =AE18 -> ( 10x - 8) ( 2x - 8 ) = | G76: =AG18 -> 20x² - 96x + 64
B78: 5 | C78: =AE19 -> ( 6 - 9x ) ( x + 6 ) = | G78: =AG19 -> -9x² - 48x + 36
B80: 6 | C80: =AE20 -> ( 5x + 1) ( 5x - 6 ) = | G80: =AG20 -> 25x² - 25x - 6
B82: 7 | C82: =AE21 -> ( 7x - 4) ( 6 - 3x ) = | G82: =AG21 -> -21x² + 54x - 24
B84: 8 | C84: =AE22 -> ( 3x + 1) ( 5 + 10x ) = | G84: =AG22 -> 30x² + 25x + 5
B86: 9 | C86: =AE23 -> ( 2 - 4x ) ( 8 - 5x ) = | G86: =AG23 -> 20x² - 42x + 16
B88: 10 | C88: =AE24 -> ( 8 - 2x ) ( 5 + 9x ) = | G88: =AG24 -> -18x² + 62x + 40

Sheet Suppression parenthèses (4e)
B2: NOM et PRENOM : | G2: Classe : | N2: NOM et PRENOM : | S2: Classe : | Z2: appuyer sur la touche F9 pour generer une nouvelle feuille
A4: CONTRÔLE : SUPPRESSION PARENTHESES | M4: CONTRÔLE : SUPPRESSION PARENTHESES
Z9: CTRL + P pour imprimer
A10: 1 | B10: =AG13 -> 4x - 6 - (6x + 1) = | M10: 1 | N10: =AG13 -> 4x - 6 - (6x + 1) =
A12: 2 | B12: =AG14 -> -4x - 8 - (-x - 9) = | M12: 2 | N12: =AG14 -> -4x - 8 - (-x - 9) = | Z12: Expression : | AJ12: Solution :
Z13: =(ROUND(RAND(),0)*2-1)*INT(RANDBETWEEN(1,9)) -> 4 | AA13: =INT(RAND()*2)+1 -> 2 | AB13: =INT(RAND()*10)+1 -> 6 | AC13: =INT(RAND()*2)+1 -> 2 | AD13: =(ROUND(RAND(),0)*2-1)*INT(RANDBETWEEN(1,9)) -> 6 | AE13: =INT(RAND()*2)+1 -> 1 | AF13: =INT(RAND()*10)+1 -> 1 | AG13: =CONCATENATE(IF(Z13=1,"",IF(Z13=-1,"-",Z13)),"x ",IF(AA13=1,"+ ","- "),AB13," ",IF(AC13=1,"+ ","- "),"(",IF(AD13=1,"",IF(AD13=-1,"-",AD13)),"x ",IF(AE13=1,"+","-")," ",AF13,")"," =") -> 4x - 6 - (6x + 1) = | AJ13: =IF(IF(AC13=1,Z13+AD13,Z13-AD13)=1," ",IF(IF(AC13=1,Z13+AD13,Z13-AD13)=-1,"-",IF(AC13=1,Z13+AD13,Z13-AD13))) -> -2 | AK13: =IF(AA13=1,IF(AC13=AE13,AB13+AF13,AB13-AF13),IF(AC13=AE13,-AB13+AF13,-AB13-AF13)) -> -7 | AL13: =CONCATENATE(IF(AJ13=0,"",CONCATENATE(AJ13,"x ")),IF(AK13=0,"",CONCATENATE(IF(AK13>0,"+ ","- "),ABS(AK13)))) -> -2x - 7 | AM13: =IF(LEFT(AL13,1)="+",RIGHT(AL13,2),AL13) -> -2x - 7
A14: 3 | B14: =AG15 -> -7x + 3 - (x + 10) = | M14: 3 | N14: =AG15 -> -7x + 3 - (x + 10) = | Z14: =(ROUND(RAND(),0)*2-1)*INT(RANDBETWEEN(1,9)) -> -4 | AA14: =INT(RAND()*2)+1 -> 2 | AB14: =INT(RAND()*10)+1 -> 8 | AC14: =INT(RAND()*2)+1 -> 2 | AD14: =(ROUND(RAND(),0)*2-1)*INT(RANDBETWEEN(1,9)) -> -1 | AE14: =INT(RAND()*2)+1 -> 2 | AF14: =INT(RAND()*10)+1 -> 9 | AG14: =CONCATENATE(IF(Z14=1,"",IF(Z14=-1,"-",Z14)),"x ",IF(AA14=1,"+ ","- "),AB14," ",IF(AC14=1,"+ ","- "),"(",IF(AD14=1,"",IF(AD14=-1,"-",AD14)),"x ",IF(AE14=1,"+","-")," ",AF14,")"," =") -> -4x - 8 - (-x - 9) = | AJ14: =IF(IF(AC14=1,Z14+AD14,Z14-AD14)=1," ",IF(IF(AC14=1,Z14+AD14,Z14-AD14)=-1,"-",IF(AC14=1,Z14+AD14,Z14-AD14))) -> -3 | AK14: =IF(AA14=1,IF(AC14=AE14,AB14+AF14,AB14-AF14),IF(AC14=AE14,-AB14+AF14,-AB14-AF14)) -> 1 | AL14: =CONCATENATE(IF(AJ14=0,"",CONCATENATE(AJ14,"x ")),IF(AK14=0,"",CONCATENATE(IF(AK14>0,"+ ","- "),ABS(AK14)))) -> -3x + 1 | AM14: =IF(LEFT(AL14,1)="+",RIGHT(AL14,2),AL14) -> -3x + 1
Z15: =(ROUND(RAND(),0)*2-1)*INT(RANDBETWEEN(1,9)) -> -7 | AA15: =INT(RAND()*2)+1 -> 1 | AB15: =INT(RAND()*10)+1 -> 3 | AC15: =INT(RAND()*2)+1 -> 2 | AD15: =(ROUND(RAND(),0)*2-1)*INT(RANDBETWEEN(1,9)) -> 1 | AE15: =INT(RAND()*2)+1 -> 1 | AF15: =INT(RAND()*10)+1 -> 10 | AG15: =CONCATENATE(IF(Z15=1,"",IF(Z15=-1,"-",Z15)),"x ",IF(AA15=1,"+ ","- "),AB15," ",IF(AC15=1,"+ ","- "),"(",IF(AD15=1,"",IF(AD15=-1,"-",AD15)),"x ",IF(AE15=1,"+","-")," ",AF15,")"," =") -> -7x + 3 - (x + 10) = | AJ15: =IF(IF(AC15=1,Z15+AD15,Z15-AD15)=1," ",IF(IF(AC15=1,Z15+AD15,Z15-AD15)=-1,"-",IF(AC15=1,Z15+AD15,Z15-AD15))) -> -8 | AK15: =IF(AA15=1,IF(AC15=AE15,AB15+AF15,AB15-AF15),IF(AC15=AE15,-AB15+AF15,-AB15-AF15)) -> -7 | AL15: =CONCATENATE(IF(AJ15=0,"",CONCATENATE(AJ15,"x ")),IF(AK15=0,"",CONCATENATE(IF(AK15>0,"+ ","- "),ABS(AK15)))) -> -8x - 7 | AM15: =IF(LEFT(AL15,1)="+",RIGHT(AL15,2),AL15) -> -8x - 7
A16: 4 | B16: =AG16 -> -9x - 2 - (4x - 3) = | M16: 4 | N16: =AG16 -> -9x - 2 - (4x - 3) = | Z16: =(ROUND(RAND(),0)*2-1)*INT(RANDBETWEEN(1,9)) -> -9 | AA16: =INT(RAND()*2)+1 -> 2 | AB16: =INT(RAND()*10)+1 -> 2 | AC16: =INT(RAND()*2)+1 -> 2 | AD16: =(ROUND(RAND(),0)*2-1)*INT(RANDBETWEEN(1,9)) -> 4 | AE16: =INT(RAND()*2)+1 -> 2 | AF16: =INT(RAND()*10)+1 -> 3 | AG16: =CONCATENATE(IF(Z16=1,"",IF(Z16=-1,"-",Z16)),"x ",IF(AA16=1,"+ ","- "),AB16," ",IF(AC16=1,"+ ","- "),"(",IF(AD16=1,"",IF(AD16=-1,"-",AD16)),"x ",IF(AE16=1,"+","-")," ",AF16,")"," =") -> -9x - 2 - (4x - 3) = | AJ16: =IF(IF(AC16=1,Z16+AD16,Z16-AD16)=1," ",IF(IF(AC16=1,Z16+AD16,Z16-AD16)=-1,"-",IF(AC16=1,Z16+AD16,Z16-AD16))) -> -13 | AK16: =IF(AA16=1,IF(AC16=AE16,AB16+AF16,AB16-AF16),IF(AC16=AE16,-AB16+AF16,-AB16-AF16)) -> 1 | AL16: =CONCATENATE(IF(AJ16=0,"",CONCATENATE(AJ16,"x ")),IF(AK16=0,"",CONCATENATE(IF(AK16>0,"+ ","- "),ABS(AK16)))) -> -13x + 1 | AM16: =IF(LEFT(AL16,1)="+",RIGHT(AL16,2),AL16) -> -13x + 1
Z17: =(ROUND(RAND(),0)*2-1)*INT(RANDBETWEEN(1,9)) -> -2 | AA17: =INT(RAND()*2)+1 -> 1 | AB17: =INT(RAND()*10)+1 -> 3 | AC17: =INT(RAND()*2)+1 -> 2 | AD17: =(ROUND(RAND(),0)*2-1)*INT(RANDBETWEEN(1,9)) -> -4 | AE17: =INT(RAND()*2)+1 -> 1 | AF17: =INT(RAND()*10)+1 -> 4 | AG17: =CONCATENATE(IF(Z17=1,"",IF(Z17=-1,"-",Z17)),"x ",IF(AA17=1,"+ ","- "),AB17," ",IF(AC17=1,"+ ","- "),"(",IF(AD17=1,"",IF(AD17=-1,"-",AD17)),"x ",IF(AE17=1,"+","-")," ",AF17,")"," =") -> -2x + 3 - (-4x + 4) = | AJ17: =IF(IF(AC17=1,Z17+AD17,Z17-AD17)=1," ",IF(IF(AC17=1,Z17+AD17,Z17-AD17)=-1,"-",IF(AC17=1,Z17+AD17,Z17-AD17))) -> 2 | AK17: =IF(AA17=1,IF(AC17=AE17,AB17+AF17,AB17-AF17),IF(AC17=AE17,-AB17+AF17,-AB17-AF17)) -> -1 | AL17: =CONCATENATE(IF(AJ17=0,"",CONCATENATE(AJ17,"x ")),IF(AK17=0,"",CONCATENATE(IF(AK17>0,"+ ","- "),ABS(AK17)))) -> 2x - 1 | AM17: =IF(LEFT(AL17,1)="+",RIGHT(AL17,2),AL17) -> 2x - 1
A18: 5 | B18: =AG17 -> -2x + 3 - (-4x + 4) = | M18: 5 | N18: =AG17 -> -2x + 3 - (-4x + 4) = | Z18: =(ROUND(RAND(),0)*2-1)*INT(RANDBETWEEN(1,9)) -> -6 | AA18: =INT(RAND()*2)+1 -> 2 | AB18: =INT(RAND()*10)+1 -> 7 | AC18: =INT(RAND()*2)+1 -> 2 | AD18: =(ROUND(RAND(),0)*2-1)*INT(RANDBETWEEN(1,9)) -> -6 | AE18: =INT(RAND()*2)+1 -> 1 | AF18: =INT(RAND()*10)+1 -> 3 | AG18: =CONCATENATE(IF(Z18=1,"",IF(Z18=-1,"-",Z18)),"x ",IF(AA18=1,"+ ","- "),AB18," ",IF(AC18=1,"+ ","- "),"(",IF(AD18=1,"",IF(AD18=-1,"-",AD18)),"x ",IF(AE18=1,"+","-")," ",AF18,")"," =") -> -6x - 7 - (-6x + 3) = | AJ18: =IF(IF(AC18=1,Z18+AD18,Z18-AD18)=1," ",IF(IF(AC18=1,Z18+AD18,Z18-AD18)=-1,"-",IF(AC18=1,Z18+AD18,Z18-AD18))) -> 0 | AK18: =IF(AA18=1,IF(AC18=AE18,AB18+AF18,AB18-AF18),IF(AC18=AE18,-AB18+AF18,-AB18-AF18)) -> -10 | AL18: =CONCATENATE(IF(AJ18=0,"",CONCATENATE(AJ18,"x ")),IF(AK18=0,"",CONCATENATE(IF(AK18>0,"+ ","- "),ABS(AK18)))) -> - 10 | AM18: =IF(LEFT(AL18,1)="+",RIGHT(AL18,2),AL18) -> - 10
Z19: =(ROUND(RAND(),0)*2-1)*INT(RANDBETWEEN(1,9)) -> -3 | AA19: =INT(RAND()*2)+1 -> 2 | AB19: =INT(RAND()*10)+1 -> 3 | AC19: =INT(RAND()*2)+1 -> 1 | AD19: =(ROUND(RAND(),0)*2-1)*INT(RANDBETWEEN(1,9)) -> -2 | AE19: =INT(RAND()*2)+1 -> 2 | AF19: =INT(RAND()*10)+1 -> 9 | AG19: =CONCATENATE(IF(Z19=1,"",IF(Z19=-1,"-",Z19)),"x ",IF(AA19=1,"+ ","- "),AB19," ",IF(AC19=1,"+ ","- "),"(",IF(AD19=1,"",IF(AD19=-1,"-",AD19)),"x ",IF(AE19=1,"+","-")," ",AF19,")"," =") -> -3x - 3 + (-2x - 9) = | AJ19: =IF(IF(AC19=1,Z19+AD19,Z19-AD19)=1," ",IF(IF(AC19=1,Z19+AD19,Z19-AD19)=-1,"-",IF(AC19=1,Z19+AD19,Z19-AD19))) -> -5 | AK19: =IF(AA19=1,IF(AC19=AE19,AB19+AF19,AB19-AF19),IF(AC19=AE19,-AB19+AF19,-AB19-AF19)) -> -12 | AL19: =CONCATENATE(IF(AJ19=0,"",CONCATENATE(AJ19,"x ")),IF(AK19=0,"",CONCATENATE(IF(AK19>0,"+ ","- "),ABS(AK19)))) -> -5x - 12 | AM19: =IF(LEFT(AL19,1)="+",RIGHT(AL19,2),AL19) -> -5x - 12
A20: 6 | B20: =AG18 -> -6x - 7 - (-6x + 3) = | M20: 6 | N20: =AG18 -> -6x - 7 - (-6x + 3) = | Z20: =(ROUND(RAND(),0)*2-1)*INT(RANDBETWEEN(1,9)) -> 8 | AA20: =INT(RAND()*2)+1 -> 1 | AB20: =INT(RAND()*10)+1 -> 6 | AC20: =INT(RAND()*2)+1 -> 1 | AD20: =(ROUND(RAND(),0)*2-1)*INT(RANDBETWEEN(1,9)) -> -8 | AE20: =INT(RAND()*2)+1 -> 1 | AF20: =INT(RAND()*10)+1 -> 5 | AG20: =CONCATENATE(IF(Z20=1,"",IF(Z20=-1,"-",Z20)),"x ",IF(AA20=1,"+ ","- "),AB20," ",IF(AC20=1,"+ ","- "),"(",IF(AD20=1,"",IF(AD20=-1,"-",AD20)),"x ",IF(AE20=1,"+","-")," ",AF20,")"," =") -> 8x + 6 + (-8x + 5) = | AJ20: =IF(IF(AC20=1,Z20+AD20,Z20-AD20)=1," ",IF(IF(AC20=1,Z20+AD20,Z20-AD20)=-1,"-",IF(AC20=1,Z20+AD20,Z20-AD20))) -> 0 | AK20: =IF(AA20=1,IF(AC20=AE20,AB20+AF20,AB20-AF20),IF(AC20=AE20,-AB20+AF20,-AB20-AF20)) -> 11 | AL20: =CONCATENATE(IF(AJ20=0,"",CONCATENATE(AJ20,"x ")),IF(AK20=0,"",CONCATENATE(IF(AK20>0,"+ ","- "),ABS(AK20)))) -> + 11 | AM20: =IF(LEFT(AL20,1)="+",RIGHT(AL20,2),AL20) -> 11
Z21: =(ROUND(RAND(),0)*2-1)*INT(RANDBETWEEN(1,9)) -> 3 | AA21: =INT(RAND()*2)+1 -> 2 | AB21: =INT(RAND()*10)+1 -> 6 | AC21: =INT(RAND()*2)+1 -> 1 | AD21: =(ROUND(RAND(),0)*2-1)*INT(RANDBETWEEN(1,9)) -> -6 | AE21: =INT(RAND()*2)+1 -> 2 | AF21: =INT(RAND()*10)+1 -> 6 | AG21: =CONCATENATE(IF(Z21=1,"",IF(Z21=-1,"-",Z21)),"x ",IF(AA21=1,"+ ","- "),AB21," ",IF(AC21=1,"+ ","- "),"(",IF(AD21=1,"",IF(AD21=-1,"-",AD21)),"x ",IF(AE21=1,"+","-")," ",AF21,")"," =") -> 3x - 6 + (-6x - 6) = | AJ21: =IF(IF(AC21=1,Z21+AD21,Z21-AD21)=1," ",IF(IF(AC21=1,Z21+AD21,Z21-AD21)=-1,"-",IF(AC21=1,Z21+AD21,Z21-AD21))) -> -3 | AK21: =IF(AA21=1,IF(AC21=AE21,AB21+AF21,AB21-AF21),IF(AC21=AE21,-AB21+AF21,-AB21-AF21)) -> -12 | AL21: =CONCATENATE(IF(AJ21=0,"",CONCATENATE(AJ21,"x ")),IF(AK21=0,"",CONCATENATE(IF(AK21>0,"+ ","- "),ABS(AK21)))) -> -3x - 12 | AM21: =IF(LEFT(AL21,1)="+",RIGHT(AL21,2),AL21) -> -3x - 12
A22: 7 | B22: =AG19 -> -3x - 3 + (-2x - 9) = | M22: 7 | N22: =AG19 -> -3x - 3 + (-2x - 9) = | Z22: =(ROUND(RAND(),0)*2-1)*INT(RANDBETWEEN(1,9)) -> 6 | AA22: =INT(RAND()*2)+1 -> 2 | AB22: =INT(RAND()*10)+1 -> 2 | AC22: =INT(RAND()*2)+1 -> 1 | AD22: =(ROUND(RAND(),0)*2-1)*INT(RANDBETWEEN(1,9)) -> -7 | AE22: =INT(RAND()*2)+1 -> 2 | AF22: =INT(RAND()*10)+1 -> 3 | AG22: =CONCATENATE(IF(Z22=1,"",IF(Z22=-1,"-",Z22)),"x ",IF(AA22=1,"+ ","- "),AB22," ",IF(AC22=1,"+ ","- "),"(",IF(AD22=1,"",IF(AD22=-1,"-",AD22)),"x ",IF(AE22=1,"+","-")," ",AF22,")"," =") -> 6x - 2 + (-7x - 3) = | AJ22: =IF(IF(AC22=1,Z22+AD22,Z22-AD22)=1," ",IF(IF(AC22=1,Z22+AD22,Z22-AD22)=-1,"-",IF(AC22=1,Z22+AD22,Z22-AD22))) -> - | AK22: =IF(AA22=1,IF(AC22=AE22,AB22+AF22,AB22-AF22),IF(AC22=AE22,-AB22+AF22,-AB22-AF22)) -> -5 | AL22: =CONCATENATE(IF(AJ22=0,"",CONCATENATE(AJ22,"x ")),IF(AK22=0,"",CONCATENATE(IF(AK22>0,"+ ","- "),ABS(AK22)))) -> -x - 5 | AM22: =IF(LEFT(AL22,1)="+",RIGHT(AL22,2),AL22) -> -x - 5
A24: 8 | B24: =AG20 -> 8x + 6 + (-8x + 5) = | M24: 8 | N24: =AG20 -> 8x + 6 + (-8x + 5) =
A26: 9 | B26: =AG21 -> 3x - 6 + (-6x - 6) = | M26: 9 | N26: =AG21 -> 3x - 6 + (-6x - 6) =
A28: 10 | B28: =AG22 -> 6x - 2 + (-7x - 3) = | M28: 10 | N28: =AG22 -> 6x - 2 + (-7x - 3) =
B33: NOM et PRENOM : | G33: Classe : | N33: NOM et PRENOM : | S33: Classe :
A35: CONTRÔLE : SUPPRESSION PARENTHESES | M35: CONTRÔLE : SUPPRESSION PARENTHESES
A41: 1 | B41: =AG13 -> 4x - 6 - (6x + 1) = | M41: 1 | N41: =AG13 -> 4x - 6 - (6x + 1) =
A43: 2 | B43: =AG14 -> -4x - 8 - (-x - 9) = | M43: 2 | N43: =AG14 -> -4x - 8 - (-x - 9) =
A45: 3 | B45: =AG15 -> -7x + 3 - (x + 10) = | M45: 3 | N45: =AG15 -> -7x + 3 - (x + 10) =
A47: 4 | B47: =AG16 -> -9x - 2 - (4x - 3) = | M47: 4 | N47: =AG16 -> -9x - 2 - (4x - 3) =
A49: 5 | B49: =AG17 -> -2x + 3 - (-4x + 4) = | M49: 5 | N49: =AG17 -> -2x + 3 - (-4x + 4) =
A51: 6 | B51: =AG18 -> -6x - 7 - (-6x + 3) = | M51: 6 | N51: =AG18 -> -6x - 7 - (-6x + 3) =
A53: 7 | B53: =AG19 -> -3x - 3 + (-2x - 9) = | M53: 7 | N53: =AG19 -> -3x - 3 + (-2x - 9) =
A55: 8 | B55: =AG20 -> 8x + 6 + (-8x + 5) = | M55: 8 | N55: =AG20 -> 8x + 6 + (-8x + 5) =
A57: 9 | B57: =AG21 -> 3x - 6 + (-6x - 6) = | M57: 9 | N57: =AG21 -> 3x - 6 + (-6x - 6) =
A59: 10 | B59: =AG22 -> 6x - 2 + (-7x - 3) = | M59: 10 | N59: =AG22 -> 6x - 2 + (-7x - 3) =
B64: NOM et PRENOM : | G64: Classe : | N64: NOM et PRENOM : | S64: Classe :
A66: CONTRÔLE : SUPPRESSION PARENTHESES | M66: CONTRÔLE : SUPPRESSION PARENTHESES
A72: 1 | B72: =AG13 -> 4x - 6 - (6x + 1) = | M72: 1 | N72: =AG13 -> 4x - 6 - (6x + 1) =
A74: 2 | B74: =AG14 -> -4x - 8 - (-x - 9) = | M74: 2 | N74: =AG14 -> -4x - 8 - (-x - 9) =
A76: 3 | B76: =AG15 -> -7x + 3 - (x + 10) = | M76: 3 | N76: =AG15 -> -7x + 3 - (x + 10) =
A78: 4 | B78: =AG16 -> -9x - 2 - (4x - 3) = | M78: 4 | N78: =AG16 -> -9x - 2 - (4x - 3) =
A80: 5 | B80: =AG17 -> -2x + 3 - (-4x + 4) = | M80: 5 | N80: =AG17 -> -2x + 3 - (-4x + 4) =
A82: 6 | B82: =AG18 -> -6x - 7 - (-6x + 3) = | M82: 6 | N82: =AG18 -> -6x - 7 - (-6x + 3) =
A84: 7 | B84: =AG19 -> -3x - 3 + (-2x - 9) = | M84: 7 | N84: =AG19 -> -3x - 3 + (-2x - 9) =
A86: 8 | B86: =AG20 -> 8x + 6 + (-8x + 5) = | M86: 8 | N86: =AG20 -> 8x + 6 + (-8x + 5) =
A88: 9 | B88: =AG21 -> 3x - 6 + (-6x - 6) = | M88: 9 | N88: =AG21 -> 3x - 6 + (-6x - 6) =
A90: 10 | B90: =AG22 -> 6x - 2 + (-7x - 3) = | M90: 10 | N90: =AG22 -> 6x - 2 + (-7x - 3) =
A96: CORRECTION
A102: 1 | B102: =AG13 -> 4x - 6 - (6x + 1) = | F102: =AM13 -> -2x - 7
A104: 2 | B104: =AG14 -> -4x - 8 - (-x - 9) = | F104: =AM14 -> -3x + 1
A106: 3 | B106: =AG15 -> -7x + 3 - (x + 10) = | F106: =AM15 -> -8x - 7
A108: 4 | B108: =AG16 -> -9x - 2 - (4x - 3) = | F108: =AM16 -> -13x + 1
A110: 5 | B110: =AG17 -> -2x + 3 - (-4x + 4) = | F110: =AM17 -> 2x - 1
A112: 6 | B112: =AG18 -> -6x - 7 - (-6x + 3) = | F112: =AM18 -> - 10
A114: 7 | B114: =AG19 -> -3x - 3 + (-2x - 9) = | F114: =AM19 -> -5x - 12
A116: 8 | B116: =AG20 -> 8x + 6 + (-8x + 5) = | F116: =AM20 -> 11
A118: 9 | B118: =AG21 -> 3x - 6 + (-6x - 6) = | F118: =AM21 -> -3x - 12
A120: 10 | B120: =AG22 -> 6x - 2 + (-7x - 3) = | F120: =AM22 -> -x - 5

Sheet Relatifs (4e 3e)
B1: NOM et PRENOM : | G1: Classe : | J1: NOM et PRENOM : | O1: Classe :
AA2: OPERATIONS GENEREES ALEATOIREMENT (NE PAS MODIFIER)
B3: CONTRÔLE : Nombres relatifs | J3: CONTRÔLE : Nombres relatifs
S4: Choix des opérations : | AA4: Liste des opérations : | AS4: Listing des opérations pour le tirage
B5: Opération n° 1 | C5: =VLOOKUP(INT(Z13),$AS$5:$AV$44,3) -> -3 + 18 = | J5: Opération n° 1 | K5: =VLOOKUP(INT(Z13),$AS$5:$AV$44,3) -> -3 + 18 = | AA5: + | AC5: ADDITIONS : | AD5: =INT(RAND()*2) -> 0 | AE5: =IF(AD5=1,INT(RAND()*20+1),-1*INT(RAND()*20+1)) -> -17 | AF5: + | AG5: =INT(RAND()*2) -> 1 | AH5: =IF(AG5=1,INT(RAND()*20+1),-1*INT(RAND()*20+1)) -> 12 | AI5: =IF(AH5<0,CONCATENATE("( ",AH5,")"),AH5) -> 12 | AJ5: =CONCATENATE(AE5," ",AF5," ",AI5," =") -> -17 + 12 = | AL5: =AE5+AH5 -> -5 | AS5: 1 | AT5: A1 | AU5: =AJ5 -> -17 + 12 = | AV5: =AL5 -> -5
S6: Nombres de + | U6: 10 | X6: CHOISIR 10 ou 20 OPERATIONS (10 opérations max. par type) | AA6: - | AD6: =INT(RAND()*2) -> 0 | AE6: =IF(AD6=1,INT(RAND()*20+1),-1*INT(RAND()*20+1)) -> -3 | AF6: + | AG6: =INT(RAND()*2) -> 1 | AH6: =IF(AG6=1,INT(RAND()*20+1),-1*INT(RAND()*20+1)) -> 18 | AI6: =IF(AH6<0,CONCATENATE("( ",AH6,")"),AH6) -> 18 | AJ6: =CONCATENATE(AE6," ",AF6," ",AI6," =") -> -3 + 18 = | AL6: =AE6+AH6 -> 15 | AS6: 2 | AT6: A2 | AU6: =AJ6 -> -3 + 18 = | AV6: =AL6 -> 15
S7: Nombres de - | U7: 10 | AA7: × | AD7: =INT(RAND()*2) -> 0 | AE7: =IF(AD7=1,INT(RAND()*20+1),-1*INT(RAND()*20+1)) -> -5 | AF7: + | AG7: =INT(RAND()*2) -> 0 | AH7: =IF(AG7=1,INT(RAND()*20+1),-1*INT(RAND()*20+1)) -> -5 | AI7: =IF(AH7<0,CONCATENATE("( ",AH7,")"),AH7) -> ( -5) | AJ7: =CONCATENATE(AE7," ",AF7," ",AI7," =") -> -5 + ( -5) = | AL7: =AE7+AH7 -> -10 | AS7: 3 | AT7: A3 | AU7: =AJ7 -> -5 + ( -5) = | AV7: =AL7 -> -10
B8: Opération n° 2 | C8: =VLOOKUP(INT(Z14),$AS$5:$AV$44,3) -> -18 + 18 = | J8: Opération n° 2 | K8: =VLOOKUP(INT(Z14),$AS$5:$AV$44,3) -> -18 + 18 = | S8: Nombres de × | U8: 0 | AA8: ÷ | AD8: =INT(RAND()*2) -> 0 | AE8: =IF(AD8=1,INT(RAND()*20+1),-1*INT(RAND()*20+1)) -> -18 | AF8: + | AG8: =INT(RAND()*2) -> 1 | AH8: =IF(AG8=1,INT(RAND()*20+1),-1*INT(RAND()*20+1)) -> 18 | AI8: =IF(AH8<0,CONCATENATE("( ",AH8,")"),AH8) -> 18 | AJ8: =CONCATENATE(AE8," ",AF8," ",AI8," =") -> -18 + 18 = | AL8: =AE8+AH8 -> 0 | AS8: 4 | AT8: A4 | AU8: =AJ8 -> -18 + 18 = | AV8: =AL8 -> 0
S9: Nombres de ÷ | U9: 0 | AD9: =INT(RAND()*2) -> 0 | AE9: =IF(AD9=1,INT(RAND()*20+1),-1*INT(RAND()*20+1)) -> -6 | AF9: + | AG9: =INT(RAND()*2) -> 0 | AH9: =IF(AG9=1,INT(RAND()*20+1),-1*INT(RAND()*20+1)) -> -17 | AI9: =IF(AH9<0,CONCATENATE("( ",AH9,")"),AH9) -> ( -17) | AJ9: =CONCATENATE(AE9," ",AF9," ",AI9," =") -> -6 + ( -17) = | AL9: =AE9+AH9 -> -23 | AS9: 5 | AT9: A5 | AU9: =AJ9 -> -6 + ( -17) = | AV9: =AL9 -> -23
S10: TOTAL = | U10: =SUM(U6:U9) -> 20 | AD10: =INT(RAND()*2) -> 0 | AE10: =IF(AD10=1,INT(RAND()*20+1),-1*INT(RAND()*20+1)) -> -3 | AF10: + | AG10: =INT(RAND()*2) -> 0 | AH10: =IF(AG10=1,INT(RAND()*20+1),-1*INT(RAND()*20+1)) -> -10 | AI10: =IF(AH10<0,CONCATENATE("( ",AH10,")"),AH10) -> ( -10) | AJ10: =CONCATENATE(AE10," ",AF10," ",AI10," =") -> -3 + ( -10) = | AL10: =AE10+AH10 -> -13 | AS10: 6 | AT10: A6 | AU10: =AJ10 -> -3 + ( -10) = | AV10: =AL10 -> -13
B11: Opération n° 3 | C11: =VLOOKUP(INT(Z15),$AS$5:$AV$44,3) -> 18 + 18 = | J11: Opération n° 3 | K11: =VLOOKUP(INT(Z15),$AS$5:$AV$44,3) -> 18 + 18 = | AD11: =INT(RAND()*2) -> 0 | AE11: =IF(AD11=1,INT(RAND()*20+1),-1*INT(RAND()*20+1)) -> -5 | AF11: + | AG11: =INT(RAND()*2) -> 1 | AH11: =IF(AG11=1,INT(RAND()*20+1),-1*INT(RAND()*20+1)) -> 9 | AI11: =IF(AH11<0,CONCATENATE("( ",AH11,")"),AH11) -> 9 | AJ11: =CONCATENATE(AE11," ",AF11," ",AI11," =") -> -5 + 9 = | AL11: =AE11+AH11 -> 4 | AS11: 7 | AT11: A7 | AU11: =AJ11 -> -5 + 9 = | AV11: =AL11 -> 4
S12: RECHERCHE des opérations | X12: Mélange des opérations | AD12: =INT(RAND()*2) -> 1 | AE12: =IF(AD12=1,INT(RAND()*20+1),-1*INT(RAND()*20+1)) -> 18 | AF12: + | AG12: =INT(RAND()*2) -> 1 | AH12: =IF(AG12=1,INT(RAND()*20+1),-1*INT(RAND()*20+1)) -> 18 | AI12: =IF(AH12<0,CONCATENATE("( ",AH12,")"),AH12) -> 18 | AJ12: =CONCATENATE(AE12," ",AF12," ",AI12," =") -> 18 + 18 = | AL12: =AE12+AH12 -> 36 | AS12: 8 | AT12: A8 | AU12: =AJ12 -> 18 + 18 = | AV12: =AL12 -> 36
S13: 1 | T13: =IF($U$6>(S13-1),AT5,"") -> A1 | U13: =IF(S13>$U$6,IF(S13>($U$7+$U$6),IF(S13>($U$7+$U$6+$U$8),IF(S13>($U$7+$U$6+$U$8+$U$9),"",OFFSET(T13,(10-$U$6)+(10-$U$7)+(10-$U$8),0,1,1)),OFFSET(T13,(10-$U$6)+(10-$U$7),0,1,1)),OFFSET(T13,10-$U$6,0,1,1)),T13) -> A1 | X13: =INDEX($U$13:$U$22,'tirages aléatoires'!C4,1) -> A2 | Z13: =IF(RIGHT(X13)="0",IF(LEFT(X13)="A",10,IF(LEFT(X13)="M",30,IF(LEFT(X13)="S",20,40))),IF(LEFT(X13)="A",RIGHT(X13),IF(LEFT(X13)="M",RIGHT(X13)+20,IF(LEFT(X13)="S",RIGHT(X13)+10,RIGHT(X13)+30)))) -> 2 | AD13: =INT(RAND()*2) -> 0 | AE13: =IF(AD13=1,INT(RAND()*20+1),-1*INT(RAND()*20+1)) -> -3 | AF13: + | AG13: =INT(RAND()*2) -> 1 | AH13: =IF(AG13=1,INT(RAND()*20+1),-1*INT(RAND()*20+1)) -> 17 | AI13: =IF(AH13<0,CONCATENATE("( ",AH13,")"),AH13) -> 17 | AJ13: =CONCATENATE(AE13," ",AF13," ",AI13," =") -> -3 + 17 = | AL13: =AE13+AH13 -> 14 | AS13: 9 | AT13: A9 | AU13: =AJ13 -> -3 + 17 = | AV13: =AL13 -> 14
B14: Opération n° 4 | C14: =VLOOKUP(INT(Z16),$AS$5:$AV$44,3) -> -5 + ( -5) = | J14: Opération n° 4 | K14: =VLOOKUP(INT(Z16),$AS$5:$AV$44,3) -> -5 + ( -5) = | S14: 2 | T14: =IF($U$6>(S14-1),AT6,"") -> A2 | U14: =IF(S14>$U$6,IF(S14>($U$7+$U$6),IF(S14>($U$7+$U$6+$U$8),IF(S14>($U$7+$U$6+$U$8+$U$9),"",OFFSET(T14,(10-$U$6)+(10-$U$7)+(10-$U$8),0,1,1)),OFFSET(T14,(10-$U$6)+(10-$U$7),0,1,1)),OFFSET(T14,10-$U$6,0,1,1)),T14) -> A2 | X14: =INDEX($U$13:$U$22,'tirages aléatoires'!C5,1) -> A4 | Z14: =IF(RIGHT(X14)="0",IF(LEFT(X14)="A",10,IF(LEFT(X14)="M",30,IF(LEFT(X14)="S",20,40))),IF(LEFT(X14)="A",RIGHT(X14),IF(LEFT(X14)="M",RIGHT(X14)+20,IF(LEFT(X14)="S",RIGHT(X14)+10,RIGHT(X14)+30)))) -> 4 | AD14: =INT(RAND()*2) -> 0 | AE14: =IF(AD14=1,INT(RAND()*20+1),-1*INT(RAND()*20+1)) -> -9 | AF14: + | AG14: =INT(RAND()*2) -> 1 | AH14: =IF(AG14=1,INT(RAND()*20+1),-1*INT(RAND()*20+1)) -> 17 | AI14: =IF(AH14<0,CONCATENATE("( ",AH14,")"),AH14) -> 17 | AJ14: =CONCATENATE(AE14," ",AF14," ",AI14," =") -> -9 + 17 = | AL14: =AE14+AH14 -> 8 | AS14: 10 | AT14: A10 | AU14: =AJ14 -> -9 + 17 = | AV14: =AL14 -> 8
S15: 3 | T15: =IF($U$6>(S15-1),AT7,"") -> A3 | U15: =IF(S15>$U$6,IF(S15>($U$7+$U$6),IF(S15>($U$7+$U$6+$U$8),IF(S15>($U$7+$U$6+$U$8+$U$9),"",OFFSET(T15,(10-$U$6)+(10-$U$7)+(10-$U$8),0,1,1)),OFFSET(T15,(10-$U$6)+(10-$U$7),0,1,1)),OFFSET(T15,10-$U$6,0,1,1)),T15) -> A3 | X15: =INDEX($U$13:$U$22,'tirages aléatoires'!C6,1) -> A8 | Z15: =IF(RIGHT(X15)="0",IF(LEFT(X15)="A",10,IF(LEFT(X15)="M",30,IF(LEFT(X15)="S",20,40))),IF(LEFT(X15)="A",RIGHT(X15),IF(LEFT(X15)="M",RIGHT(X15)+20,IF(LEFT(X15)="S",RIGHT(X15)+10,RIGHT(X15)+30)))) -> 8 | AC15: SOUSTRACTIONS | AD15: =INT(RAND()*2) -> 0 | AE15: =IF(AD15=1,INT(RAND()*20+1),-1*INT(RAND()*20+1)) -> -1 | AF15: - | AG15: =INT(RAND()*2) -> 1 | AH15: =IF(AG15=1,INT(RAND()*20+1),-1*INT(RAND()*20+1)) -> 8 | AI15: =IF(AH15<0,CONCATENATE("( ",AH15,")"),AH15) -> 8 | AJ15: =CONCATENATE(AE15," ",AF15," ",AI15," =") -> -1 - 8 = | AL15: =AE15-AH15 -> -9 | AS15: 11 | AT15: S1 | AU15: =AJ15 -> -1 - 8 = | AV15: =AL15 -> -9
S16: 4 | T16: =IF($U$6>(S16-1),AT8,"") -> A4 | U16: =IF(S16>$U$6,IF(S16>($U$7+$U$6),IF(S16>($U$7+$U$6+$U$8),IF(S16>($U$7+$U$6+$U$8+$U$9),"",OFFSET(T16,(10-$U$6)+(10-$U$7)+(10-$U$8),0,1,1)),OFFSET(T16,(10-$U$6)+(10-$U$7),0,1,1)),OFFSET(T16,10-$U$6,0,1,1)),T16) -> A4 | X16: =INDEX($U$13:$U$22,'tirages aléatoires'!C7,1) -> A3 | Z16: =IF(RIGHT(X16)="0",IF(LEFT(X16)="A",10,IF(LEFT(X16)="M",30,IF(LEFT(X16)="S",20,40))),IF(LEFT(X16)="A",RIGHT(X16),IF(LEFT(X16)="M",RIGHT(X16)+20,IF(LEFT(X16)="S",RIGHT(X16)+10,RIGHT(X16)+30)))) -> 3 | AD16: =INT(RAND()*2) -> 1 | AE16: =IF(AD16=1,INT(RAND()*20+1),-1*INT(RAND()*20+1)) -> 18 | AF16: - | AG16: =INT(RAND()*2) -> 0 | AH16: =IF(AG16=1,INT(RAND()*20+1),-1*INT(RAND()*20+1)) -> -16 | AI16: =IF(AH16<0,CONCATENATE("( ",AH16,")"),AH16) -> ( -16) | AJ16: =CONCATENATE(AE16," ",AF16," ",AI16," =") -> 18 - ( -16) = | AL16: =AE16-AH16 -> 34 | AS16: 12 | AT16: S2 | AU16: =AJ16 -> 18 - ( -16) = | AV16: =AL16 -> 34
B17: Opération n° 5 | C17: =VLOOKUP(INT(Z17),$AS$5:$AV$44,3) -> -9 + 17 = | J17: Opération n° 5 | K17: =VLOOKUP(INT(Z17),$AS$5:$AV$44,3) -> -9 + 17 = | S17: 5 | T17: =IF($U$6>(S17-1),AT9,"") -> A5 | U17: =IF(S17>$U$6,IF(S17>($U$7+$U$6),IF(S17>($U$7+$U$6+$U$8),IF(S17>($U$7+$U$6+$U$8+$U$9),"",OFFSET(T17,(10-$U$6)+(10-$U$7)+(10-$U$8),0,1,1)),OFFSET(T17,(10-$U$6)+(10-$U$7),0,1,1)),OFFSET(T17,10-$U$6,0,1,1)),T17) -> A5 | X17: =INDEX($U$13:$U$22,'tirages aléatoires'!C8,1) -> A10 | Z17: =IF(RIGHT(X17)="0",IF(LEFT(X17)="A",10,IF(LEFT(X17)="M",30,IF(LEFT(X17)="S",20,40))),IF(LEFT(X17)="A",RIGHT(X17),IF(LEFT(X17)="M",RIGHT(X17)+20,IF(LEFT(X17)="S",RIGHT(X17)+10,RIGHT(X17)+30)))) -> 10 | AD17: =INT(RAND()*2) -> 0 | AE17: =IF(AD17=1,INT(RAND()*20+1),-1*INT(RAND()*20+1)) -> -12 | AF17: - | AG17: =INT(RAND()*2) -> 1 | AH17: =IF(AG17=1,INT(RAND()*20+1),-1*INT(RAND()*20+1)) -> 17 | AI17: =IF(AH17<0,CONCATENATE("( ",AH17,")"),AH17) -> 17 | AJ17: =CONCATENATE(AE17," ",AF17," ",AI17," =") -> -12 - 17 = | AL17: =AE17-AH17 -> -29 | AS17: 13 | AT17: S3 | AU17: =AJ17 -> -12 - 17 = | AV17: =AL17 -> -29
S18: 6 | T18: =IF($U$6>(S18-1),AT10,"") -> A6 | U18: =IF(S18>$U$6,IF(S18>($U$7+$U$6),IF(S18>($U$7+$U$6+$U$8),IF(S18>($U$7+$U$6+$U$8+$U$9),"",OFFSET(T18,(10-$U$6)+(10-$U$7)+(10-$U$8),0,1,1)),OFFSET(T18,(10-$U$6)+(10-$U$7),0,1,1)),OFFSET(T18,10-$U$6,0,1,1)),T18) -> A6 | X18: =INDEX($U$13:$U$22,'tirages aléatoires'!C9,1) -> A6 | Z18: =IF(RIGHT(X18)="0",IF(LEFT(X18)="A",10,IF(LEFT(X18)="M",30,IF(LEFT(X18)="S",20,40))),IF(LEFT(X18)="A",RIGHT(X18),IF(LEFT(X18)="M",RIGHT(X18)+20,IF(LEFT(X18)="S",RIGHT(X18)+10,RIGHT(X18)+30)))) -> 6 | AD18: =INT(RAND()*2) -> 0 | AE18: =IF(AD18=1,INT(RAND()*20+1),-1*INT(RAND()*20+1)) -> -11 | AF18: - | AG18: =INT(RAND()*2) -> 0 | AH18: =IF(AG18=1,INT(RAND()*20+1),-1*INT(RAND()*20+1)) -> -14 | AI18: =IF(AH18<0,CONCATENATE("( ",AH18,")"),AH18) -> ( -14) | AJ18: =CONCATENATE(AE18," ",AF18," ",AI18," =") -> -11 - ( -14) = | AL18: =AE18-AH18 -> 3 | AS18: 14 | AT18: S4 | AU18: =AJ18 -> -11 - ( -14) = | AV18: =AL18 -> 3
S19: 7 | T19: =IF($U$6>(S19-1),AT11,"") -> A7 | U19: =IF(S19>$U$6,IF(S19>($U$7+$U$6),IF(S19>($U$7+$U$6+$U$8),IF(S19>($U$7+$U$6+$U$8+$U$9),"",OFFSET(T19,(10-$U$6)+(10-$U$7)+(10-$U$8),0,1,1)),OFFSET(T19,(10-$U$6)+(10-$U$7),0,1,1)),OFFSET(T19,10-$U$6,0,1,1)),T19) -> A7 | X19: =INDEX($U$13:$U$22,'tirages aléatoires'!C10,1) -> A7 | Z19: =IF(RIGHT(X19)="0",IF(LEFT(X19)="A",10,IF(LEFT(X19)="M",30,IF(LEFT(X19)="S",20,40))),IF(LEFT(X19)="A",RIGHT(X19),IF(LEFT(X19)="M",RIGHT(X19)+20,IF(LEFT(X19)="S",RIGHT(X19)+10,RIGHT(X19)+30)))) -> 7 | AD19: =INT(RAND()*2) -> 0 | AE19: =IF(AD19=1,INT(RAND()*20+1),-1*INT(RAND()*20+1)) -> -5 | AF19: - | AG19: =INT(RAND()*2) -> 0 | AH19: =IF(AG19=1,INT(RAND()*20+1),-1*INT(RAND()*20+1)) -> -2 | AI19: =IF(AH19<0,CONCATENATE("( ",AH19,")"),AH19) -> ( -2) | AJ19: =CONCATENATE(AE19," ",AF19," ",AI19," =") -> -5 - ( -2) = | AL19: =AE19-AH19 -> -3 | AS19: 15 | AT19: S5 | AU19: =AJ19 -> -5 - ( -2) = | AV19: =AL19 -> -3
B20: Opération n° 6 | C20: =VLOOKUP(INT(Z18),$AS$5:$AV$44,3) -> -3 + ( -10) = | J20: Opération n° 6 | K20: =VLOOKUP(INT(Z18),$AS$5:$AV$44,3) -> -3 + ( -10) = | S20: 8 | T20: =IF($U$6>(S20-1),AT12,"") -> A8 | U20: =IF(S20>$U$6,IF(S20>($U$7+$U$6),IF(S20>($U$7+$U$6+$U$8),IF(S20>($U$7+$U$6+$U$8+$U$9),"",OFFSET(T20,(10-$U$6)+(10-$U$7)+(10-$U$8),0,1,1)),OFFSET(T20,(10-$U$6)+(10-$U$7),0,1,1)),OFFSET(T20,10-$U$6,0,1,1)),T20) -> A8 | X20: =INDEX($U$13:$U$22,'tirages aléatoires'!C11,1) -> A1 | Z20: =IF(RIGHT(X20)="0",IF(LEFT(X20)="A",10,IF(LEFT(X20)="M",30,IF(LEFT(X20)="S",20,40))),IF(LEFT(X20)="A",RIGHT(X20),IF(LEFT(X20)="M",RIGHT(X20)+20,IF(LEFT(X20)="S",RIGHT(X20)+10,RIGHT(X20)+30)))) -> 1 | AD20: =INT(RAND()*2) -> 1 | AE20: =IF(AD20=1,INT(RAND()*20+1),-1*INT(RAND()*20+1)) -> 3 | AF20: - | AG20: =INT(RAND()*2) -> 1 | AH20: =IF(AG20=1,INT(RAND()*20+1),-1*INT(RAND()*20+1)) -> 2 | AI20: =IF(AH20<0,CONCATENATE("( ",AH20,")"),AH20) -> 2 | AJ20: =CONCATENATE(AE20," ",AF20," ",AI20," =") -> 3 - 2 = | AL20: =AE20-AH20 -> 1 | AS20: 16 | AT20: S6 | AU20: =AJ20 -> 3 - 2 = | AV20: =AL20 -> 1
S21: 9 | T21: =IF($U$6>(S21-1),AT13,"") -> A9 | U21: =IF(S21>$U$6,IF(S21>($U$7+$U$6),IF(S21>($U$7+$U$6+$U$8),IF(S21>($U$7+$U$6+$U$8+$U$9),"",OFFSET(T21,(10-$U$6)+(10-$U$7)+(10-$U$8),0,1,1)),OFFSET(T21,(10-$U$6)+(10-$U$7),0,1,1)),OFFSET(T21,10-$U$6,0,1,1)),T21) -> A9 | X21: =INDEX($U$13:$U$22,'tirages aléatoires'!C12,1) -> A5 | Z21: =IF(RIGHT(X21)="0",IF(LEFT(X21)="A",10,IF(LEFT(X21)="M",30,IF(LEFT(X21)="S",20,40))),IF(LEFT(X21)="A",RIGHT(X21),IF(LEFT(X21)="M",RIGHT(X21)+20,IF(LEFT(X21)="S",RIGHT(X21)+10,RIGHT(X21)+30)))) -> 5 | AD21: =INT(RAND()*2) -> 0 | AE21: =IF(AD21=1,INT(RAND()*20+1),-1*INT(RAND()*20+1)) -> -20 | AF21: - | AG21: =INT(RAND()*2) -> 1 | AH21: =IF(AG21=1,INT(RAND()*20+1),-1*INT(RAND()*20+1)) -> 15 | AI21: =IF(AH21<0,CONCATENATE("( ",AH21,")"),AH21) -> 15 | AJ21: =CONCATENATE(AE21," ",AF21," ",AI21," =") -> -20 - 15 = | AL21: =AE21-AH21 -> -35 | AS21: 17 | AT21: S7 | AU21: =AJ21 -> -20 - 15 = | AV21: =AL21 -> -35
S22: 10 | T22: =IF($U$6>(S22-1),AT14,"") -> A10 | U22: =IF(S22>$U$6,IF(S22>($U$7+$U$6),IF(S22>($U$7+$U$6+$U$8),IF(S22>($U$7+$U$6+$U$8+$U$9),"",OFFSET(T22,(10-$U$6)+(10-$U$7)+(10-$U$8),0,1,1)),OFFSET(T22,(10-$U$6)+(10-$U$7),0,1,1)),OFFSET(T22,10-$U$6,0,1,1)),T22) -> A10 | X22: =INDEX($U$13:$U$22,'tirages aléatoires'!C13,1) -> A9 | Z22: =IF(RIGHT(X22)="0",IF(LEFT(X22)="A",10,IF(LEFT(X22)="M",30,IF(LEFT(X22)="S",20,40))),IF(LEFT(X22)="A",RIGHT(X22),IF(LEFT(X22)="M",RIGHT(X22)+20,IF(LEFT(X22)="S",RIGHT(X22)+10,RIGHT(X22)+30)))) -> 9 | AD22: =INT(RAND()*2) -> 1 | AE22: =IF(AD22=1,INT(RAND()*20+1),-1*INT(RAND()*20+1)) -> 16 | AF22: - | AG22: =INT(RAND()*2) -> 1 | AH22: =IF(AG22=1,INT(RAND()*20+1),-1*INT(RAND()*20+1)) -> 18 | AI22: =IF(AH22<0,CONCATENATE("( ",AH22,")"),AH22) -> 18 | AJ22: =CONCATENATE(AE22," ",AF22," ",AI22," =") -> 16 - 18 = | AL22: =AE22-AH22 -> -2 | AS22: 18 | AT22: S8 | AU22: =AJ22 -> 16 - 18 = | AV22: =AL22 -> -2
B23: Opération n° 7 | C23: =VLOOKUP(INT(Z19),$AS$5:$AV$44,3) -> -5 + 9 = | J23: Opération n° 7 | K23: =VLOOKUP(INT(Z19),$AS$5:$AV$44,3) -> -5 + 9 = | S23: 11 | T23: =IF($U$7>(S23-11),AT15,"") -> S1 | U23: =IF(S23>$U$6,IF(S23>($U$7+$U$6),IF(S23>($U$7+$U$6+$U$8),IF(S23>($U$7+$U$6+$U$8+$U$9),"",OFFSET(T23,(10-$U$6)+(10-$U$7)+(10-$U$8),0,1,1)),OFFSET(T23,(10-$U$6)+(10-$U$7),0,1,1)),OFFSET(T23,10-$U$6,0,1,1)),T23) -> S1 | X23: =INDEX($U$13:$U$32,'tirages aléatoires'!G4,1) -> S5 | Z23: =IF(RIGHT(X23)="0",IF(LEFT(X23)="A",10,IF(LEFT(X23)="M",30,IF(LEFT(X23)="S",20,40))),IF(LEFT(X23)="A",RIGHT(X23),IF(LEFT(X23)="M",RIGHT(X23)+20,IF(LEFT(X23)="S",RIGHT(X23)+10,RIGHT(X23)+30)))) -> 15 | AD23: =INT(RAND()*2) -> 1 | AE23: =IF(AD23=1,INT(RAND()*20+1),-1*INT(RAND()*20+1)) -> 12 | AF23: - | AG23: =INT(RAND()*2) -> 1 | AH23: =IF(AG23=1,INT(RAND()*20+1),-1*INT(RAND()*20+1)) -> 7 | AI23: =IF(AH23<0,CONCATENATE("( ",AH23,")"),AH23) -> 7 | AJ23: =CONCATENATE(AE23," ",AF23," ",AI23," =") -> 12 - 7 = | AL23: =AE23-AH23 -> 5 | AS23: 19 | AT23: S9 | AU23: =AJ23 -> 12 - 7 = | AV23: =AL23 -> 5
S24: 12 | T24: =IF($U$7>(S24-11),AT16,"") -> S2 | U24: =IF(S24>$U$6,IF(S24>($U$7+$U$6),IF(S24>($U$7+$U$6+$U$8),IF(S24>($U$7+$U$6+$U$8+$U$9),"",OFFSET(T24,(10-$U$6)+(10-$U$7)+(10-$U$8),0,1,1)),OFFSET(T24,(10-$U$6)+(10-$U$7),0,1,1)),OFFSET(T24,10-$U$6,0,1,1)),T24) -> S2 | X24: =INDEX($U$13:$U$32,'tirages aléatoires'!G5,1) -> S1 | Z24: =IF(RIGHT(X24)="0",IF(LEFT(X24)="A",10,IF(LEFT(X24)="M",30,IF(LEFT(X24)="S",20,40))),IF(LEFT(X24)="A",RIGHT(X24),IF(LEFT(X24)="M",RIGHT(X24)+20,IF(LEFT(X24)="S",RIGHT(X24)+10,RIGHT(X24)+30)))) -> 11 | AD24: =INT(RAND()*2) -> 1 | AE24: =IF(AD24=1,INT(RAND()*20+1),-1*INT(RAND()*20+1)) -> 10 | AF24: - | AG24: =INT(RAND()*2) -> 1 | AH24: =IF(AG24=1,INT(RAND()*20+1),-1*INT(RAND()*20+1)) -> 12 | AI24: =IF(AH24<0,CONCATENATE("( ",AH24,")"),AH24) -> 12 | AJ24: =CONCATENATE(AE24," ",AF24," ",AI24," =") -> 10 - 12 = | AL24: =AE24-AH24 -> -2 | AS24: 20 | AT24: S10 | AU24: =AJ24 -> 10 - 12 = | AV24: =AL24 -> -2
S25: 13 | T25: =IF($U$7>(S25-11),AT17,"") -> S3 | U25: =IF(S25>$U$6,IF(S25>($U$7+$U$6),IF(S25>($U$7+$U$6+$U$8),IF(S25>($U$7+$U$6+$U$8+$U$9),"",OFFSET(T25,(10-$U$6)+(10-$U$7)+(10-$U$8),0,1,1)),OFFSET(T25,(10-$U$6)+(10-$U$7),0,1,1)),OFFSET(T25,10-$U$6,0,1,1)),T25) -> S3 | X25: =INDEX($U$13:$U$32,'tirages aléatoires'!G6,1) -> A4 | Z25: =IF(RIGHT(X25)="0",IF(LEFT(X25)="A",10,IF(LEFT(X25)="M",30,IF(LEFT(X25)="S",20,40))),IF(LEFT(X25)="A",RIGHT(X25),IF(LEFT(X25)="M",RIGHT(X25)+20,IF(LEFT(X25)="S",RIGHT(X25)+10,RIGHT(X25)+30)))) -> 4 | AC25: MULTIPLICATIONS | AD25: =INT(RAND()*2) -> 0 | AE25: =IF(AD25=1,INT(RAND()*11+2),-1*INT(RAND()*11+2)) -> -5 | AF25: x | AG25: =INT(RAND()*2) -> 0 | AH25: =IF(AG25=1,INT(RAND()*9+2),-1*INT(RAND()*9+2)) -> -9 | AI25: =IF(AH25<0,CONCATENATE("( ",AH25,")"),AH25) -> ( -9) | AJ25: =CONCATENATE(AE25," ",AF25," ",AI25," =") -> -5 x ( -9) = | AL25: =AE25*AH25 -> 45 | AS25: 21 | AT25: M1 | AU25: =AJ25 -> -5 x ( -9) = | AV25: =AL25 -> 45
B26: Opération n° 8 | C26: =VLOOKUP(INT(Z20),$AS$5:$AV$44,3) -> -17 + 12 = | J26: Opération n° 8 | K26: =VLOOKUP(INT(Z20),$AS$5:$AV$44,3) -> -17 + 12 = | S26: 14 | T26: =IF($U$7>(S26-11),AT18,"") -> S4 | U26: =IF(S26>$U$6,IF(S26>($U$7+$U$6),IF(S26>($U$7+$U$6+$U$8),IF(S26>($U$7+$U$6+$U$8+$U$9),"",OFFSET(T26,(10-$U$6)+(10-$U$7)+(10-$U$8),0,1,1)),OFFSET(T26,(10-$U$6)+(10-$U$7),0,1,1)),OFFSET(T26,10-$U$6,0,1,1)),T26) -> S4 | X26: =INDEX($U$13:$U$32,'tirages aléatoires'!G7,1) -> S2 | Z26: =IF(RIGHT(X26)="0",IF(LEFT(X26)="A",10,IF(LEFT(X26)="M",30,IF(LEFT(X26)="S",20,40))),IF(LEFT(X26)="A",RIGHT(X26),IF(LEFT(X26)="M",RIGHT(X26)+20,IF(LEFT(X26)="S",RIGHT(X26)+10,RIGHT(X26)+30)))) -> 12 | AD26: =INT(RAND()*2) -> 0 | AE26: =IF(AD26=1,INT(RAND()*11+2),-1*INT(RAND()*11+2)) -> -8 | AF26: x | AG26: =INT(RAND()*2) -> 1 | AH26: =IF(AG26=1,INT(RAND()*9+2),-1*INT(RAND()*9+2)) -> 8 | AI26: =IF(AH26<0,CONCATENATE("( ",AH26,")"),AH26) -> 8 | AJ26: =CONCATENATE(AE26," ",AF26," ",AI26," =") -> -8 x 8 = | AL26: =AE26*AH26 -> -64 | AS26: 22 | AT26: M2 | AU26: =AJ26 -> -8 x 8 = | AV26: =AL26 -> -64
S27: 15 | T27: =IF($U$7>(S27-11),AT19,"") -> S5 | U27: =IF(S27>$U$6,IF(S27>($U$7+$U$6),IF(S27>($U$7+$U$6+$U$8),IF(S27>($U$7+$U$6+$U$8+$U$9),"",OFFSET(T27,(10-$U$6)+(10-$U$7)+(10-$U$8),0,1,1)),OFFSET(T27,(10-$U$6)+(10-$U$7),0,1,1)),OFFSET(T27,10-$U$6,0,1,1)),T27) -> S5 | X27: =INDEX($U$13:$U$32,'tirages aléatoires'!G8,1) -> S7 | Z27: =IF(RIGHT(X27)="0",IF(LEFT(X27)="A",10,IF(LEFT(X27)="M",30,IF(LEFT(X27)="S",20,40))),IF(LEFT(X27)="A",RIGHT(X27),IF(LEFT(X27)="M",RIGHT(X27)+20,IF(LEFT(X27)="S",RIGHT(X27)+10,RIGHT(X27)+30)))) -> 17 | AD27: =INT(RAND()*2) -> 0 | AE27: =IF(AD27=1,INT(RAND()*11+2),-1*INT(RAND()*11+2)) -> -4 | AF27: x | AG27: =INT(RAND()*2) -> 0 | AH27: =IF(AG27=1,INT(RAND()*9+2),-1*INT(RAND()*9+2)) -> -7 | AI27: =IF(AH27<0,CONCATENATE("( ",AH27,")"),AH27) -> ( -7) | AJ27: =CONCATENATE(AE27," ",AF27," ",AI27," =") -> -4 x ( -7) = | AL27: =AE27*AH27 -> 28 | AS27: 23 | AT27: M3 | AU27: =AJ27 -> -4 x ( -7) = | AV27: =AL27 -> 28
S28: 16 | T28: =IF($U$7>(S28-11),AT20,"") -> S6 | U28: =IF(S28>$U$6,IF(S28>($U$7+$U$6),IF(S28>($U$7+$U$6+$U$8),IF(S28>($U$7+$U$6+$U$8+$U$9),"",OFFSET(T28,(10-$U$6)+(10-$U$7)+(10-$U$8),0,1,1)),OFFSET(T28,(10-$U$6)+(10-$U$7),0,1,1)),OFFSET(T28,10-$U$6,0,1,1)),T28) -> S6 | X28: =INDEX($U$13:$U$32,'tirages aléatoires'!G9,1) -> S6 | Z28: =IF(RIGHT(X28)="0",IF(LEFT(X28)="A",10,IF(LEFT(X28)="M",30,IF(LEFT(X28)="S",20,40))),IF(LEFT(X28)="A",RIGHT(X28),IF(LEFT(X28)="M",RIGHT(X28)+20,IF(LEFT(X28)="S",RIGHT(X28)+10,RIGHT(X28)+30)))) -> 16 | AD28: =INT(RAND()*2) -> 1 | AE28: =IF(AD28=1,INT(RAND()*11+2),-1*INT(RAND()*11+2)) -> 9 | AF28: x | AG28: =INT(RAND()*2) -> 0 | AH28: =IF(AG28=1,INT(RAND()*9+2),-1*INT(RAND()*9+2)) -> -7 | AI28: =IF(AH28<0,CONCATENATE("( ",AH28,")"),AH28) -> ( -7) | AJ28: =CONCATENATE(AE28," ",AF28," ",AI28," =") -> 9 x ( -7) = | AL28: =AE28*AH28 -> -63 | AS28: 24 | AT28: M4 | AU28: =AJ28 -> 9 x ( -7) = | AV28: =AL28 -> -63
B29: Opération n° 9 | C29: =VLOOKUP(INT(Z21),$AS$5:$AV$44,3) -> -6 + ( -17) = | J29: Opération n° 9 | K29: =VLOOKUP(INT(Z21),$AS$5:$AV$44,3) -> -6 + ( -17) = | S29: 17 | T29: =IF($U$7>(S29-11),AT21,"") -> S7 | U29: =IF(S29>$U$6,IF(S29>($U$7+$U$6),IF(S29>($U$7+$U$6+$U$8),IF(S29>($U$7+$U$6+$U$8+$U$9),"",OFFSET(T29,(10-$U$6)+(10-$U$7)+(10-$U$8),0,1,1)),OFFSET(T29,(10-$U$6)+(10-$U$7),0,1,1)),OFFSET(T29,10-$U$6,0,1,1)),T29) -> S7 | X29: =INDEX($U$13:$U$32,'tirages aléatoires'!G10,1) -> A1 | Z29: =IF(RIGHT(X29)="0",IF(LEFT(X29)="A",10,IF(LEFT(X29)="M",30,IF(LEFT(X29)="S",20,40))),IF(LEFT(X29)="A",RIGHT(X29),IF(LEFT(X29)="M",RIGHT(X29)+20,IF(LEFT(X29)="S",RIGHT(X29)+10,RIGHT(X29)+30)))) -> 1 | AD29: =INT(RAND()*2) -> 0 | AE29: =IF(AD29=1,INT(RAND()*11+2),-1*INT(RAND()*11+2)) -> -12 | AF29: x | AG29: =INT(RAND()*2) -> 1 | AH29: =IF(AG29=1,INT(RAND()*9+2),-1*INT(RAND()*9+2)) -> 9 | AI29: =IF(AH29<0,CONCATENATE("( ",AH29,")"),AH29) -> 9 | AJ29: =CONCATENATE(AE29," ",AF29," ",AI29," =") -> -12 x 9 = | AL29: =AE29*AH29 -> -108 | AS29: 25 | AT29: M5 | AU29: =AJ29 -> -12 x 9 = | AV29: =AL29 -> -108
S30: 18 | T30: =IF($U$7>(S30-11),AT22,"") -> S8 | U30: =IF(S30>$U$6,IF(S30>($U$7+$U$6),IF(S30>($U$7+$U$6+$U$8),IF(S30>($U$7+$U$6+$U$8+$U$9),"",OFFSET(T30,(10-$U$6)+(10-$U$7)+(10-$U$8),0,1,1)),OFFSET(T30,(10-$U$6)+(10-$U$7),0,1,1)),OFFSET(T30,10-$U$6,0,1,1)),T30) -> S8 | X30: =INDEX($U$13:$U$32,'tirages aléatoires'!G11,1) -> S4 | Z30: =IF(RIGHT(X30)="0",IF(LEFT(X30)="A",10,IF(LEFT(X30)="M",30,IF(LEFT(X30)="S",20,40))),IF(LEFT(X30)="A",RIGHT(X30),IF(LEFT(X30)="M",RIGHT(X30)+20,IF(LEFT(X30)="S",RIGHT(X30)+10,RIGHT(X30)+30)))) -> 14 | AD30: =INT(RAND()*2) -> 1 | AE30: =IF(AD30=1,INT(RAND()*11+2),-1*INT(RAND()*11+2)) -> 5 | AF30: x | AG30: =INT(RAND()*2) -> 0 | AH30: =IF(AG30=1,INT(RAND()*9+2),-1*INT(RAND()*9+2)) -> -6 | AI30: =IF(AH30<0,CONCATENATE("( ",AH30,")"),AH30) -> ( -6) | AJ30: =CONCATENATE(AE30," ",AF30," ",AI30," =") -> 5 x ( -6) = | AL30: =AE30*AH30 -> -30 | AS30: 26 | AT30: M6 | AU30: =AJ30 -> 5 x ( -6) = | AV30: =AL30 -> -30
S31: 19 | T31: =IF($U$7>(S31-11),AT23,"") -> S9 | U31: =IF(S31>$U$6,IF(S31>($U$7+$U$6),IF(S31>($U$7+$U$6+$U$8),IF(S31>($U$7+$U$6+$U$8+$U$9),"",OFFSET(T31,(10-$U$6)+(10-$U$7)+(10-$U$8),0,1,1)),OFFSET(T31,(10-$U$6)+(10-$U$7),0,1,1)),OFFSET(T31,10-$U$6,0,1,1)),T31) -> S9 | X31: =INDEX($U$13:$U$32,'tirages aléatoires'!G12,1) -> S3 | Z31: =IF(RIGHT(X31)="0",IF(LEFT(X31)="A",10,IF(LEFT(X31)="M",30,IF(LEFT(X31)="S",20,40))),IF(LEFT(X31)="A",RIGHT(X31),IF(LEFT(X31)="M",RIGHT(X31)+20,IF(LEFT(X31)="S",RIGHT(X31)+10,RIGHT(X31)+30)))) -> 13 | AD31: =INT(RAND()*2) -> 0 | AE31: =IF(AD31=1,INT(RAND()*11+2),-1*INT(RAND()*11+2)) -> -12 | AF31: x | AG31: =INT(RAND()*2) -> 0 | AH31: =IF(AG31=1,INT(RAND()*9+2),-1*INT(RAND()*9+2)) -> -2 | AI31: =IF(AH31<0,CONCATENATE("( ",AH31,")"),AH31) -> ( -2) | AJ31: =CONCATENATE(AE31," ",AF31," ",AI31," =") -> -12 x ( -2) = | AL31: =AE31*AH31 -> 24 | AS31: 27 | AT31: M7 | AU31: =AJ31 -> -12 x ( -2) = | AV31: =AL31 -> 24
B32: Opération n° 10 | C32: =VLOOKUP(INT(Z22),$AS$5:$AV$44,3) -> -3 + 17 = | J32: Opération n° 10 | K32: =VLOOKUP(INT(Z22),$AS$5:$AV$44,3) -> -3 + 17 = | S32: 20 | T32: =IF($U$7>(S32-11),AT24,"") -> S10 | U32: =IF(S32>$U$6,IF(S32>($U$7+$U$6),IF(S32>($U$7+$U$6+$U$8),IF(S32>($U$7+$U$6+$U$8+$U$9),"",OFFSET(T32,(10-$U$6)+(10-$U$7)+(10-$U$8),0,1,1)),OFFSET(T32,(10-$U$6)+(10-$U$7),0,1,1)),OFFSET(T32,10-$U$6,0,1,1)),T32) -> S10 | X32: =INDEX($U$13:$U$32,'tirages aléatoires'!G13,1) -> A8 | Z32: =IF(RIGHT(X32)="0",IF(LEFT(X32)="A",10,IF(LEFT(X32)="M",30,IF(LEFT(X32)="S",20,40))),IF(LEFT(X32)="A",RIGHT(X32),IF(LEFT(X32)="M",RIGHT(X32)+20,IF(LEFT(X32)="S",RIGHT(X32)+10,RIGHT(X32)+30)))) -> 8 | AD32: =INT(RAND()*2) -> 1 | AE32: =IF(AD32=1,INT(RAND()*11+2),-1*INT(RAND()*11+2)) -> 8 | AF32: x | AG32: =INT(RAND()*2) -> 1 | AH32: =IF(AG32=1,INT(RAND()*9+2),-1*INT(RAND()*9+2)) -> 8 | AI32: =IF(AH32<0,CONCATENATE("( ",AH32,")"),AH32) -> 8 | AJ32: =CONCATENATE(AE32," ",AF32," ",AI32," =") -> 8 x 8 = | AL32: =AE32*AH32 -> 64 | AS32: 28 | AT32: M8 | AU32: =AJ32 -> 8 x 8 = | AV32: =AL32 -> 64
S33: 21 | T33: =IF($U$8>(S33-21),AT25,"") | U33: =IF(S33>$U$6,IF(S33>($U$7+$U$6),IF(S33>($U$7+$U$6+$U$8),IF(S33>($U$7+$U$6+$U$8+$U$9),"",OFFSET(T33,(10-$U$6)+(10-$U$7)+(10-$U$8),0,1,1)),OFFSET(T33,(10-$U$6)+(10-$U$7),0,1,1)),OFFSET(T33,10-$U$6,0,1,1)),T33) | X33: =INDEX($U$13:$U$32,'tirages aléatoires'!G14,1) -> A10 | Z33: =IF(RIGHT(X33)="0",IF(LEFT(X33)="A",10,IF(LEFT(X33)="M",30,IF(LEFT(X33)="S",20,40))),IF(LEFT(X33)="A",RIGHT(X33),IF(LEFT(X33)="M",RIGHT(X33)+20,IF(LEFT(X33)="S",RIGHT(X33)+10,RIGHT(X33)+30)))) -> 10 | AD33: =INT(RAND()*2) -> 1 | AE33: =IF(AD33=1,INT(RAND()*11+2),-1*INT(RAND()*11+2)) -> 3 | AF33: x | AG33: =INT(RAND()*2) -> 0 | AH33: =IF(AG33=1,INT(RAND()*9+2),-1*INT(RAND()*9+2)) -> -3 | AI33: =IF(AH33<0,CONCATENATE("( ",AH33,")"),AH33) -> ( -3) | AJ33: =CONCATENATE(AE33," ",AF33," ",AI33," =") -> 3 x ( -3) = | AL33: =AE33*AH33 -> -9 | AS33: 29 | AT33: M9 | AU33: =AJ33 -> 3 x ( -3) = | AV33: =AL33 -> -9
S34: 22 | T34: =IF($U$8>(S34-21),AT26,"") | U34: =IF(S34>$U$6,IF(S34>($U$7+$U$6),IF(S34>($U$7+$U$6+$U$8),IF(S34>($U$7+$U$6+$U$8+$U$9),"",OFFSET(T34,(10-$U$6)+(10-$U$7)+(10-$U$8),0,1,1)),OFFSET(T34,(10-$U$6)+(10-$U$7),0,1,1)),OFFSET(T34,10-$U$6,0,1,1)),T34) | X34: =INDEX($U$13:$U$32,'tirages aléatoires'!G15,1) -> A5 | Z34: =IF(RIGHT(X34)="0",IF(LEFT(X34)="A",10,IF(LEFT(X34)="M",30,IF(LEFT(X34)="S",20,40))),IF(LEFT(X34)="A",RIGHT(X34),IF(LEFT(X34)="M",RIGHT(X34)+20,IF(LEFT(X34)="S",RIGHT(X34)+10,RIGHT(X34)+30)))) -> 5 | AD34: =INT(RAND()*2) -> 0 | AE34: =IF(AD34=1,INT(RAND()*11+2),-1*INT(RAND()*11+2)) -> -4 | AF34: x | AG34: =INT(RAND()*2) -> 0 | AH34: =IF(AG34=1,INT(RAND()*9+2),-1*INT(RAND()*9+2)) -> -10 | AI34: =IF(AH34<0,CONCATENATE("( ",AH34,")"),AH34) -> ( -10) | AJ34: =CONCATENATE(AE34," ",AF34," ",AI34," =") -> -4 x ( -10) = | AL34: =AE34*AH34 -> 40 | AS34: 30 | AT34: M10 | AU34: =AJ34 -> -4 x ( -10) = | AV34: =AL34 -> 40
S35: 23 | T35: =IF($U$8>(S35-21),AT27,"") | U35: =IF(S35>$U$6,IF(S35>($U$7+$U$6),IF(S35>($U$7+$U$6+$U$8),IF(S35>($U$7+$U$6+$U$8+$U$9),"",OFFSET(T35,(10-$U$6)+(10-$U$7)+(10-$U$8),0,1,1)),OFFSET(T35,(10-$U$6)+(10-$U$7),0,1,1)),OFFSET(T35,10-$U$6,0,1,1)),T35) | X35: =INDEX($U$13:$U$32,'tirages aléatoires'!G16,1) -> S8 | Z35: =IF(RIGHT(X35)="0",IF(LEFT(X35)="A",10,IF(LEFT(X35)="M",30,IF(LEFT(X35)="S",20,40))),IF(LEFT(X35)="A",RIGHT(X35),IF(LEFT(X35)="M",RIGHT(X35)+20,IF(LEFT(X35)="S",RIGHT(X35)+10,RIGHT(X35)+30)))) -> 18 | AC35: DIVISIONS | AD35: =INT(RAND()*2) -> 1 | AE35: =IF(AD35=1,AH35*INT(RAND()*9+2),-1*AH35*INT(RAND()*9+2)) -> -80 | AF35: ÷ | AG35: =INT(RAND()*2) -> 0 | AH35: =IF(AG35=1,INT(RAND()*9+2),-1*INT(RAND()*9+2)) -> -10 | AI35: =IF(AH35<0,CONCATENATE("( ",AH35,")"),AH35) -> ( -10) | AJ35: =CONCATENATE(AE35," ",AF35," ",AI35," =") -> -80 ÷ ( -10) = | AL35: =AE35/AH35 -> 8 | AS35: 31 | AT35: D1 | AU35: =AJ35 -> -80 ÷ ( -10) = | AV35: =AL35 -> 8
S36: 24 | T36: =IF($U$8>(S36-21),AT28,"") | U36: =IF(S36>$U$6,IF(S36>($U$7+$U$6),IF(S36>($U$7+$U$6+$U$8),IF(S36>($U$7+$U$6+$U$8+$U$9),"",OFFSET(T36,(10-$U$6)+(10-$U$7)+(10-$U$8),0,1,1)),OFFSET(T36,(10-$U$6)+(10-$U$7),0,1,1)),OFFSET(T36,10-$U$6,0,1,1)),T36) | X36: =INDEX($U$13:$U$32,'tirages aléatoires'!G17,1) -> A3 | Z36: =IF(RIGHT(X36)="0",IF(LEFT(X36)="A",10,IF(LEFT(X36)="M",30,IF(LEFT(X36)="S",20,40))),IF(LEFT(X36)="A",RIGHT(X36),IF(LEFT(X36)="M",RIGHT(X36)+20,IF(LEFT(X36)="S",RIGHT(X36)+10,RIGHT(X36)+30)))) -> 3 | AD36: =INT(RAND()*2) -> 0 | AE36: =IF(AD36=1,AH36*INT(RAND()*9+2),-1*AH36*INT(RAND()*9+2)) -> -45 | AF36: ÷ | AG36: =INT(RAND()*2) -> 1 | AH36: =IF(AG36=1,INT(RAND()*9+2),-1*INT(RAND()*9+2)) -> 5 | AI36: =IF(AH36<0,CONCATENATE("( ",AH36,")"),AH36) -> 5 | AJ36: =CONCATENATE(AE36," ",AF36," ",AI36," =") -> -45 ÷ 5 = | AL36: =AE36/AH36 -> -9 | AS36: 32 | AT36: D2 | AU36: =AJ36 -> -45 ÷ 5 = | AV36: =AL36 -> -9
S37: 25 | T37: =IF($U$8>(S37-21),AT29,"") | U37: =IF(S37>$U$6,IF(S37>($U$7+$U$6),IF(S37>($U$7+$U$6+$U$8),IF(S37>($U$7+$U$6+$U$8+$U$9),"",OFFSET(T37,(10-$U$6)+(10-$U$7)+(10-$U$8),0,1,1)),OFFSET(T37,(10-$U$6)+(10-$U$7),0,1,1)),OFFSET(T37,10-$U$6,0,1,1)),T37) | X37: =INDEX($U$13:$U$32,'tirages aléatoires'!G18,1) -> A7 | Z37: =IF(RIGHT(X37)="0",IF(LEFT(X37)="A",10,IF(LEFT(X37)="M",30,IF(LEFT(X37)="S",20,40))),IF(LEFT(X37)="A",RIGHT(X37),IF(LEFT(X37)="M",RIGHT(X37)+20,IF(LEFT(X37)="S",RIGHT(X37)+10,RIGHT(X37)+30)))) -> 7 | AD37: =INT(RAND()*2) -> 1 | AE37: =IF(AD37=1,AH37*INT(RAND()*9+2),-1*AH37*INT(RAND()*9+2)) -> -40 | AF37: ÷ | AG37: =INT(RAND()*2) -> 0 | AH37: =IF(AG37=1,INT(RAND()*9+2),-1*INT(RAND()*9+2)) -> -5 | AI37: =IF(AH37<0,CONCATENATE("( ",AH37,")"),AH37) -> ( -5) | AJ37: =CONCATENATE(AE37," ",AF37," ",AI37," =") -> -40 ÷ ( -5) = | AL37: =AE37/AH37 -> 8 | AS37: 33 | AT37: D3 | AU37: =AJ37 -> -40 ÷ ( -5) = | AV37: =AL37 -> 8
S38: 26 | T38: =IF($U$8>(S38-21),AT30,"") | U38: =IF(S38>$U$6,IF(S38>($U$7+$U$6),IF(S38>($U$7+$U$6+$U$8),IF(S38>($U$7+$U$6+$U$8+$U$9),"",OFFSET(T38,(10-$U$6)+(10-$U$7)+(10-$U$8),0,1,1)),OFFSET(T38,(10-$U$6)+(10-$U$7),0,1,1)),OFFSET(T38,10-$U$6,0,1,1)),T38) | X38: =INDEX($U$13:$U$32,'tirages aléatoires'!G19,1) -> S10 | Z38: =IF(RIGHT(X38)="0",IF(LEFT(X38)="A",10,IF(LEFT(X38)="M",30,IF(LEFT(X38)="S",20,40))),IF(LEFT(X38)="A",RIGHT(X38),IF(LEFT(X38)="M",RIGHT(X38)+20,IF(LEFT(X38)="S",RIGHT(X38)+10,RIGHT(X38)+30)))) -> 20 | AD38: =INT(RAND()*2) -> 1 | AE38: =IF(AD38=1,AH38*INT(RAND()*9+2),-1*AH38*INT(RAND()*9+2)) -> -21 | AF38: ÷ | AG38: =INT(RAND()*2) -> 0 | AH38: =IF(AG38=1,INT(RAND()*9+2),-1*INT(RAND()*9+2)) -> -3 | AI38: =IF(AH38<0,CONCATENATE("( ",AH38,")"),AH38) -> ( -3) | AJ38: =CONCATENATE(AE38," ",AF38," ",AI38," =") -> -21 ÷ ( -3) = | AL38: =AE38/AH38 -> 7 | AS38: 34 | AT38: D4 | AU38: =AJ38 -> -21 ÷ ( -3) = | AV38: =AL38 -> 7
B39: NOM et PRENOM : | G39: Classe : | J39: NOM et PRENOM : | O39: Classe : | S39: 27 | T39: =IF($U$8>(S39-21),AT31,"") | U39: =IF(S39>$U$6,IF(S39>($U$7+$U$6),IF(S39>($U$7+$U$6+$U$8),IF(S39>($U$7+$U$6+$U$8+$U$9),"",OFFSET(T39,(10-$U$6)+(10-$U$7)+(10-$U$8),0,1,1)),OFFSET(T39,(10-$U$6)+(10-$U$7),0,1,1)),OFFSET(T39,10-$U$6,0,1,1)),T39) | X39: =INDEX($U$13:$U$32,'tirages aléatoires'!G20,1) -> S9 | Z39: =IF(RIGHT(X39)="0",IF(LEFT(X39)="A",10,IF(LEFT(X39)="M",30,IF(LEFT(X39)="S",20,40))),IF(LEFT(X39)="A",RIGHT(X39),IF(LEFT(X39)="M",RIGHT(X39)+20,IF(LEFT(X39)="S",RIGHT(X39)+10,RIGHT(X39)+30)))) -> 19 | AD39: =INT(RAND()*2) -> 0 | AE39: =IF(AD39=1,AH39*INT(RAND()*9+2),-1*AH39*INT(RAND()*9+2)) -> 50 | AF39: ÷ | AG39: =INT(RAND()*2) -> 0 | AH39: =IF(AG39=1,INT(RAND()*9+2),-1*INT(RAND()*9+2)) -> -5 | AI39: =IF(AH39<0,CONCATENATE("( ",AH39,")"),AH39) -> ( -5) | AJ39: =CONCATENATE(AE39," ",AF39," ",AI39," =") -> 50 ÷ ( -5) = | AL39: =AE39/AH39 -> -10 | AS39: 35 | AT39: D5 | AU39: =AJ39 -> 50 ÷ ( -5) = | AV39: =AL39 -> -10
S40: 28 | T40: =IF($U$8>(S40-21),AT32,"") | U40: =IF(S40>$U$6,IF(S40>($U$7+$U$6),IF(S40>($U$7+$U$6+$U$8),IF(S40>($U$7+$U$6+$U$8+$U$9),"",OFFSET(T40,(10-$U$6)+(10-$U$7)+(10-$U$8),0,1,1)),OFFSET(T40,(10-$U$6)+(10-$U$7),0,1,1)),OFFSET(T40,10-$U$6,0,1,1)),T40) | X40: =INDEX($U$13:$U$32,'tirages aléatoires'!G21,1) -> A2 | Z40: =IF(RIGHT(X40)="0",IF(LEFT(X40)="A",10,IF(LEFT(X40)="M",30,IF(LEFT(X40)="S",20,40))),IF(LEFT(X40)="A",RIGHT(X40),IF(LEFT(X40)="M",RIGHT(X40)+20,IF(LEFT(X40)="S",RIGHT(X40)+10,RIGHT(X40)+30)))) -> 2 | AD40: =INT(RAND()*2) -> 0 | AE40: =IF(AD40=1,AH40*INT(RAND()*9+2),-1*AH40*INT(RAND()*9+2)) -> 30 | AF40: ÷ | AG40: =INT(RAND()*2) -> 0 | AH40: =IF(AG40=1,INT(RAND()*9+2),-1*INT(RAND()*9+2)) -> -10 | AI40: =IF(AH40<0,CONCATENATE("( ",AH40,")"),AH40) -> ( -10) | AJ40: =CONCATENATE(AE40," ",AF40," ",AI40," =") -> 30 ÷ ( -10) = | AL40: =AE40/AH40 -> -3 | AS40: 36 | AT40: D6 | AU40: =AJ40 -> 30 ÷ ( -10) = | AV40: =AL40 -> -3
B41: CONTRÔLE : Nombres relatifs | J41: CONTRÔLE : Nombres relatifs | S41: 29 | T41: =IF($U$8>(S41-21),AT33,"") | U41: =IF(S41>$U$6,IF(S41>($U$7+$U$6),IF(S41>($U$7+$U$6+$U$8),IF(S41>($U$7+$U$6+$U$8+$U$9),"",OFFSET(T41,(10-$U$6)+(10-$U$7)+(10-$U$8),0,1,1)),OFFSET(T41,(10-$U$6)+(10-$U$7),0,1,1)),OFFSET(T41,10-$U$6,0,1,1)),T41) | X41: =INDEX($U$13:$U$32,'tirages aléatoires'!G22,1) -> A6 | Z41: =IF(RIGHT(X41)="0",IF(LEFT(X41)="A",10,IF(LEFT(X41)="M",30,IF(LEFT(X41)="S",20,40))),IF(LEFT(X41)="A",RIGHT(X41),IF(LEFT(X41)="M",RIGHT(X41)+20,IF(LEFT(X41)="S",RIGHT(X41)+10,RIGHT(X41)+30)))) -> 6 | AD41: =INT(RAND()*2) -> 0 | AE41: =IF(AD41=1,AH41*INT(RAND()*9+2),-1*AH41*INT(RAND()*9+2)) -> 25 | AF41: ÷ | AG41: =INT(RAND()*2) -> 0 | AH41: =IF(AG41=1,INT(RAND()*9+2),-1*INT(RAND()*9+2)) -> -5 | AI41: =IF(AH41<0,CONCATENATE("( ",AH41,")"),AH41) -> ( -5) | AJ41: =CONCATENATE(AE41," ",AF41," ",AI41," =") -> 25 ÷ ( -5) = | AL41: =AE41/AH41 -> -5 | AS41: 37 | AT41: D7 | AU41: =AJ41 -> 25 ÷ ( -5) = | AV41: =AL41 -> -5
S42: 30 | T42: =IF($U$8>(S42-21),AT34,"") | U42: =IF(S42>$U$6,IF(S42>($U$7+$U$6),IF(S42>($U$7+$U$6+$U$8),IF(S42>($U$7+$U$6+$U$8+$U$9),"",OFFSET(T42,(10-$U$6)+(10-$U$7)+(10-$U$8),0,1,1)),OFFSET(T42,(10-$U$6)+(10-$U$7),0,1,1)),OFFSET(T42,10-$U$6,0,1,1)),T42) | X42: =INDEX($U$13:$U$32,'tirages aléatoires'!G23,1) -> A9 | Z42: =IF(RIGHT(X42)="0",IF(LEFT(X42)="A",10,IF(LEFT(X42)="M",30,IF(LEFT(X42)="S",20,40))),IF(LEFT(X42)="A",RIGHT(X42),IF(LEFT(X42)="M",RIGHT(X42)+20,IF(LEFT(X42)="S",RIGHT(X42)+10,RIGHT(X42)+30)))) -> 9 | AD42: =INT(RAND()*2) -> 0 | AE42: =IF(AD42=1,AH42*INT(RAND()*9+2),-1*AH42*INT(RAND()*9+2)) -> -40 | AF42: ÷ | AG42: =INT(RAND()*2) -> 1 | AH42: =IF(AG42=1,INT(RAND()*9+2),-1*INT(RAND()*9+2)) -> 8 | AI42: =IF(AH42<0,CONCATENATE("( ",AH42,")"),AH42) -> 8 | AJ42: =CONCATENATE(AE42," ",AF42," ",AI42," =") -> -40 ÷ 8 = | AL42: =AE42/AH42 -> -5 | AS42: 38 | AT42: D8 | AU42: =AJ42 -> -40 ÷ 8 = | AV42: =AL42 -> -5
B43: Opération n° 1 | C43: =VLOOKUP(INT(Z13),$AS$5:$AV$44,3) -> -3 + 18 = | J43: Opération n° 1 | K43: =VLOOKUP(INT(Z13),$AS$5:$AV$44,3) -> -3 + 18 = | S43: 31 | T43: =IF($U$9>(S43-31),AT35,"") | U43: =IF(S43>$U$6,IF(S43>($U$7+$U$6),IF(S43>($U$7+$U$6+$U$8),IF(S43>($U$7+$U$6+$U$8+$U$9),"",OFFSET(T43,(10-$U$6)+(10-$U$7)+(10-$U$8),0,1,1)),OFFSET(T43,(10-$U$6)+(10-$U$7),0,1,1)),OFFSET(T43,10-$U$6,0,1,1)),T43) | AD43: =INT(RAND()*2) -> 1 | AE43: =IF(AD43=1,AH43*INT(RAND()*9+2),-1*AH43*INT(RAND()*9+2)) -> 28 | AF43: ÷ | AG43: =INT(RAND()*2) -> 1 | AH43: =IF(AG43=1,INT(RAND()*9+2),-1*INT(RAND()*9+2)) -> 4 | AI43: =IF(AH43<0,CONCATENATE("( ",AH43,")"),AH43) -> 4 | AJ43: =CONCATENATE(AE43," ",AF43," ",AI43," =") -> 28 ÷ 4 = | AL43: =AE43/AH43 -> 7 | AS43: 39 | AT43: D9 | AU43: =AJ43 -> 28 ÷ 4 = | AV43: =AL43 -> 7
S44: 32 | T44: =IF($U$9>(S44-31),AT36,"") | U44: =IF(S44>$U$6,IF(S44>($U$7+$U$6),IF(S44>($U$7+$U$6+$U$8),IF(S44>($U$7+$U$6+$U$8+$U$9),"",OFFSET(T44,(10-$U$6)+(10-$U$7)+(10-$U$8),0,1,1)),OFFSET(T44,(10-$U$6)+(10-$U$7),0,1,1)),OFFSET(T44,10-$U$6,0,1,1)),T44) | AD44: =INT(RAND()*2) -> 0 | AE44: =IF(AD44=1,AH44*INT(RAND()*9+2),-1*AH44*INT(RAND()*9+2)) -> 45 | AF44: ÷ | AG44: =INT(RAND()*2) -> 0 | AH44: =IF(AG44=1,INT(RAND()*9+2),-1*INT(RAND()*9+2)) -> -5 | AI44: =IF(AH44<0,CONCATENATE("( ",AH44,")"),AH44) -> ( -5) | AJ44: =CONCATENATE(AE44," ",AF44," ",AI44," =") -> 45 ÷ ( -5) = | AL44: =AE44/AH44 -> -9 | AS44: 40 | AT44: D10 | AU44: =AJ44 -> 45 ÷ ( -5) = | AV44: =AL44 -> -9
S45: 33 | T45: =IF($U$9>(S45-31),AT37,"") | U45: =IF(S45>$U$6,IF(S45>($U$7+$U$6),IF(S45>($U$7+$U$6+$U$8),IF(S45>($U$7+$U$6+$U$8+$U$9),"",OFFSET(T45,(10-$U$6)+(10-$U$7)+(10-$U$8),0,1,1)),OFFSET(T45,(10-$U$6)+(10-$U$7),0,1,1)),OFFSET(T45,10-$U$6,0,1,1)),T45) | AD45: =INT(RAND()*2) -> 1 | AE45: =IF(AD45=1,AH45*INT(RAND()*9+2),-1*AH45*INT(RAND()*9+2)) -> -30 | AF45: ÷ | AG45: =INT(RAND()*2) -> 0 | AH45: =IF(AG45=1,INT(RAND()*9+2),-1*INT(RAND()*9+2)) -> -6 | AI45: =IF(AH45<0,CONCATENATE("( ",AH45,")"),AH45) -> ( -6) | AJ45: =CONCATENATE(AE45," ",AF45," ",AI45," =") -> -30 ÷ ( -6) = | AL45: =AE45/AH45 -> 5
B46: Opération n° 2 | C46: =VLOOKUP(INT(Z14),$AS$5:$AV$44,3) -> -18 + 18 = | J46: Opération n° 2 | K46: =VLOOKUP(INT(Z14),$AS$5:$AV$44,3) -> -18 + 18 = | S46: 34 | T46: =IF($U$9>(S46-31),AT38,"") | U46: =IF(S46>$U$6,IF(S46>($U$7+$U$6),IF(S46>($U$7+$U$6+$U$8),IF(S46>($U$7+$U$6+$U$8+$U$9),"",OFFSET(T46,(10-$U$6)+(10-$U$7)+(10-$U$8),0,1,1)),OFFSET(T46,(10-$U$6)+(10-$U$7),0,1,1)),OFFSET(T46,10-$U$6,0,1,1)),T46)
S47: 35 | T47: =IF($U$9>(S47-31),AT39,"") | U47: =IF(S47>$U$6,IF(S47>($U$7+$U$6),IF(S47>($U$7+$U$6+$U$8),IF(S47>($U$7+$U$6+$U$8+$U$9),"",OFFSET(T47,(10-$U$6)+(10-$U$7)+(10-$U$8),0,1,1)),OFFSET(T47,(10-$U$6)+(10-$U$7),0,1,1)),OFFSET(T47,10-$U$6,0,1,1)),T47)
S48: 36 | T48: =IF($U$9>(S48-31),AT40,"") | U48: =IF(S48>$U$6,IF(S48>($U$7+$U$6),IF(S48>($U$7+$U$6+$U$8),IF(S48>($U$7+$U$6+$U$8+$U$9),"",OFFSET(T48,(10-$U$6)+(10-$U$7)+(10-$U$8),0,1,1)),OFFSET(T48,(10-$U$6)+(10-$U$7),0,1,1)),OFFSET(T48,10-$U$6,0,1,1)),T48)
B49: Opération n° 3 | C49: =VLOOKUP(INT(Z15),$AS$5:$AV$44,3) -> 18 + 18 = | J49: Opération n° 3 | K49: =VLOOKUP(INT(Z15),$AS$5:$AV$44,3) -> 18 + 18 = | S49: 37 | T49: =IF($U$9>(S49-31),AT41,"") | U49: =IF(S49>$U$6,IF(S49>($U$7+$U$6),IF(S49>($U$7+$U$6+$U$8),IF(S49>($U$7+$U$6+$U$8+$U$9),"",OFFSET(T49,(10-$U$6)+(10-$U$7)+(10-$U$8),0,1,1)),OFFSET(T49,(10-$U$6)+(10-$U$7),0,1,1)),OFFSET(T49,10-$U$6,0,1,1)),T49)
S50: 38 | T50: =IF($U$9>(S50-31),AT42,"") | U50: =IF(S50>$U$6,IF(S50>($U$7+$U$6),IF(S50>($U$7+$U$6+$U$8),IF(S50>($U$7+$U$6+$U$8+$U$9),"",OFFSET(T50,(10-$U$6)+(10-$U$7)+(10-$U$8),0,1,1)),OFFSET(T50,(10-$U$6)+(10-$U$7),0,1,1)),OFFSET(T50,10-$U$6,0,1,1)),T50)
S51: 39 | T51: =IF($U$9>(S51-31),AT43,"") | U51: =IF(S51>$U$6,IF(S51>($U$7+$U$6),IF(S51>($U$7+$U$6+$U$8),IF(S51>($U$7+$U$6+$U$8+$U$9),"",OFFSET(T51,(10-$U$6)+(10-$U$7)+(10-$U$8),0,1,1)),OFFSET(T51,(10-$U$6)+(10-$U$7),0,1,1)),OFFSET(T51,10-$U$6,0,1,1)),T51)
B52: Opération n° 4 | C52: =VLOOKUP(INT(Z16),$AS$5:$AV$44,3) -> -5 + ( -5) = | J52: Opération n° 4 | K52: =VLOOKUP(INT(Z16),$AS$5:$AV$44,3) -> -5 + ( -5) = | S52: 40 | T52: =IF($U$9>(S52-31),AT44,"") | U52: =IF(S52>$U$6,IF(S52>($U$7+$U$6),IF(S52>($U$7+$U$6+$U$8),IF(S52>($U$7+$U$6+$U$8+$U$9),"",OFFSET(T52,(10-$U$6)+(10-$U$7)+(10-$U$8),0,1,1)),OFFSET(T52,(10-$U$6)+(10-$U$7),0,1,1)),OFFSET(T52,10-$U$6,0,1,1)),T52)
B55: Opération n° 5 | C55: =VLOOKUP(INT(Z17),$AS$5:$AV$44,3) -> -9 + 17 = | J55: Opération n° 5 | K55: =VLOOKUP(INT(Z17),$AS$5:$AV$44,3) -> -9 + 17 =
B58: Opération n° 6 | C58: =VLOOKUP(INT(Z18),$AS$5:$AV$44,3) -> -3 + ( -10) = | J58: Opération n° 6 | K58: =VLOOKUP(INT(Z18),$AS$5:$AV$44,3) -> -3 + ( -10) =
B61: Opération n° 7 | C61: =VLOOKUP(INT(Z19),$AS$5:$AV$44,3) -> -5 + 9 = | J61: Opération n° 7 | K61: =VLOOKUP(INT(Z19),$AS$5:$AV$44,3) -> -5 + 9 =
B64: Opération n° 8 | C64: =VLOOKUP(INT(Z20),$AS$5:$AV$44,3) -> -17 + 12 = | J64: Opération n° 8 | K64: =VLOOKUP(INT(Z20),$AS$5:$AV$44,3) -> -17 + 12 =
B67: Opération n° 9 | C67: =VLOOKUP(INT(Z21),$AS$5:$AV$44,3) -> -6 + ( -17) = | J67: Opération n° 9 | K67: =VLOOKUP(INT(Z21),$AS$5:$AV$44,3) -> -6 + ( -17) =
B70: Opération n° 10 | C70: =VLOOKUP(INT(Z22),$AS$5:$AV$44,3) -> -3 + 17 = | J70: Opération n° 10 | K70: =VLOOKUP(INT(Z22),$AS$5:$AV$44,3) -> -3 + 17 =
B76: NOM et PRENOM : | G76: Classe : | J76: NOM et PRENOM : | O76: Classe :
B78: CONTRÔLE : Nombres relatifs | J78: CONTRÔLE : Nombres relatifs
B84: =CONCATENATE("opération n° ",CELL("ligne",B84)-83) -> opération n° 1 | D84: =VLOOKUP(INT(Z23),$AS$5:$AV$44,3) -> -5 - ( -2) = | J84: =CONCATENATE("opération n° ",CELL("ligne",J84)-83) -> opération n° 1 | L84: =VLOOKUP(INT(Z23),$AS$5:$AV$44,3) -> -5 - ( -2) =
B85: =CONCATENATE("opération n° ",CELL("ligne",B85)-83) -> opération n° 2 | D85: =VLOOKUP(INT(Z24),$AS$5:$AV$44,3) -> -1 - 8 = | J85: =CONCATENATE("opération n° ",CELL("ligne",J85)-83) -> opération n° 2 | L85: =VLOOKUP(INT(Z24),$AS$5:$AV$44,3) -> -1 - 8 =
B86: =CONCATENATE("opération n° ",CELL("ligne",B86)-83) -> opération n° 3 | D86: =VLOOKUP(INT(Z25),$AS$5:$AV$44,3) -> -18 + 18 = | J86: =CONCATENATE("opération n° ",CELL("ligne",J86)-83) -> opération n° 3 | L86: =VLOOKUP(INT(Z25),$AS$5:$AV$44,3) -> -18 + 18 =
B87: =CONCATENATE("opération n° ",CELL("ligne",B87)-83) -> opération n° 4 | D87: =VLOOKUP(INT(Z26),$AS$5:$AV$44,3) -> 18 - ( -16) = | J87: =CONCATENATE("opération n° ",CELL("ligne",J87)-83) -> opération n° 4 | L87: =VLOOKUP(INT(Z26),$AS$5:$AV$44,3) -> 18 - ( -16) =
B88: =CONCATENATE("opération n° ",CELL("ligne",B88)-83) -> opération n° 5 | D88: =VLOOKUP(INT(Z27),$AS$5:$AV$44,3) -> -20 - 15 = | J88: =CONCATENATE("opération n° ",CELL("ligne",J88)-83) -> opération n° 5 | L88: =VLOOKUP(INT(Z27),$AS$5:$AV$44,3) -> -20 - 15 =
B89: =CONCATENATE("opération n° ",CELL("ligne",B89)-83) -> opération n° 6 | D89: =VLOOKUP(INT(Z28),$AS$5:$AV$44,3) -> 3 - 2 = | J89: =CONCATENATE("opération n° ",CELL("ligne",J89)-83) -> opération n° 6 | L89: =VLOOKUP(INT(Z28),$AS$5:$AV$44,3) -> 3 - 2 =
B90: =CONCATENATE("opération n° ",CELL("ligne",B90)-83) -> opération n° 7 | D90: =VLOOKUP(INT(Z29),$AS$5:$AV$44,3) -> -17 + 12 = | J90: =CONCATENATE("opération n° ",CELL("ligne",J90)-83) -> opération n° 7 | L90: =VLOOKUP(INT(Z29),$AS$5:$AV$44,3) -> -17 + 12 =
B91: =CONCATENATE("opération n° ",CELL("ligne",B91)-83) -> opération n° 8 | D91: =VLOOKUP(INT(Z30),$AS$5:$AV$44,3) -> -11 - ( -14) = | J91: =CONCATENATE("opération n° ",CELL("ligne",J91)-83) -> opération n° 8 | L91: =VLOOKUP(INT(Z30),$AS$5:$AV$44,3) -> -11 - ( -14) =
B92: =CONCATENATE("opération n° ",CELL("ligne",B92)-83) -> opération n° 9 | D92: =VLOOKUP(INT(Z31),$AS$5:$AV$44,3) -> -12 - 17 = | J92: =CONCATENATE("opération n° ",CELL("ligne",J92)-83) -> opération n° 9 | L92: =VLOOKUP(INT(Z31),$AS$5:$AV$44,3) -> -12 - 17 =
B93: =CONCATENATE("opération n° ",CELL("ligne",B93)-83) -> opération n° 10 | D93: =VLOOKUP(INT(Z32),$AS$5:$AV$44,3) -> 18 + 18 = | J93: =CONCATENATE("opération n° ",CELL("ligne",J93)-83) -> opération n° 10 | L93: =VLOOKUP(INT(Z32),$AS$5:$AV$44,3) -> 18 + 18 =
B94: =CONCATENATE("opération n° ",CELL("ligne",B94)-83) -> opération n° 11 | D94: =VLOOKUP(INT(Z33),$AS$5:$AV$44,3) -> -9 + 17 = | J94: =CONCATENATE("opération n° ",CELL("ligne",J94)-83) -> opération n° 11 | L94: =VLOOKUP(INT(Z33),$AS$5:$AV$44,3) -> -9 + 17 =
B95: =CONCATENATE("opération n° ",CELL("ligne",B95)-83) -> opération n° 12 | D95: =VLOOKUP(INT(Z34),$AS$5:$AV$44,3) -> -6 + ( -17) = | J95: =CONCATENATE("opération n° ",CELL("ligne",J95)-83) -> opération n° 12 | L95: =VLOOKUP(INT(Z34),$AS$5:$AV$44,3) -> -6 + ( -17) =
... B103: =CONCATENATE("opération n° ",CELL("ligne",B103)-83) -> opération n° 20 | D103: =VLOOKUP(INT(Z42),$AS$5:$AV$44,3) -> -3 + 17 = | J103: =CONCATENATE("opération n° ",CELL("ligne",J103)-83) -> opération n° 20 | L103: =VLOOKUP(INT(Z42),$AS$5:$AV$44,3) -> -3 + 17 =
B106: NOM et PRENOM : | G106: Classe : | J106: NOM et PRENOM : | O106: Classe :
B108: CONTRÔLE : Nombres relatifs | J108: CONTRÔLE : Nombres relatifs
B114: =CONCATENATE("opération n° ",CELL("ligne",B114)-113) -> opération n° 1 | D114: =VLOOKUP(INT(Z23),$AS$5:$AV$44,3) -> -5 - ( -2) = | J114: =CONCATENATE("opération n° ",CELL("ligne",J114)-113) -> opération n° 1 | L114: =VLOOKUP(INT(Z23),$AS$5:$AV$44,3) -> -5 - ( -2) =
B115: =CONCATENATE("opération n° ",CELL("ligne",B115)-113) -> opération n° 2 | D115: =VLOOKUP(INT(Z24),$AS$5:$AV$44,3) -> -1 - 8 = | J115: =CONCATENATE("opération n° ",CELL("ligne",J115)-113) -> opération n° 2 | L115: =VLOOKUP(INT(Z24),$AS$5:$AV$44,3) -> -1 - 8 =
B116: =CONCATENATE("opération n° ",CELL("ligne",B116)-113) -> opération n° 3 | D116: =VLOOKUP(INT(Z25),$AS$5:$AV$44,3) -> -18 + 18 = | J116: =CONCATENATE("opération n° ",CELL("ligne",J116)-113) -> opération n° 3 | L116: =VLOOKUP(INT(Z25),$AS$5:$AV$44,3) -> -18 + 18 =
B117: =CONCATENATE("opération n° ",CELL("ligne",B117)-113) -> opération n° 4 | D117: =VLOOKUP(INT(Z26),$AS$5:$AV$44,3) -> 18 - ( -16) = | J117: =CONCATENATE("opération n° ",CELL("ligne",J117)-113) -> opération n° 4 | L117: =VLOOKUP(INT(Z26),$AS$5:$AV$44,3) -> 18 - ( -16) =
B118: =CONCATENATE("opération n° ",CELL("ligne",B118)-113) -> opération n° 5 | D118: =VLOOKUP(INT(Z27),$AS$5:$AV$44,3) -> -20 - 15 = | J118: =CONCATENATE("opération n° ",CELL("ligne",J118)-113) -> opération n° 5 | L118: =VLOOKUP(INT(Z27),$AS$5:$AV$44,3) -> -20 - 15 =
B119: =CONCATENATE("opération n° ",CELL("ligne",B119)-113) -> opération n° 6 | D119: =VLOOKUP(INT(Z28),$AS$5:$AV$44,3) -> 3 - 2 = | J119: =CONCATENATE("opération n° ",CELL("ligne",J119)-113) -> opération n° 6 | L119: =VLOOKUP(INT(Z28),$AS$5:$AV$44,3) -> 3 - 2 =
B120: =CONCATENATE("opération n° ",CELL("ligne",B120)-113) -> opération n° 7 | D120: =VLOOKUP(INT(Z29),$AS$5:$AV$44,3) -> -17 + 12 = | J120: =CONCATENATE("opération n° ",CELL("ligne",J120)-113) -> opération n° 7 | L120: =VLOOKUP(INT(Z29),$AS$5:$AV$44,3) -> -17 + 12 =
B121: =CONCATENATE("opération n° ",CELL("ligne",B121)-113) -> opération n° 8 | D121: =VLOOKUP(INT(Z30),$AS$5:$AV$44,3) -> -11 - ( -14) = | J121: =CONCATENATE("opération n° ",CELL("ligne",J121)-113) -> opération n° 8 | L121: =VLOOKUP(INT(Z30),$AS$5:$AV$44,3) -> -11 - ( -14) =
B122: =CONCATENATE("opération n° ",CELL("ligne",B122)-113) -> opération n° 9 | D122: =VLOOKUP(INT(Z31),$AS$5:$AV$44,3) -> -12 - 17 = | J122: =CONCATENATE("opération n° ",CELL("ligne",J122)-113) -> opération n° 9 | L122: =VLOOKUP(INT(Z31),$AS$5:$AV$44,3) -> -12 - 17 =
B123: =CONCATENATE("opération n° ",CELL("ligne",B123)-113) -> opération n° 10 | D123: =VLOOKUP(INT(Z32),$AS$5:$AV$44,3) -> 18 + 18 = | J123: =CONCATENATE("opération n° ",CELL("ligne",J123)-113) -> opération n° 10 | L123: =VLOOKUP(INT(Z32),$AS$5:$AV$44,3) -> 18 + 18 =
B124: =CONCATENATE("opération n° ",CELL("ligne",B124)-113) -> opération n° 11 | D124: =VLOOKUP(INT(Z33),$AS$5:$AV$44,3) -> -9 + 17 = | J124: =CONCATENATE("opération n° ",CELL("ligne",J124)-113) -> opération n° 11 | L124: =VLOOKUP(INT(Z33),$AS$5:$AV$44,3) -> -9 + 17 =
B125: =CONCATENATE("opération n° ",CELL("ligne",B125)-113) -> opération n° 12 | D125: =VLOOKUP(INT(Z34),$AS$5:$AV$44,3) -> -6 + ( -17) = | J125: =CONCATENATE("opération n° ",CELL("ligne",J125)-113) -> opération n° 12 | L125: =VLOOKUP(INT(Z34),$AS$5:$AV$44,3) -> -6 + ( -17) =
... B133: =CONCATENATE("opération n° ",CELL("ligne",B133)-113) -> opération n° 20 | D133: =VLOOKUP(INT(Z42),$AS$5:$AV$44,3) -> -3 + 17 = | J133: =CONCATENATE("opération n° ",CELL("ligne",J133)-113) -> opération n° 20 | L133: =VLOOKUP(INT(Z42),$AS$5:$AV$44,3) -> -3 + 17 =
B136: CORRECTION
J137: CORRECTION :
B138: CONTRÔLE : Nombres relatifs
J139: CONTRÔLE : Nombres relatifs
J141: Opération n° 1 | K141: =VLOOKUP(INT(Z13),$AS$5:$AV$44,3) -> -3 + 18 = | O141: =VLOOKUP(INT(Z13),$AS$5:$AV$44,4) -> 15
B144: =CONCATENATE("opération n° ",CELL("ligne",J114)-113) -> opération n° 1 | D144: =VLOOKUP(INT(Z23),$AS$5:$AV$44,3) -> -5 - ( -2) = | G144: =VLOOKUP(INT(Z23),$AS$5:$AV$44,4) -> -3 | J144: Opération n° 2 | K144: =VLOOKUP(INT(Z14),$AS$5:$AV$44,3) -> -18 + 18 = | O144: =VLOOKUP(INT(Z14),$AS$5:$AV$44,4) -> 0
B145: =CONCATENATE("opération n° ",CELL("ligne",J115)-113) -> opération n° 2 | D145: =VLOOKUP(INT(Z24),$AS$5:$AV$44,3) -> -1 - 8 = | G145: =VLOOKUP(INT(Z24),$AS$5:$AV$44,4) -> -9
B146: =CONCATENATE("opération n° ",CELL("ligne",J116)-113) -> opération n° 3 | D146: =VLOOKUP(INT(Z25),$AS$5:$AV$44,3) -> -18 + 18 = | G146: =VLOOKUP(INT(Z25),$AS$5:$AV$44,4) -> 0
B147: =CONCATENATE("opération n° ",CELL("ligne",J117)-113) -> opération n° 4 | D147: =VLOOKUP(INT(Z26),$AS$5:$AV$44,3) -> 18 - ( -16) = | G147: =VLOOKUP(INT(Z26),$AS$5:$AV$44,4) -> 34 | J147: Opération n° 3 | K147: =VLOOKUP(INT(Z15),$AS$5:$AV$44,3) -> 18 + 18 = | O147: =VLOOKUP(INT(Z15),$AS$5:$AV$44,4) -> 36
B148: =CONCATENATE("opération n° ",CELL("ligne",J118)-113) -> opération n° 5 | D148: =VLOOKUP(INT(Z27),$AS$5:$AV$44,3) -> -20 - 15 = | G148: =VLOOKUP(INT(Z27),$AS$5:$AV$44,4) -> -35
B149: =CONCATENATE("opération n° ",CELL("ligne",J119)-113) -> opération n° 6 | D149: =VLOOKUP(INT(Z28),$AS$5:$AV$44,3) -> 3 - 2 = | G149: =VLOOKUP(INT(Z28),$AS$5:$AV$44,4) -> 1
B150: =CONCATENATE("opération n° ",CELL("ligne",J120)-113) -> opération n° 7 | D150: =VLOOKUP(INT(Z29),$AS$5:$AV$44,3) -> -17 + 12 = | G150: =VLOOKUP(INT(Z29),$AS$5:$AV$44,4) -> -5 | J150: Opération n° 4 | K150: =VLOOKUP(INT(Z16),$AS$5:$AV$44,3) -> -5 + ( -5) = | O150: =VLOOKUP(INT(Z16),$AS$5:$AV$44,4) -> -10
...

Sheet Relatifs mélangés (4e 3e)
B2: NOM et PRENOM: | H2: Classe : | L2: appuyer sur la touche F9 pour générer une nouvelle feuille
B4: CONTRÔLE : NOMBRES RELATIFS
B10: =CONCATENATE("opération n° ",CELL("ligne",B10)-9) -> opération n° 1 | D10: =OFFSET($M$16,M16-1,7,1,1) -> 17 - 20 = | L10: CTRL + P pour lancer l'impression
B11: =CONCATENATE("opération n° ",CELL("ligne",B11)-9) -> opération n° 2 | D11: =OFFSET($M$16,M17-1,7,1,1) -> 8 - 11 =
B12: =CONCATENATE("opération n° ",CELL("ligne",B12)-9) -> opération n° 3 | D12: =OFFSET($M$16,M18-1,7,1,1) -> 15 + ( -2) =
B13: =CONCATENATE("opération n° ",CELL("ligne",B13)-9) -> opération n° 4 | D13: =OFFSET($M$16,M19-1,7,1,1) -> -20 - ( -20) = | O13: TIRAGE DES OPERATIONS
B14: =CONCATENATE("opération n° ",CELL("ligne",B14)-9) -> opération n° 5 | D14: =OFFSET($M$16,M20-1,7,1,1) -> -42 ÷ ( -7) =
B15: =CONCATENATE("opération n° ",CELL("ligne",B15)-9) -> opération n° 6 | D15: =OFFSET($M$16,M21-1,7,1,1) -> 28 ÷ 4 = | M15: ORDRE DES CALCULS
B16: =CONCATENATE("opération n° ",CELL("ligne",B16)-9) -> opération n° 7 | D16: =OFFSET($M$16,M22-1,7,1,1) -> 9 + 7 = | L16: 5 additions | M16: ='tirages aléatoires'!G4 -> 15 | N16: =INT(RAND()*2) -> 1 | O16: =IF(N16=1,INT(RAND()*20+1),-1*INT(RAND()*20+1)) -> 9 | P16: + | Q16: =INT(RAND()*2) -> 1 | R16: =IF(Q16=1,INT(RAND()*20+1),-1*INT(RAND()*20+1)) -> 7 | S16: =IF(R16<0,CONCATENATE("( ",R16,")"),R16) -> 7 | T16: =CONCATENATE(O16," ",P16," ",S16," =") -> 9 + 7 = | V16: =O16+R16 -> 16
B17: =CONCATENATE("opération n° ",CELL("ligne",B17)-9) -> opération n° 8 | D17: =OFFSET($M$16,M23-1,7,1,1) -> 3 - ( -9) = | M17: ='tirages aléatoires'!G5 -> 11 | N17: =INT(RAND()*2) -> 0 | O17: =IF(N17=1,INT(RAND()*20+1),-1*INT(RAND()*20+1)) -> -10 | P17: + | Q17: =INT(RAND()*2) -> 0 | R17: =IF(Q17=1,INT(RAND()*20+1),-1*INT(RAND()*20+1)) -> -13 | S17: =IF(R17<0,CONCATENATE("( ",R17,")"),R17) -> ( -13) | T17: =CONCATENATE(O17," ",P17," ",S17," =") -> -10 + ( -13) = | V17: =O17+R17 -> -23
B18: =CONCATENATE("opération n° ",CELL("ligne",B18)-9) -> opération n° 9 | D18: =OFFSET($M$16,M24-1,7,1,1) -> -12 - 9 = | M18: ='tirages aléatoires'!G6 -> 04 | N18: =INT(RAND()*2) -> 1 | O18: =IF(N18=1,INT(RAND()*20+1),-1*INT(RAND()*20+1)) -> 2 | P18: + | Q18: =INT(RAND()*2) -> 0 | R18: =IF(Q18=1,INT(RAND()*20+1),-1*INT(RAND()*20+1)) -> -4 | S18: =IF(R18<0,CONCATENATE("( ",R18,")"),R18) -> ( -4) | T18: =CONCATENATE(O18," ",P18," ",S18," =") -> 2 + ( -4) = | V18: =O18+R18 -> -2
B19: =CONCATENATE("opération n° ",CELL("ligne",B19)-9) -> opération n° 10 | D19: =OFFSET($M$16,M25-1,7,1,1) -> 4 x 10 = | M19: ='tirages aléatoires'!G7 -> 12 | N19: =INT(RAND()*2) -> 1 | O19: =IF(N19=1,INT(RAND()*20+1),-1*INT(RAND()*20+1)) -> 15 | P19: + | Q19: =INT(RAND()*2) -> 0 | R19: =IF(Q19=1,INT(RAND()*20+1),-1*INT(RAND()*20+1)) -> -2 | S19: =IF(R19<0,CONCATENATE("( ",R19,")"),R19) -> ( -2) | T19: =CONCATENATE(O19," ",P19," ",S19," =") -> 15 + ( -2) = | V19: =O19+R19 -> 13
B20: =CONCATENATE("opération n° ",CELL("ligne",B20)-9) -> opération n° 11 | D20: =OFFSET($M$16,M26-1,7,1,1) -> -12 x ( -9) = | M20: ='tirages aléatoires'!G8 -> 17 | N20: =INT(RAND()*2) -> 0 | O20: =IF(N20=1,INT(RAND()*20+1),-1*INT(RAND()*20+1)) -> -7 | P20: + | Q20: =INT(RAND()*2) -> 0 | R20: =IF(Q20=1,INT(RAND()*20+1),-1*INT(RAND()*20+1)) -> -17 | S20: =IF(R20<0,CONCATENATE("( ",R20,")"),R20) -> ( -17) | T20: =CONCATENATE(O20," ",P20," ",S20," =") -> -7 + ( -17) = | V20: =O20+R20 -> -24
B21: =CONCATENATE("opération n° ",CELL("ligne",B21)-9) -> opération n° 12 | D21: =OFFSET($M$16,M27-1,7,1,1) -> -7 + ( -17) = | L21: 5 multiplications | M21: ='tirages aléatoires'!G9 -> 16 | N21: =INT(RAND()*2) -> 1 | O21: =IF(N21=1,INT(RAND()*11+2),-1*INT(RAND()*11+2)) -> 10 | P21: x | Q21: =INT(RAND()*2) -> 0 | R21: =IF(Q21=1,INT(RAND()*9+2),-1*INT(RAND()*9+2)) -> -8 | S21: =IF(R21<0,CONCATENATE("( ",R21,")"),R21) -> ( -8) | T21: =CONCATENATE(O21," ",P21," ",S21," =") -> 10 x ( -8) = | V21: =O21*R21 -> -80
B22: =CONCATENATE("opération n° ",CELL("ligne",B22)-9) -> opération n° 13 | D22: =OFFSET($M$16,M28-1,7,1,1) -> 12 ÷ 4 = | M22: ='tirages aléatoires'!G10 -> 01 | N22: =INT(RAND()*2) -> 0 | O22: =IF(N22=1,INT(RAND()*11+2),-1*INT(RAND()*11+2)) -> -6 | P22: x | Q22: =INT(RAND()*2) -> 0 | R22: =IF(Q22=1,INT(RAND()*9+2),-1*INT(RAND()*9+2)) -> -4 | S22: =IF(R22<0,CONCATENATE("( ",R22,")"),R22) -> ( -4) | T22: =CONCATENATE(O22," ",P22," ",S22," =") -> -6 x ( -4) = | V22: =O22*R22 -> 24
B23: =CONCATENATE("opération n° ",CELL("ligne",B23)-9) -> opération n° 14 | D23: =OFFSET($M$16,M29-1,7,1,1) -> 2 + ( -4) = | M23: ='tirages aléatoires'!G11 -> 14 | N23: =INT(RAND()*2) -> 1 | O23: =IF(N23=1,INT(RAND()*11+2),-1*INT(RAND()*11+2)) -> 4 | P23: x | Q23: =INT(RAND()*2) -> 1 | R23: =IF(Q23=1,INT(RAND()*9+2),-1*INT(RAND()*9+2)) -> 10 | S23: =IF(R23<0,CONCATENATE("( ",R23,")"),R23) -> 10 | T23: =CONCATENATE(O23," ",P23," ",S23," =") -> 4 x 10 = | V23: =O23*R23 -> 40
B24: =CONCATENATE("opération n° ",CELL("ligne",B24)-9) -> opération n° 15 | D24: =OFFSET($M$16,M30-1,7,1,1) -> -6 x ( -4) = | M24: ='tirages aléatoires'!G12 -> 13 | N24: =INT(RAND()*2) -> 1 | O24: =IF(N24=1,INT(RAND()*11+2),-1*INT(RAND()*11+2)) -> 3 | P24: x | Q24: =INT(RAND()*2) -> 1 | R24: =IF(Q24=1,INT(RAND()*9+2),-1*INT(RAND()*9+2)) -> 10 | S24: =IF(R24<0,CONCATENATE("( ",R24,")"),R24) -> 10 | T24: =CONCATENATE(O24," ",P24," ",S24," =") -> 3 x 10 = | V24: =O24*R24 -> 30
B25: =CONCATENATE("opération n° ",CELL("ligne",B25)-9) -> opération n° 16 | D25: =OFFSET($M$16,M31-1,7,1,1) -> 81 ÷ 9 = | M25: ='tirages aléatoires'!G13 -> 08 | N25: =INT(RAND()*2) -> 0 | O25: =IF(N25=1,INT(RAND()*11+2),-1*INT(RAND()*11+2)) -> -12 | P25: x | Q25: =INT(RAND()*2) -> 0 | R25: =IF(Q25=1,INT(RAND()*9+2),-1*INT(RAND()*9+2)) -> -9 | S25: =IF(R25<0,CONCATENATE("( ",R25,")"),R25) -> ( -9) | T25: =CONCATENATE(O25," ",P25," ",S25," =") -> -12 x ( -9) = | V25: =O25*R25 -> 108
B26: =CONCATENATE("opération n° ",CELL("ligne",B26)-9) -> opération n° 17 | D26: =OFFSET($M$16,M32-1,7,1,1) -> -14 ÷ ( -7) = | L26: 5 soustractions | M26: ='tirages aléatoires'!G14 -> 10 | N26: =INT(RAND()*2) -> 1 | O26: =IF(N26=1,INT(RAND()*20+1),-1*INT(RAND()*20+1)) -> 8 | P26: - | Q26: =INT(RAND()*2) -> 1 | R26: =IF(Q26=1,INT(RAND()*20+1),-1*INT(RAND()*20+1)) -> 11 | S26: =IF(R26<0,CONCATENATE("( ",R26,")"),R26) -> 11 | T26: =CONCATENATE(O26," ",P26," ",S26," =") -> 8 - 11 = | V26: =O26-R26 -> -3
B27: =CONCATENATE("opération n° ",CELL("ligne",B27)-9) -> opération n° 18 | D27: =OFFSET($M$16,M33-1,7,1,1) -> -10 + ( -13) = | M27: ='tirages aléatoires'!G15 -> 05 | N27: =INT(RAND()*2) -> 0 | O27: =IF(N27=1,INT(RAND()*20+1),-1*INT(RAND()*20+1)) -> -20 | P27: - | Q27: =INT(RAND()*2) -> 0 | R27: =IF(Q27=1,INT(RAND()*20+1),-1*INT(RAND()*20+1)) -> -20 | S27: =IF(R27<0,CONCATENATE("( ",R27,")"),R27) -> ( -20) | T27: =CONCATENATE(O27," ",P27," ",S27," =") -> -20 - ( -20) = | V27: =O27-R27 -> 0
B28: =CONCATENATE("opération n° ",CELL("ligne",B28)-9) -> opération n° 19 | D28: =OFFSET($M$16,M34-1,7,1,1) -> 10 x ( -8) = | M28: ='tirages aléatoires'!G16 -> 18 | N28: =INT(RAND()*2) -> 0 | O28: =IF(N28=1,INT(RAND()*20+1),-1*INT(RAND()*20+1)) -> -12 | P28: - | Q28: =INT(RAND()*2) -> 1 | R28: =IF(Q28=1,INT(RAND()*20+1),-1*INT(RAND()*20+1)) -> 9 | S28: =IF(R28<0,CONCATENATE("( ",R28,")"),R28) -> 9 | T28: =CONCATENATE(O28," ",P28," ",S28," =") -> -12 - 9 = | V28: =O28-R28 -> -21
B29: =CONCATENATE("opération n° ",CELL("ligne",B29)-9) -> opération n° 20 | D29: =OFFSET($M$16,M35-1,7,1,1) -> 3 x 10 = | M29: ='tirages aléatoires'!G17 -> 03 | N29: =INT(RAND()*2) -> 1 | O29: =IF(N29=1,INT(RAND()*20+1),-1*INT(RAND()*20+1)) -> 3 | P29: - | Q29: =INT(RAND()*2) -> 0 | R29: =IF(Q29=1,INT(RAND()*20+1),-1*INT(RAND()*20+1)) -> -9 | S29: =IF(R29<0,CONCATENATE("( ",R29,")"),R29) -> ( -9) | T29: =CONCATENATE(O29," ",P29," ",S29," =") -> 3 - ( -9) = | V29: =O29-R29 -> 12
M30: ='tirages aléatoires'!G18 -> 07 | N30: =INT(RAND()*2) -> 1 | O30: =IF(N30=1,INT(RAND()*20+1),-1*INT(RAND()*20+1)) -> 17 | P30: - | Q30: =INT(RAND()*2) -> 1 | R30: =IF(Q30=1,INT(RAND()*20+1),-1*INT(RAND()*20+1)) -> 20 | S30: =IF(R30<0,CONCATENATE("( ",R30,")"),R30) -> 20 | T30: =CONCATENATE(O30," ",P30," ",S30," =") -> 17 - 20 = | V30: =O30-R30 -> -3
L31: 5 divisions | M31: ='tirages aléatoires'!G19 -> 20 | N31: =INT(RAND()*2) -> 1 | O31: =IF(N31=1,R31*INT(RAND()*9+2),-1*R31*INT(RAND()*9+2)) -> 28 | P31: ÷ | Q31: =INT(RAND()*2) -> 1 | R31: =IF(Q31=1,INT(RAND()*9+2),-1*INT(RAND()*9+2)) -> 4 | S31: =IF(R31<0,CONCATENATE("( ",R31,")"),R31) -> 4 | T31: =CONCATENATE(O31," ",P31," ",S31," =") -> 28 ÷ 4 = | V31: =O31/R31 -> 7
B32: CORRECTION | M32: ='tirages aléatoires'!G20 -> 19 | N32: =INT(RAND()*2) -> 1 | O32: =IF(N32=1,R32*INT(RAND()*9+2),-1*R32*INT(RAND()*9+2)) -> -42 | P32: ÷ | Q32: =INT(RAND()*2) -> 0 | R32: =IF(Q32=1,INT(RAND()*9+2),-1*INT(RAND()*9+2)) -> -7 | S32: =IF(R32<0,CONCATENATE("( ",R32,")"),R32) -> ( -7) | T32: =CONCATENATE(O32," ",P32," ",S32," =") -> -42 ÷ ( -7) = | V32: =O32/R32 -> 6
M33: ='tirages aléatoires'!G21 -> 02 | N33: =INT(RAND()*2) -> 1 | O33: =IF(N33=1,R33*INT(RAND()*9+2),-1*R33*INT(RAND()*9+2)) -> 12 | P33: ÷ | Q33: =INT(RAND()*2) -> 1 | R33: =IF(Q33=1,INT(RAND()*9+2),-1*INT(RAND()*9+2)) -> 4 | S33: =IF(R33<0,CONCATENATE("( ",R33,")"),R33) -> 4 | T33: =CONCATENATE(O33," ",P33," ",S33," =") -> 12 ÷ 4 = | V33: =O33/R33 -> 3
B34: CONTRÔLE : NOMBRES RELATIFS | M34: ='tirages aléatoires'!G22 -> 06 | N34: =INT(RAND()*2) -> 1 | O34: =IF(N34=1,R34*INT(RAND()*9+2),-1*R34*INT(RAND()*9+2)) -> -14 | P34: ÷ | Q34: =INT(RAND()*2) -> 0 | R34: =IF(Q34=1,INT(RAND()*9+2),-1*INT(RAND()*9+2)) -> -7 | S34: =IF(R34<0,CONCATENATE("( ",R34,")"),R34) -> ( -7) | T34: =CONCATENATE(O34," ",P34," ",S34," =") -> -14 ÷ ( -7) = | V34: =O34/R34 -> 2
M35: ='tirages aléatoires'!G23 -> 09 | N35: =INT(RAND()*2) -> 1 | O35: =IF(N35=1,R35*INT(RAND()*9+2),-1*R35*INT(RAND()*9+2)) -> 81 | P35: ÷ | Q35: =INT(RAND()*2) -> 1 | R35: =IF(Q35=1,INT(RAND()*9+2),-1*INT(RAND()*9+2)) -> 9 | S35: =IF(R35<0,CONCATENATE("( ",R35,")"),R35) -> 9 | T35: =CONCATENATE(O35," ",P35," ",S35," =") -> 81 ÷ 9 = | V35: =O35/R35 -> 9
B40: =CONCATENATE("opération n° ",CELL("ligne",B10)-9) -> opération n° 1 | D40: =OFFSET($M$16,M16-1,7,1,1) -> 17 - 20 = | F40: =OFFSET($M$16,M16-1,9,1,1) -> -3 | H40: =OFFSET($M$16,Q16-1,7,1,1) -> 9 + 7 =
B41: =CONCATENATE("opération n° ",CELL("ligne",B11)-9) -> opération n° 2 | D41: =OFFSET($M$16,M17-1,7,1,1) -> 8 - 11 = | F41: =OFFSET($M$16,M17-1,9,1,1) -> -3 | H41: =OFFSET($M$16,Q17-1,7,1,1) -> 0
B42: =CONCATENATE("opération n° ",CELL("ligne",B12)-9) -> opération n° 3 | D42: =OFFSET($M$16,M18-1,7,1,1) -> 15 + ( -2) = | F42: =OFFSET($M$16,M18-1,9,1,1) -> 13 | H42: =OFFSET($M$16,Q18-1,7,1,1) -> 0
B43: =CONCATENATE("opération n° ",CELL("ligne",B13)-9) -> opération n° 4 | D43: =OFFSET($M$16,M19-1,7,1,1) -> -20 - ( -20) = | F43: =OFFSET($M$16,M19-1,9,1,1) -> 0 | H43: =OFFSET($M$16,Q19-1,7,1,1) -> 0
B44: =CONCATENATE("opération n° ",CELL("ligne",B14)-9) -> opération n° 5 | D44: =OFFSET($M$16,M20-1,7,1,1) -> -42 ÷ ( -7) = | F44: =OFFSET($M$16,M20-1,9,1,1) -> 6 | H44: =OFFSET($M$16,Q20-1,7,1,1) -> 0
B45: =CONCATENATE("opération n° ",CELL("ligne",B15)-9) -> opération n° 6 | D45: =OFFSET($M$16,M21-1,7,1,1) -> 28 ÷ 4 = | F45: =OFFSET($M$16,M21-1,9,1,1) -> 7 | H45: =OFFSET($M$16,Q21-1,7,1,1) -> 0
B46: =CONCATENATE("opération n° ",CELL("ligne",B16)-9) -> opération n° 7 | D46: =OFFSET($M$16,M22-1,7,1,1) -> 9 + 7 = | F46: =OFFSET($M$16,M22-1,9,1,1) -> 16 | H46: =OFFSET($M$16,Q22-1,7,1,1) -> 0
B47: =CONCATENATE("opération n° ",CELL("ligne",B17)-9) -> opération n° 8 | D47: =OFFSET($M$16,M23-1,7,1,1) -> 3 - ( -9) = | F47: =OFFSET($M$16,M23-1,9,1,1) -> 12 | H47: =OFFSET($M$16,Q23-1,7,1,1) -> 9 + 7 =
B48: =CONCATENATE("opération n° ",CELL("ligne",B18)-9) -> opération n° 9 | D48: =OFFSET($M$16,M24-1,7,1,1) -> -12 - 9 = | F48: =OFFSET($M$16,M24-1,9,1,1) -> -21 | H48: =OFFSET($M$16,Q24-1,7,1,1) -> 9 + 7 =
B49: =CONCATENATE("opération n° ",CELL("ligne",B19)-9) -> opération n° 10 | D49: =OFFSET($M$16,M25-1,7,1,1) -> 4 x 10 = | F49: =OFFSET($M$16,M25-1,9,1,1) -> 40 | H49: =OFFSET($M$16,Q25-1,7,1,1) -> 0
B50: =CONCATENATE("opération n° ",CELL("ligne",B20)-9) -> opération n° 11 | D50: =OFFSET($M$16,M26-1,7,1,1) -> -12 x ( -9) = | F50: =OFFSET($M$16,M26-1,9,1,1) -> 108 | H50: =OFFSET($M$16,Q26-1,7,1,1) -> 9 + 7 =
B51: =CONCATENATE("opération n° ",CELL("ligne",B21)-9) -> opération n° 12 | D51: =OFFSET($M$16,M27-1,7,1,1) -> -7 + ( -17) = | F51: =OFFSET($M$16,M27-1,9,1,1) -> -24 | H51: =OFFSET($M$16,Q27-1,7,1,1) -> 0
... B54: =CONCATENATE("opération n° ",CELL("ligne",B24)-9) -> opération n° 15 | D54: =OFFSET($M$16,M30-1,7,1,1) -> -6 x ( -4) = | F54: =OFFSET($M$16,M30-1,9,1,1) -> 24 | H54: =OFFSET($M$16,Q30-1,7,1,1) -> 9 + 7 =
B55: =CONCATENATE("opération n° ",CELL("ligne",B25)-9) -> opération n° 16 | D55: =OFFSET($M$16,M31-1,7,1,1) -> 81 ÷ 9 = | F55: =OFFSET($M$16,M31-1,9,1,1) -> 9 | H55: =OFFSET($M$16,Q31-1,7,1,1) -> 9 + 7 = | U55: 35
B56: =CONCATENATE("opération n° ",CELL("ligne",B26)-9) -> opération n° 17 | D56: =OFFSET($M$16,M32-1,7,1,1) -> -14 ÷ ( -7) = | F56: =OFFSET($M$16,M32-1,9,1,1) -> 2 | H56: =OFFSET($M$16,Q32-1,7,1,1) -> 0
B57: =CONCATENATE("opération n° ",CELL("ligne",B27)-9) -> opération n° 18 | D57: =OFFSET($M$16,M33-1,7,1,1) -> -10 + ( -13) = | F57: =OFFSET($M$16,M33-1,9,1,1) -> -23 | H57: =OFFSET($M$16,Q33-1,7,1,1) -> 9 + 7 =
B58: =CONCATENATE("opération n° ",CELL("ligne",B28)-9) -> opération n° 19 | D58: =OFFSET($M$16,M34-1,7,1,1) -> 10 x ( -8) = | F58: =OFFSET($M$16,M34-1,9,1,1) -> -80 | H58: =OFFSET($M$16,Q34-1,7,1,1) -> 0
B59: =CONCATENATE("opération n° ",CELL("ligne",B29)-9) -> opération n° 20 | D59: =OFFSET($M$16,M35-1,7,1,1) -> 3 x 10 = | F59: =OFFSET($M$16,M35-1,9,1,1) -> 30 | H59: =OFFSET($M$16,Q35-1,7,1,1) -> 9 + 7 =

Sheet Add-soust° relatifs (5e)
B2: NOM et PRENOM: | H2: Classe : | L2: appuyer sur la touche F9 pour générer une nouvelle feuille
B4: CONTRÔLE : ADDITIONS et SOUSTRACTIONS de nombres relatifs
B10: =CONCATENATE("opération n° ",CELL("ligne",B10)-9) -> opération n° 1 | D10: =OFFSET($M$16,M16-1,8,1,1) -> ( -2) - ( -11) = | L10: CTRL + P pour lancer l'impression
B11: =CONCATENATE("opération n° ",CELL("ligne",B11)-9) -> opération n° 2 | D11: =OFFSET($M$16,M17-1,8,1,1) -> ( +9) - ( -1) =
B12: =CONCATENATE("opération n° ",CELL("ligne",B12)-9) -> opération n° 3 | D12: =OFFSET($M$16,M18-1,8,1,1) -> ( -7) + ( -7) =
B13: =CONCATENATE("opération n° ",CELL("ligne",B13)-9) -> opération n° 4 | D13: =OFFSET($M$16,M19-1,8,1,1) -> ( +5) - ( -14) = | O13: TIRAGE DES OPERATIONS
B14: =CONCATENATE("opération n° ",CELL("ligne",B14)-9) -> opération n° 5 | D14: =OFFSET($M$16,M20-1,8,1,1) -> ( -11) - ( +1) =
B15: =CONCATENATE("opération n° ",CELL("ligne",B15)-9) -> opération n° 6 | D15: =OFFSET($M$16,M21-1,8,1,1) -> ( -16) - ( +8) = | M15: ORDRE DES CALCULS | U15: OPERATIONS | W15: RESULTATS
B16: =CONCATENATE("opération n° ",CELL("ligne",B16)-9) -> opération n° 7 | D16: =OFFSET($M$16,M22-1,8,1,1) -> ( +16) + ( -20) = | L16: 10 additions | M16: ='tirages aléatoires'!G4 -> 15 | N16: =INT(RAND()*2) -> 1 | O16: =IF(N16=1,INT(RAND()*20+1),-1*INT(RAND()*20+1)) -> 16 | P16: =IF(O16<0,CONCATENATE("( ",O16,")"),CONCATENATE("( +",O16,")")) -> ( +16) | Q16: + | R16: =INT(RAND()*2) -> 0 | S16: =IF(R16=1,INT(RAND()*20+1),-1*INT(RAND()*20+1)) -> -20 | T16: =IF(S16<0,CONCATENATE("( ",S16,")"),CONCATENATE("( +",S16,")")) -> ( -20) | U16: =CONCATENATE(P16," ",Q16," ",T16," =") -> ( +16) + ( -20) = | W16: =O16+S16 -> -4
B17: =CONCATENATE("opération n° ",CELL("ligne",B17)-9) -> opération n° 8 | D17: =OFFSET($M$16,M23-1,8,1,1) -> ( +1) - ( -9) = | M17: ='tirages aléatoires'!G5 -> 11 | N17: =INT(RAND()*2) -> 0 | O17: =IF(N17=1,INT(RAND()*20+1),-1*INT(RAND()*20+1)) -> -12 | P17: =IF(O17<0,CONCATENATE("( ",O17,")"),CONCATENATE("( +",O17,")")) -> ( -12) | Q17: + | R17: =INT(RAND()*2) -> 1 | S17: =IF(R17=1,INT(RAND()*20+1),-1*INT(RAND()*20+1)) -> 15 | T17: =IF(S17<0,CONCATENATE("( ",S17,")"),CONCATENATE("( +",S17,")")) -> ( +15) | U17: =CONCATENATE(P17," ",Q17," ",T17," =") -> ( -12) + ( +15) = | W17: =O17+S17 -> 3
B18: =CONCATENATE("opération n° ",CELL("ligne",B18)-9) -> opération n° 9 | D18: =OFFSET($M$16,M24-1,8,1,1) -> ( -3) - ( -9) = | M18: ='tirages aléatoires'!G6 -> 04 | N18: =INT(RAND()*2) -> 0 | O18: =IF(N18=1,INT(RAND()*20+1),-1*INT(RAND()*20+1)) -> -6 | P18: =IF(O18<0,CONCATENATE("( ",O18,")"),CONCATENATE("( +",O18,")")) -> ( -6) | Q18: + | R18: =INT(RAND()*2) -> 1 | S18: =IF(R18=1,INT(RAND()*20+1),-1*INT(RAND()*20+1)) -> 17 | T18: =IF(S18<0,CONCATENATE("( ",S18,")"),CONCATENATE("( +",S18,")")) -> ( +17) | U18: =CONCATENATE(P18," ",Q18," ",T18," =") -> ( -6) + ( +17) = | W18: =O18+S18 -> 11
B19: =CONCATENATE("opération n° ",CELL("ligne",B19)-9) -> opération n° 10 | D19: =OFFSET($M$16,M25-1,8,1,1) -> ( +6) + ( +1) = | M19: ='tirages aléatoires'!G7 -> 12 | N19: =INT(RAND()*2) -> 0 | O19: =IF(N19=1,INT(RAND()*20+1),-1*INT(RAND()*20+1)) -> -7 | P19: =IF(O19<0,CONCATENATE("( ",O19,")"),CONCATENATE("( +",O19,")")) -> ( -7) | Q19: + | R19: =INT(RAND()*2) -> 0 | S19: =IF(R19=1,INT(RAND()*20+1),-1*INT(RAND()*20+1)) -> -7 | T19: =IF(S19<0,CONCATENATE("( ",S19,")"),CONCATENATE("( +",S19,")")) -> ( -7) | U19: =CONCATENATE(P19," ",Q19," ",T19," =") -> ( -7) + ( -7) = | W19: =O19+S19 -> -14
B20: =CONCATENATE("opération n° ",CELL("ligne",B20)-9) -> opération n° 11 | D20: =OFFSET($M$16,M26-1,8,1,1) -> ( +4) + ( +7) = | M20: ='tirages aléatoires'!G8 -> 17 | N20: =INT(RAND()*2) -> 0 | O20: =IF(N20=1,INT(RAND()*20+1),-1*INT(RAND()*20+1)) -> -20 | P20: =IF(O20<0,CONCATENATE("( ",O20,")"),CONCATENATE("( +",O20,")")) -> ( -20) | Q20: + | R20: =INT(RAND()*2) -> 1 | S20: =IF(R20=1,INT(RAND()*20+1),-1*INT(RAND()*20+1)) -> 7 | T20: =IF(S20<0,CONCATENATE("( ",S20,")"),CONCATENATE("( +",S20,")")) -> ( +7) | U20: =CONCATENATE(P20," ",Q20," ",T20," =") -> ( -20) + ( +7) = | W20: =O20+S20 -> -13
B21: =CONCATENATE("opération n° ",CELL("ligne",B21)-9) -> opération n° 12 | D21: =OFFSET($M$16,M27-1,8,1,1) -> ( -20) + ( +7) = | M21: ='tirages aléatoires'!G9 -> 16 | N21: =INT(RAND()*2) -> 1 | O21: =IF(N21=1,INT(RAND()*20+1),-1*INT(RAND()*20+1)) -> 3 | P21: =IF(O21<0,CONCATENATE("( ",O21,")"),CONCATENATE("( +",O21,")")) -> ( +3) | Q21: + | R21: =INT(RAND()*2) -> 0 | S21: =IF(R21=1,INT(RAND()*20+1),-1*INT(RAND()*20+1)) -> -13 | T21: =IF(S21<0,CONCATENATE("( ",S21,")"),CONCATENATE("( +",S21,")")) -> ( -13) | U21: =CONCATENATE(P21," ",Q21," ",T21," =") -> ( +3) + ( -13) = | W21: =O21+S21 -> -10
B22: =CONCATENATE("opération n° ",CELL("ligne",B22)-9) -> opération n° 13 | D22: =OFFSET($M$16,M28-1,8,1,1) -> ( -12) - ( -5) = | M22: ='tirages aléatoires'!G10 -> 01 | N22: =INT(RAND()*2) -> 0 | O22: =IF(N22=1,INT(RAND()*20+1),-1*INT(RAND()*20+1)) -> -14 | P22: =IF(O22<0,CONCATENATE("( ",O22,")"),CONCATENATE("( +",O22,")")) -> ( -14) | Q22: + | R22: =INT(RAND()*2) -> 0 | S22: =IF(R22=1,INT(RAND()*20+1),-1*INT(RAND()*20+1)) -> -10 | T22: =IF(S22<0,CONCATENATE("( ",S22,")"),CONCATENATE("( +",S22,")")) -> ( -10) | U22: =CONCATENATE(P22," ",Q22," ",T22," =") -> ( -14) + ( -10) = | W22: =O22+S22 -> -24
B23: =CONCATENATE("opération n° ",CELL("ligne",B23)-9) -> opération n° 14 | D23: =OFFSET($M$16,M29-1,8,1,1) -> ( -6) + ( +17) = | M23: ='tirages aléatoires'!G11 -> 14 | N23: =INT(RAND()*2) -> 1 | O23: =IF(N23=1,INT(RAND()*20+1),-1*INT(RAND()*20+1)) -> 6 | P23: =IF(O23<0,CONCATENATE("( ",O23,")"),CONCATENATE("( +",O23,")")) -> ( +6) | Q23: + | R23: =INT(RAND()*2) -> 1 | S23: =IF(R23=1,INT(RAND()*20+1),-1*INT(RAND()*20+1)) -> 1 | T23: =IF(S23<0,CONCATENATE("( ",S23,")"),CONCATENATE("( +",S23,")")) -> ( +1) | U23: =CONCATENATE(P23," ",Q23," ",T23," =") -> ( +6) + ( +1) = | W23: =O23+S23 -> 7
B24: =CONCATENATE("opération n° ",CELL("ligne",B24)-9) -> opération n° 15 | D24: =OFFSET($M$16,M30-1,8,1,1) -> ( -14) + ( -10) = | M24: ='tirages aléatoires'!G12 -> 13 | N24: =INT(RAND()*2) -> 0 | O24: =IF(N24=1,INT(RAND()*20+1),-1*INT(RAND()*20+1)) -> -3 | P24: =IF(O24<0,CONCATENATE("( ",O24,")"),CONCATENATE("( +",O24,")")) -> ( -3) | Q24: + | R24: =INT(RAND()*2) -> 1 | S24: =IF(R24=1,INT(RAND()*20+1),-1*INT(RAND()*20+1)) -> 14 | T24: =IF(S24<0,CONCATENATE("( ",S24,")"),CONCATENATE("( +",S24,")")) -> ( +14) | U24: =CONCATENATE(P24," ",Q24," ",T24," =") -> ( -3) + ( +14) = | W24: =O24+S24 -> 11
B25: =CONCATENATE("opération n° ",CELL("ligne",B25)-9) -> opération n° 16 | D25: =OFFSET($M$16,M31-1,8,1,1) -> ( -12) - ( +10) = | M25: ='tirages aléatoires'!G13 -> 08 | N25: =INT(RAND()*2) -> 1 | O25: =IF(N25=1,INT(RAND()*20+1),-1*INT(RAND()*20+1)) -> 4 | P25: =IF(O25<0,CONCATENATE("( ",O25,")"),CONCATENATE("( +",O25,")")) -> ( +4) | Q25: + | R25: =INT(RAND()*2) -> 1 | S25: =IF(R25=1,INT(RAND()*20+1),-1*INT(RAND()*20+1)) -> 7 | T25: =IF(S25<0,CONCATENATE("( ",S25,")"),CONCATENATE("( +",S25,")")) -> ( +7) | U25: =CONCATENATE(P25," ",Q25," ",T25," =") -> ( +4) + ( +7) = | W25: =O25+S25 -> 11
B26: =CONCATENATE("opération n° ",CELL("ligne",B26)-9) -> opération n° 17 | D26: =OFFSET($M$16,M32-1,8,1,1) -> ( -13) - ( +15) = | L26: 10 soustractions | M26: ='tirages aléatoires'!G14 -> 10 | N26: =INT(RAND()*2) -> 1 | O26: =IF(N26=1,INT(RAND()*20+1),-1*INT(RAND()*20+1)) -> 9 | P26: =IF(O26<0,CONCATENATE("( ",O26,")"),CONCATENATE("( +",O26,")")) -> ( +9) | Q26: - | R26: =INT(RAND()*2) -> 0 | S26: =IF(R26=1,INT(RAND()*20+1),-1*INT(RAND()*20+1)) -> -1 | T26: =IF(S26<0,CONCATENATE("( ",S26,")"),CONCATENATE("( +",S26,")")) -> ( -1) | U26: =CONCATENATE(P26," ",Q26," ",T26," =") -> ( +9) - ( -1) = | W26: =O26-S26 -> 10
B27: =CONCATENATE("opération n° ",CELL("ligne",B27)-9) -> opération n° 18 | D27: =OFFSET($M$16,M33-1,8,1,1) -> ( -12) + ( +15) = | M27: ='tirages aléatoires'!G15 -> 05 | N27: =INT(RAND()*2) -> 1 | O27: =IF(N27=1,INT(RAND()*20+1),-1*INT(RAND()*20+1)) -> 5 | P27: =IF(O27<0,CONCATENATE("( ",O27,")"),CONCATENATE("( +",O27,")")) -> ( +5) | Q27: - | R27: =INT(RAND()*2) -> 0 | S27: =IF(R27=1,INT(RAND()*20+1),-1*INT(RAND()*20+1)) -> -14 | T27: =IF(S27<0,CONCATENATE("( ",S27,")"),CONCATENATE("( +",S27,")")) -> ( -14) | U27: =CONCATENATE(P27," ",Q27," ",T27," =") -> ( +5) - ( -14) = | W27: =O27-S27 -> 19
B28: =CONCATENATE("opération n° ",CELL("ligne",B28)-9) -> opération n° 19 | D28: =OFFSET($M$16,M34-1,8,1,1) -> ( +3) + ( -13) = | M28: ='tirages aléatoires'!G16 -> 18 | N28: =INT(RAND()*2) -> 0 | O28: =IF(N28=1,INT(RAND()*20+1),-1*INT(RAND()*20+1)) -> -3 | P28: =IF(O28<0,CONCATENATE("( ",O28,")"),CONCATENATE("( +",O28,")")) -> ( -3) | Q28: - | R28: =INT(RAND()*2) -> 0 | S28: =IF(R28=1,INT(RAND()*20+1),-1*INT(RAND()*20+1)) -> -9 | T28: =IF(S28<0,CONCATENATE("( ",S28,")"),CONCATENATE("( +",S28,")")) -> ( -9) | U28: =CONCATENATE(P28," ",Q28," ",T28," =") -> ( -3) - ( -9) = | W28: =O28-S28 -> 6
B29: =CONCATENATE("opération n° ",CELL("ligne",B29)-9) -> opération n° 20 | D29: =OFFSET($M$16,M35-1,8,1,1) -> ( -3) + ( +14) = | M29: ='tirages aléatoires'!G17 -> 03 | N29: =INT(RAND()*2) -> 1 | O29: =IF(N29=1,INT(RAND()*20+1),-1*INT(RAND()*20+1)) -> 1 | P29: =IF(O29<0,CONCATENATE("( ",O29,")"),CONCATENATE("( +",O29,")")) -> ( +1) | Q29: - | R29: =INT(RAND()*2) -> 0 | S29: =IF(R29=1,INT(RAND()*20+1),-1*INT(RAND()*20+1)) -> -9 | T29: =IF(S29<0,CONCATENATE("( ",S29,")"),CONCATENATE("( +",S29,")")) -> ( -9) | U29: =CONCATENATE(P29," ",Q29," ",T29," =") -> ( +1) - ( -9) = | W29: =O29-S29 -> 10
M30: ='tirages aléatoires'!G18 -> 07 | N30: =INT(RAND()*2) -> 0 | O30: =IF(N30=1,INT(RAND()*20+1),-1*INT(RAND()*20+1)) -> -2 | P30: =IF(O30<0,CONCATENATE("( ",O30,")"),CONCATENATE("( +",O30,")")) -> ( -2) | Q30: - | R30: =INT(RAND()*2) -> 0 | S30: =IF(R30=1,INT(RAND()*20+1),-1*INT(RAND()*20+1)) -> -11 | T30: =IF(S30<0,CONCATENATE("( ",S30,")"),CONCATENATE("( +",S30,")")) -> ( -11) | U30: =CONCATENATE(P30," ",Q30," ",T30," =") -> ( -2) - ( -11) = | W30: =O30-S30 -> 9
M31: ='tirages aléatoires'!G19 -> 20 | N31: =INT(RAND()*2) -> 0 | O31: =IF(N31=1,INT(RAND()*20+1),-1*INT(RAND()*20+1)) -> -16 | P31: =IF(O31<0,CONCATENATE("( ",O31,")"),CONCATENATE("( +",O31,")")) -> ( -16) | Q31: - | R31: =INT(RAND()*2) -> 1 | S31: =IF(R31=1,INT(RAND()*20+1),-1*INT(RAND()*20+1)) -> 8 | T31: =IF(S31<0,CONCATENATE("( ",S31,")"),CONCATENATE("( +",S31,")")) -> ( +8) | U31: =CONCATENATE(P31," ",Q31," ",T31," =") -> ( -16) - ( +8) = | W31: =O31-S31 -> -24
B32: CORRECTION | M32: ='tirages aléatoires'!G20 -> 19 | N32: =INT(RAND()*2) -> 0 | O32: =IF(N32=1,INT(RAND()*20+1),-1*INT(RAND()*20+1)) -> -11 | P32: =IF(O32<0,CONCATENATE("( ",O32,")"),CONCATENATE("( +",O32,")")) -> ( -11) | Q32: - | R32: =INT(RAND()*2) -> 1 | S32: =IF(R32=1,INT(RAND()*20+1),-1*INT(RAND()*20+1)) -> 1 | T32: =IF(S32<0,CONCATENATE("( ",S32,")"),CONCATENATE("( +",S32,")")) -> ( +1) | U32: =CONCATENATE(P32," ",Q32," ",T32," =") -> ( -11) - ( +1) = | W32: =O32-S32 -> -12
M33: ='tirages aléatoires'!G21 -> 02 | N33: =INT(RAND()*2) -> 0 | O33: =IF(N33=1,INT(RAND()*20+1),-1*INT(RAND()*20+1)) -> -12 | P33: =IF(O33<0,CONCATENATE("( ",O33,")"),CONCATENATE("( +",O33,")")) -> ( -12) | Q33: - | R33: =INT(RAND()*2) -> 0 | S33: =IF(R33=1,INT(RAND()*20+1),-1*INT(RAND()*20+1)) -> -5 | T33: =IF(S33<0,CONCATENATE("( ",S33,")"),CONCATENATE("( +",S33,")")) -> ( -5) | U33: =CONCATENATE(P33," ",Q33," ",T33," =") -> ( -12) - ( -5) = | W33: =O33-S33 -> -7
B34: CONTRÔLE : ADDITIONS et SOUSTRACTIONS de nombres relatifs | M34: ='tirages aléatoires'!G22 -> 06 | N34: =INT(RAND()*2) -> 0 | O34: =IF(N34=1,INT(RAND()*20+1),-1*INT(RAND()*20+1)) -> -13 | P34: =IF(O34<0,CONCATENATE("( ",O34,")"),CONCATENATE("( +",O34,")")) -> ( -13) | Q34: - | R34: =INT(RAND()*2) -> 1 | S34: =IF(R34=1,INT(RAND()*20+1),-1*INT(RAND()*20+1)) -> 15 | T34: =IF(S34<0,CONCATENATE("( ",S34,")"),CONCATENATE("( +",S34,")")) -> ( +15) | U34: =CONCATENATE(P34," ",Q34," ",T34," =") -> ( -13) - ( +15) = | W34: =O34-S34 -> -28
M35: ='tirages aléatoires'!G23 -> 09 | N35: =INT(RAND()*2) -> 0 | O35: =IF(N35=1,INT(RAND()*20+1),-1*INT(RAND()*20+1)) -> -12 | P35: =IF(O35<0,CONCATENATE("( ",O35,")"),CONCATENATE("( +",O35,")")) -> ( -12) | Q35: - | R35: =INT(RAND()*2) -> 1 | S35: =IF(R35=1,INT(RAND()*20+1),-1*INT(RAND()*20+1)) -> 10 | T35: =IF(S35<0,CONCATENATE("( ",S35,")"),CONCATENATE("( +",S35,")")) -> ( +10) | U35: =CONCATENATE(P35," ",Q35," ",T35," =") -> ( -12) - ( +10) = | W35: =O35-S35 -> -22
B40: =CONCATENATE("opération n° ",CELL("ligne",B10)-9) -> opération n° 1 | D40: =OFFSET($M$16,M16-1,8,1,1) -> ( -2) - ( -11) = | F40: =OFFSET($M$16,M16-1,10,1,1) -> 9 | H40: =OFFSET($M$16,R16-1,7,1,1) -> 0
B41: =CONCATENATE("opération n° ",CELL("ligne",B11)-9) -> opération n° 2 | D41: =OFFSET($M$16,M17-1,8,1,1) -> ( +9) - ( -1) = | F41: =OFFSET($M$16,M17-1,10,1,1) -> 10 | H41: =OFFSET($M$16,R17-1,7,1,1) -> ( -20)
B42: =CONCATENATE("opération n° ",CELL("ligne",B12)-9) -> opération n° 3 | D42: =OFFSET($M$16,M18-1,8,1,1) -> ( -7) + ( -7) = | F42: =OFFSET($M$16,M18-1,10,1,1) -> -14 | H42: =OFFSET($M$16,R18-1,7,1,1) -> ( -20)
B43: =CONCATENATE("opération n° ",CELL("ligne",B13)-9) -> opération n° 4 | D43: =OFFSET($M$16,M19-1,8,1,1) -> ( +5) - ( -14) = | F43: =OFFSET($M$16,M19-1,10,1,1) -> 19 | H43: =OFFSET($M$16,R19-1,7,1,1) -> 0
B44: =CONCATENATE("opération n° ",CELL("ligne",B14)-9) -> opération n° 5 | D44: =OFFSET($M$16,M20-1,8,1,1) -> ( -11) - ( +1) = | F44: =OFFSET($M$16,M20-1,10,1,1) -> -12 | H44: =OFFSET($M$16,R20-1,7,1,1) -> ( -20)
B45: =CONCATENATE("opération n° ",CELL("ligne",B15)-9) -> opération n° 6 | D45: =OFFSET($M$16,M21-1,8,1,1) -> ( -16) - ( +8) = | F45: =OFFSET($M$16,M21-1,10,1,1) -> -24 | H45: =OFFSET($M$16,R21-1,7,1,1) -> 0
B46: =CONCATENATE("opération n° ",CELL("ligne",B16)-9) -> opération n° 7 | D46: =OFFSET($M$16,M22-1,8,1,1) -> ( +16) + ( -20) = | F46: =OFFSET($M$16,M22-1,10,1,1) -> -4 | H46: =OFFSET($M$16,R22-1,7,1,1) -> 0
B47: =CONCATENATE("opération n° ",CELL("ligne",B17)-9) -> opération n° 8 | D47: =OFFSET($M$16,M23-1,8,1,1) -> ( +1) - ( -9) = | F47: =OFFSET($M$16,M23-1,10,1,1) -> 10 | H47: =OFFSET($M$16,R23-1,7,1,1) -> ( -20)
B48: =CONCATENATE("opération n° ",CELL("ligne",B18)-9) -> opération n° 9 | D48: =OFFSET($M$16,M24-1,8,1,1) -> ( -3) - ( -9) = | F48: =OFFSET($M$16,M24-1,10,1,1) -> 6 | H48: =OFFSET($M$16,R24-1,7,1,1) -> ( -20)
B49: =CONCATENATE("opération n° ",CELL("ligne",B19)-9) -> opération n° 10 | D49: =OFFSET($M$16,M25-1,8,1,1) -> ( +6) + ( +1) = | F49: =OFFSET($M$16,M25-1,10,1,1) -> 7 | H49: =OFFSET($M$16,R25-1,7,1,1) -> ( -20)
B50: =CONCATENATE("opération n° ",CELL("ligne",B20)-9) -> opération n° 11 | D50: =OFFSET($M$16,M26-1,8,1,1) -> ( +4) + ( +7) = | F50: =OFFSET($M$16,M26-1,10,1,1) -> 11 | H50: =OFFSET($M$16,R26-1,7,1,1) -> 0
B51: =CONCATENATE("opération n° ",CELL("ligne",B21)-9) -> opération n° 12 | D51: =OFFSET($M$16,M27-1,8,1,1) -> ( -20) + ( +7) = | F51: =OFFSET($M$16,M27-1,10,1,1) -> -13 | H51: =OFFSET($M$16,R27-1,7,1,1) -> 0
... B54: =CONCATENATE("opération n° ",CELL("ligne",B24)-9) -> opération n° 15 | D54: =OFFSET($M$16,M30-1,8,1,1) -> ( -14) + ( -10) = | F54: =OFFSET($M$16,M30-1,10,1,1) -> -24 | H54: =OFFSET($M$16,R30-1,7,1,1) -> 0
B55: =CONCATENATE("opération n° ",CELL("ligne",B25)-9) -> opération n° 16 | D55: =OFFSET($M$16,M31-1,8,1,1) -> ( -12) - ( +10) = | F55: =OFFSET($M$16,M31-1,10,1,1) -> -22 | H55: =OFFSET($M$16,R31-1,7,1,1) -> ( -20) | V55: 35
B56: =CONCATENATE("opération n° ",CELL("ligne",B26)-9) -> opération n° 17 | D56: =OFFSET($M$16,M32-1,8,1,1) -> ( -13) - ( +15) = | F56: =OFFSET($M$16,M32-1,10,1,1) -> -28 | H56: =OFFSET($M$16,R32-1,7,1,1) -> ( -20)
B57: =CONCATENATE("opération n° ",CELL("ligne",B27)-9) -> opération n° 18 | D57: =OFFSET($M$16,M33-1,8,1,1) -> ( -12) + ( +15) = | F57: =OFFSET($M$16,M33-1,10,1,1) -> 3 | H57: =OFFSET($M$16,R33-1,7,1,1) -> 0
B58: =CONCATENATE("opération n° ",CELL("ligne",B28)-9) -> opération n° 19 | D58: =OFFSET($M$16,M34-1,8,1,1) -> ( +3) + ( -13) = | F58: =OFFSET($M$16,M34-1,10,1,1) -> -10 | H58: =OFFSET($M$16,R34-1,7,1,1) -> ( -20)
B59: =CONCATENATE("opération n° ",CELL("ligne",B29)-9) -> opération n° 20 | D59: =OFFSET($M$16,M35-1,8,1,1) -> ( -3) + ( +14) = | F59: =OFFSET($M$16,M35-1,10,1,1) -> 11 | H59: =OFFSET($M$16,R35-1,7,1,1) -> ( -20)

Sheet tirages aléatoires
A1: Tirages ordre aléatoire :
A2: si liste de 10 opérations : | F2: si liste de 20 opérations :
D3: 0123456789 | H3: 0102030405060708091011121314151617181920
B4: =INT(RAND()*LEN(D3))+1 -> 2 | C4: =RIGHT(LEFT(D3,B4))+1 -> 2 | D4: =CONCATENATE(LEFT(D3,B4-1),RIGHT(D3,LEN(D3)-B4)) -> 023456789 | F4: =INT(RAND()*LEN(H3)/2)*2+1 -> 29 | G4: =RIGHT(LEFT(H3,F4+1),2) -> 15 | H4: =CONCATENATE(LEFT(H3,F4-1),RIGHT(H3,LEN(H3)-F4-1)) -> 01020304050607080910111213141617181920
B5: =INT(RAND()*LEN(D4))+1 -> 3 | C5: =RIGHT(LEFT(D4,B5))+1 -> 4 | D5: =CONCATENATE(LEFT(D4,B5-1),RIGHT(D4,LEN(D4)-B5)) -> 02456789 | F5: =INT(RAND()*LEN(H4)/2)*2+1 -> 21 | G5: =RIGHT(LEFT(H4,F5+1),2) -> 11 | H5: =CONCATENATE(LEFT(H4,F5-1),RIGHT(H4,LEN(H4)-F5-1)) -> 010203040506070809101213141617181920
B6: =INT(RAND()*LEN(D5))+1 -> 6 | C6: =RIGHT(LEFT(D5,B6))+1 -> 8 | D6: =CONCATENATE(LEFT(D5,B6-1),RIGHT(D5,LEN(D5)-B6)) -> 0245689 | F6: =INT(RAND()*LEN(H5)/2)*2+1 -> 7 | G6: =RIGHT(LEFT(H5,F6+1),2) -> 04 | H6: =CONCATENATE(LEFT(H5,F6-1),RIGHT(H5,LEN(H5)-F6-1)) -> 0102030506070809101213141617181920
B7: =INT(RAND()*LEN(D6))+1 -> 2 | C7: =RIGHT(LEFT(D6,B7))+1 -> 3 | D7: =CONCATENATE(LEFT(D6,B7-1),RIGHT(D6,LEN(D6)-B7)) -> 045689 | F7: =INT(RAND()*LEN(H6)/2)*2+1 -> 19 | G7: =RIGHT(LEFT(H6,F7+1),2) -> 12 | H7: =CONCATENATE(LEFT(H6,F7-1),RIGHT(H6,LEN(H6)-F7-1)) -> 01020305060708091013141617181920
B8: =INT(RAND()*LEN(D7))+1 -> 6 | C8: =RIGHT(LEFT(D7,B8))+1 -> 10 | D8: =CONCATENATE(LEFT(D7,B8-1),RIGHT(D7,LEN(D7)-B8)) -> 04568 | F8: =INT(RAND()*LEN(H7)/2)*2+1 -> 25 | G8: =RIGHT(LEFT(H7,F8+1),2) -> 17 | H8: =CONCATENATE(LEFT(H7,F8-1),RIGHT(H7,LEN(H7)-F8-1)) -> 010203050607080910131416181920
B9: =INT(RAND()*LEN(D8))+1 -> 3 | C9: =RIGHT(LEFT(D8,B9))+1 -> 6 | D9: =CONCATENATE(LEFT(D8,B9-1),RIGHT(D8,LEN(D8)-B9)) -> 0468 | F9: =INT(RAND()*LEN(H8)/2)*2+1 -> 23 | G9: =RIGHT(LEFT(H8,F9+1),2) -> 16 | H9: =CONCATENATE(LEFT(H8,F9-1),RIGHT(H8,LEN(H8)-F9-1)) -> 0102030506070809101314181920
B10: =INT(RAND()*LEN(D9))+1 -> 3 | C10: =RIGHT(LEFT(D9,B10))+1 -> 7 | D10: =CONCATENATE(LEFT(D9,B10-1),RIGHT(D9,LEN(D9)-B10)) -> 048 | F10: =INT(RAND()*LEN(H9)/2)*2+1 -> 1 | G10: =RIGHT(LEFT(H9,F10+1),2) -> 01 | H10: =CONCATENATE(LEFT(H9,F10-1),RIGHT(H9,LEN(H9)-F10-1)) -> 02030506070809101314181920
B11: =INT(RAND()*LEN(D10))+1 -> 1 | C11: =RIGHT(LEFT(D10,B11))+1 -> 1 | D11: =CONCATENATE(LEFT(D10,B11-1),RIGHT(D10,LEN(D10)-B11)) -> 48 | F11: =INT(RAND()*LEN(H10)/2)*2+1 -> 19 | G11: =RIGHT(LEFT(H10,F11+1),2) -> 14 | H11: =CONCATENATE(LEFT(H10,F11-1),RIGHT(H10,LEN(H10)-F11-1)) -> 020305060708091013181920
B12: =INT(RAND()*LEN(D11))+1 -> 1 | C12: =RIGHT(LEFT(D11,B12))+1 -> 5 | D12: =CONCATENATE(LEFT(D11,B12-1),RIGHT(D11,LEN(D11)-B12)) -> 8 | F12: =INT(RAND()*LEN(H11)/2)*2+1 -> 17 | G12: =RIGHT(LEFT(H11,F12+1),2) -> 13 | H12: =CONCATENATE(LEFT(H11,F12-1),RIGHT(H11,LEN(H11)-F12-1)) -> 0203050607080910181920
B13: =INT(RAND()*LEN(D12))+1 -> 1 | C13: =RIGHT(LEFT(D12,B13))+1 -> 9 | D13: =CONCATENATE(LEFT(D12,B13-1),RIGHT(D12,LEN(D12)-B13)) | F13: =INT(RAND()*LEN(H12)/2)*2+1 -> 11 | G13: =RIGHT(LEFT(H12,F13+1),2) -> 08 | H13: =CONCATENATE(LEFT(H12,F13-1),RIGHT(H12,LEN(H12)-F13-1)) -> 02030506070910181920
C14: =RIGHT(LEFT(A13,RAND()*10)) | F14: =INT(RAND()*LEN(H13)/2)*2+1 -> 13 | G14: =RIGHT(LEFT(H13,F14+1),2) -> 10 | H14: =CONCATENATE(LEFT(H13,F14-1),RIGHT(H13,LEN(H13)-F14-1)) -> 020305060709181920
C15: =RIGHT(LEFT(A14,RAND()*10)) | F15: =INT(RAND()*LEN(H14)/2)*2+1 -> 5 | G15: =RIGHT(LEFT(H14,F15+1),2) -> 05 | H15: =CONCATENATE(LEFT(H14,F15-1),RIGHT(H14,LEN(H14)-F15-1)) -> 0203060709181920
C16: =RIGHT(LEFT(A15,RAND()*10)) | F16: =INT(RAND()*LEN(H15)/2)*2+1 -> 11 | G16: =RIGHT(LEFT(H15,F16+1),2) -> 18 | H16: =CONCATENATE(LEFT(H15,F16-1),RIGHT(H15,LEN(H15)-F16-1)) -> 02030607091920
C17: =RIGHT(LEFT(A16,RAND()*10)) | F17: =INT(RAND()*LEN(H16)/2)*2+1 -> 3 | G17: =RIGHT(LEFT(H16,F17+1),2) -> 03 | H17: =CONCATENATE(LEFT(H16,F17-1),RIGHT(H16,LEN(H16)-F17-1)) -> 020607091920
C18: =RIGHT(LEFT(A17,RAND()*10)) | F18: =INT(RAND()*LEN(H17)/2)*2+1 -> 5 | G18: =RIGHT(LEFT(H17,F18+1),2) -> 07 | H18: =CONCATENATE(LEFT(H17,F18-1),RIGHT(H17,LEN(H17)-F18-1)) -> 0206091920
F19: =INT(RAND()*LEN(H18)/2)*2+1 -> 9 | G19: =RIGHT(LEFT(H18,F19+1),2) -> 20 | H19: =CONCATENATE(LEFT(H18,F19-1),RIGHT(H18,LEN(H18)-F19-1)) -> 02060919
A20: NE PAS MODIFIER | F20: =INT(RAND()*LEN(H19)/2)*2+1 -> 7 | G20: =RIGHT(LEFT(H19,F20+1),2) -> 19 | H20: =CONCATENATE(LEFT(H19,F20-1),RIGHT(H19,LEN(H19)-F20-1)) -> 020609
F21: =INT(RAND()*LEN(H20)/2)*2+1 -> 1 | G21: =RIGHT(LEFT(H20,F21+1),2) -> 02 | H21: =CONCATENATE(LEFT(H20,F21-1),RIGHT(H20,LEN(H20)-F21-1)) -> 0609
F22: =INT(RAND()*LEN(H21)/2)*2+1 -> 1 | G22: =RIGHT(LEFT(H21,F22+1),2) -> 06 | H22: =CONCATENATE(LEFT(H21,F22-1),RIGHT(H21,LEN(H21)-F22-1)) -> 09
F23: =INT(RAND()*LEN(H22)/2)*2+1 -> 1 | G23: =RIGHT(LEFT(H22,F23+1),2) -> 09 | H23: =CONCATENATE(LEFT(H22,F23-1),RIGHT(H22,LEN(H22)-F23-1))
A27: appuyer sur la touche F9 pour generer les listes aléatoires
