Workbook

Sheet Tables multiplicat° (6e)
A1: NOM et PRENOM: | G1: Classe :
B2: CONTRÔLE : TABLE DE MULTIPLICATION
B6: 2 | C6: 3 | D6: 4 | E6: 5 | F6: 6 | G6: 7 | H6: 8 | I6: 9
A7: 1 | B7: =IF(COUNTIF($P$20:$P$39,CONCATENATE(CHAR(CELL("col",B7)+64),CELL("ligne",B7)-6))>0,"",".") | C7: =IF(COUNTIF($P$20:$P$39,CONCATENATE(CHAR(CELL("col",C7)+64),CELL("ligne",C7)-6))>0,"",".") | D7: =IF(COUNTIF($P$20:$P$39,CONCATENATE(CHAR(CELL("col",D7)+64),CELL("ligne",D7)-6))>0,"",".") -> . | E7: =IF(COUNTIF($P$20:$P$39,CONCATENATE(CHAR(CELL("col",E7)+64),CELL("ligne",E7)-6))>0,"",".") -> . | F7: =IF(COUNTIF($P$20:$P$39,CONCATENATE(CHAR(CELL("col",F7)+64),CELL("ligne",F7)-6))>0,"",".") -> . | G7: =IF(COUNTIF($P$20:$P$39,CONCATENATE(CHAR(CELL("col",G7)+64),CELL("ligne",G7)-6))>0,"",".") -> . | H7: =IF(COUNTIF($P$20:$P$39,CONCATENATE(CHAR(CELL("col",H7)+64),CELL("ligne",H7)-6))>0,"",".") | I7: =IF(COUNTIF($P$20:$P$39,CONCATENATE(CHAR(CELL("col",I7)+64),CELL("ligne",I7)-6))>0,"",".") -> . | K7: Nb de cases à remplir : | M7: =COUNTBLANK(B7:I16) -> 20
A8: 2 | B8: =IF(COUNTIF($P$20:$P$39,CONCATENATE(CHAR(CELL("col",B8)+64),CELL("ligne",B8)-6))>0,"",".") | C8: =IF(COUNTIF($P$20:$P$39,CONCATENATE(CHAR(CELL("col",C8)+64),CELL("ligne",C8)-6))>0,"",".") -> . | D8: =IF(COUNTIF($P$20:$P$39,CONCATENATE(CHAR(CELL("col",D8)+64),CELL("ligne",D8)-6))>0,"",".") -> . | E8: =IF(COUNTIF($P$20:$P$39,CONCATENATE(CHAR(CELL("col",E8)+64),CELL("ligne",E8)-6))>0,"",".") | F8: =IF(COUNTIF($P$20:$P$39,CONCATENATE(CHAR(CELL("col",F8)+64),CELL("ligne",F8)-6))>0,"",".") -> . | G8: =IF(COUNTIF($P$20:$P$39,CONCATENATE(CHAR(CELL("col",G8)+64),CELL("ligne",G8)-6))>0,"",".") -> . | H8: =IF(COUNTIF($P$20:$P$39,CONCATENATE(CHAR(CELL("col",H8)+64),CELL("ligne",H8)-6))>0,"",".") | I8: =IF(COUNTIF($P$20:$P$39,CONCATENATE(CHAR(CELL("col",I8)+64),CELL("ligne",I8)-6))>0,"",".") -> .
A9: 3 | B9: =IF(COUNTIF($P$20:$P$39,CONCATENATE(CHAR(CELL("col",B9)+64),CELL("ligne",B9)-6))>0,"",".") -> . | C9: =IF(COUNTIF($P$20:$P$39,CONCATENATE(CHAR(CELL("col",C9)+64),CELL("ligne",C9)-6))>0,"",".") -> . | D9: =IF(COUNTIF($P$20:$P$39,CONCATENATE(CHAR(CELL("col",D9)+64),CELL("ligne",D9)-6))>0,"",".") -> . | E9: =IF(COUNTIF($P$20:$P$39,CONCATENATE(CHAR(CELL("col",E9)+64),CELL("ligne",E9)-6))>0,"",".") -> . | F9: =IF(COUNTIF($P$20:$P$39,CONCATENATE(CHAR(CELL("col",F9)+64),CELL("ligne",F9)-6))>0,"",".") | G9: =IF(COUNTIF($P$20:$P$39,CONCATENATE(CHAR(CELL("col",G9)+64),CELL("ligne",G9)-6))>0,"",".") -> . | H9: =IF(COUNTIF($P$20:$P$39,CONCATENATE(CHAR(CELL("col",H9)+64),CELL("ligne",H9)-6))>0,"",".") -> . | I9: =IF(COUNTIF($P$20:$P$39,CONCATENATE(CHAR(CELL("col",I9)+64),CELL("ligne",I9)-6))>0,"",".") -> . | K9: APPUYER SUR F9 POUR GENERER UN NOUVEAU CONTRÔLE…
A10: 4 | B10: =IF(COUNTIF($P$20:$P$39,CONCATENATE(CHAR(CELL("col",B10)+64),CELL("ligne",B10)-6))>0,"",".") -> . | C10: =IF(COUNTIF($P$20:$P$39,CONCATENATE(CHAR(CELL("col",C10)+64),CELL("ligne",C10)-6))>0,"",".") -> . | D10: =IF(COUNTIF($P$20:$P$39,CONCATENATE(CHAR(CELL("col",D10)+64),CELL("ligne",D10)-6))>0,"",".") -> . | E10: =IF(COUNTIF($P$20:$P$39,CONCATENATE(CHAR(CELL("col",E10)+64),CELL("ligne",E10)-6))>0,"",".") -> . | F10: =IF(COUNTIF($P$20:$P$39,CONCATENATE(CHAR(CELL("col",F10)+64),CELL("ligne",F10)-6))>0,"",".") -> . | G10: =IF(COUNTIF($P$20:$P$39,CONCATENATE(CHAR(CELL("col",G10)+64),CELL("ligne",G10)-6))>0,"",".") -> . | H10: =IF(COUNTIF($P$20:$P$39,CONCATENATE(CHAR(CELL("col",H10)+64),CELL("ligne",H10)-6))>0,"",".") -> . | I10: =IF(COUNTIF($P$20:$P$39,CONCATENATE(CHAR(CELL("col",I10)+64),CELL("ligne",I10)-6))>0,"",".")
A11: 5 | B11: =IF(COUNTIF($P$20:$P$39,CONCATENATE(CHAR(CELL("col",B11)+64),CELL("ligne",B11)-6))>0,"",".") -> . | C11: =IF(COUNTIF($P$20:$P$39,CONCATENATE(CHAR(CELL("col",C11)+64),CELL("ligne",C11)-6))>0,"",".") -> . | D11: =IF(COUNTIF($P$20:$P$39,CONCATENATE(CHAR(CELL("col",D11)+64),CELL("ligne",D11)-6))>0,"",".") -> . | E11: =IF(COUNTIF($P$20:$P$39,CONCATENATE(CHAR(CELL("col",E11)+64),CELL("ligne",E11)-6))>0,"",".") -> . | F11: =IF(COUNTIF($P$20:$P$39,CONCATENATE(CHAR(CELL("col",F11)+64),CELL("ligne",F11)-6))>0,"",".") -> . | G11: =IF(COUNTIF($P$20:$P$39,CONCATENATE(CHAR(CELL("col",G11)+64),CELL("ligne",G11)-6))>0,"",".") | H11: =IF(COUNTIF($P$20:$P$39,CONCATENATE(CHAR(CELL("col",H11)+64),CELL("ligne",H11)-6))>0,"",".") -> . | I11: =IF(COUNTIF($P$20:$P$39,CONCATENATE(CHAR(CELL("col",I11)+64),CELL("ligne",I11)-6))>0,"",".")
A12: 6 | B12: =IF(COUNTIF($P$20:$P$39,CONCATENATE(CHAR(CELL("col",B12)+64),CELL("ligne",B12)-6))>0,"",".") -> . | C12: =IF(COUNTIF($P$20:$P$39,CONCATENATE(CHAR(CELL("col",C12)+64),CELL("ligne",C12)-6))>0,"",".") -> . | D12: =IF(COUNTIF($P$20:$P$39,CONCATENATE(CHAR(CELL("col",D12)+64),CELL("ligne",D12)-6))>0,"",".") | E12: =IF(COUNTIF($P$20:$P$39,CONCATENATE(CHAR(CELL("col",E12)+64),CELL("ligne",E12)-6))>0,"",".") | F12: =IF(COUNTIF($P$20:$P$39,CONCATENATE(CHAR(CELL("col",F12)+64),CELL("ligne",F12)-6))>0,"",".") -> . | G12: =IF(COUNTIF($P$20:$P$39,CONCATENATE(CHAR(CELL("col",G12)+64),CELL("ligne",G12)-6))>0,"",".") -> . | H12: =IF(COUNTIF($P$20:$P$39,CONCATENATE(CHAR(CELL("col",H12)+64),CELL("ligne",H12)-6))>0,"",".") -> . | I12: =IF(COUNTIF($P$20:$P$39,CONCATENATE(CHAR(CELL("col",I12)+64),CELL("ligne",I12)-6))>0,"",".") -> .
A13: 7 | B13: =IF(COUNTIF($P$20:$P$39,CONCATENATE(CHAR(CELL("col",B13)+64),CELL("ligne",B13)-6))>0,"",".") -> . | C13: =IF(COUNTIF($P$20:$P$39,CONCATENATE(CHAR(CELL("col",C13)+64),CELL("ligne",C13)-6))>0,"",".") | D13: =IF(COUNTIF($P$20:$P$39,CONCATENATE(CHAR(CELL("col",D13)+64),CELL("ligne",D13)-6))>0,"",".") | E13: =IF(COUNTIF($P$20:$P$39,CONCATENATE(CHAR(CELL("col",E13)+64),CELL("ligne",E13)-6))>0,"",".") -> . | F13: =IF(COUNTIF($P$20:$P$39,CONCATENATE(CHAR(CELL("col",F13)+64),CELL("ligne",F13)-6))>0,"",".") -> . | G13: =IF(COUNTIF($P$20:$P$39,CONCATENATE(CHAR(CELL("col",G13)+64),CELL("ligne",G13)-6))>0,"",".") -> . | H13: =IF(COUNTIF($P$20:$P$39,CONCATENATE(CHAR(CELL("col",H13)+64),CELL("ligne",H13)-6))>0,"",".") -> . | I13: =IF(COUNTIF($P$20:$P$39,CONCATENATE(CHAR(CELL("col",I13)+64),CELL("ligne",I13)-6))>0,"",".") -> . | K13: CTRL + P pour lancer l'impression
A14: 8 | B14: =IF(COUNTIF($P$20:$P$39,CONCATENATE(CHAR(CELL("col",B14)+64),CELL("ligne",B14)-6))>0,"",".") | C14: =IF(COUNTIF($P$20:$P$39,CONCATENATE(CHAR(CELL("col",C14)+64),CELL("ligne",C14)-6))>0,"",".") -> . | D14: =IF(COUNTIF($P$20:$P$39,CONCATENATE(CHAR(CELL("col",D14)+64),CELL("ligne",D14)-6))>0,"",".") -> . | E14: =IF(COUNTIF($P$20:$P$39,CONCATENATE(CHAR(CELL("col",E14)+64),CELL("ligne",E14)-6))>0,"",".") -> . | F14: =IF(COUNTIF($P$20:$P$39,CONCATENATE(CHAR(CELL("col",F14)+64),CELL("ligne",F14)-6))>0,"",".") | G14: =IF(COUNTIF($P$20:$P$39,CONCATENATE(CHAR(CELL("col",G14)+64),CELL("ligne",G14)-6))>0,"",".") -> . | H14: =IF(COUNTIF($P$20:$P$39,CONCATENATE(CHAR(CELL("col",H14)+64),CELL("ligne",H14)-6))>0,"",".") -> . | I14: =IF(COUNTIF($P$20:$P$39,CONCATENATE(CHAR(CELL("col",I14)+64),CELL("ligne",I14)-6))>0,"",".") -> .
A15: 9 | B15: =IF(COUNTIF($P$20:$P$39,CONCATENATE(CHAR(CELL("col",B15)+64),CELL("ligne",B15)-6))>0,"",".") -> . | C15: =IF(COUNTIF($P$20:$P$39,CONCATENATE(CHAR(CELL("col",C15)+64),CELL("ligne",C15)-6))>0,"",".") -> . | D15: =IF(COUNTIF($P$20:$P$39,CONCATENATE(CHAR(CELL("col",D15)+64),CELL("ligne",D15)-6))>0,"",".") -> . | E15: =IF(COUNTIF($P$20:$P$39,CONCATENATE(CHAR(CELL("col",E15)+64),CELL("ligne",E15)-6))>0,"",".") | F15: =IF(COUNTIF($P$20:$P$39,CONCATENATE(CHAR(CELL("col",F15)+64),CELL("ligne",F15)-6))>0,"",".") -> . | G15: =IF(COUNTIF($P$20:$P$39,CONCATENATE(CHAR(CELL("col",G15)+64),CELL("ligne",G15)-6))>0,"",".") -> . | H15: =IF(COUNTIF($P$20:$P$39,CONCATENATE(CHAR(CELL("col",H15)+64),CELL("ligne",H15)-6))>0,"",".") | I15: =IF(COUNTIF($P$20:$P$39,CONCATENATE(CHAR(CELL("col",I15)+64),CELL("ligne",I15)-6))>0,"",".") -> .
A16: 10 | B16: =IF(COUNTIF($P$20:$P$39,CONCATENATE(CHAR(CELL("col",B16)+64),CELL("ligne",B16)-6))>0,"",".") -> . | C16: =IF(COUNTIF($P$20:$P$39,CONCATENATE(CHAR(CELL("col",C16)+64),CELL("ligne",C16)-6))>0,"",".") | D16: =IF(COUNTIF($P$20:$P$39,CONCATENATE(CHAR(CELL("col",D16)+64),CELL("ligne",D16)-6))>0,"",".") -> . | E16: =IF(COUNTIF($P$20:$P$39,CONCATENATE(CHAR(CELL("col",E16)+64),CELL("ligne",E16)-6))>0,"",".") -> . | F16: =IF(COUNTIF($P$20:$P$39,CONCATENATE(CHAR(CELL("col",F16)+64),CELL("ligne",F16)-6))>0,"",".") -> . | G16: =IF(COUNTIF($P$20:$P$39,CONCATENATE(CHAR(CELL("col",G16)+64),CELL("ligne",G16)-6))>0,"",".") -> . | H16: =IF(COUNTIF($P$20:$P$39,CONCATENATE(CHAR(CELL("col",H16)+64),CELL("ligne",H16)-6))>0,"",".") -> . | I16: =IF(COUNTIF($P$20:$P$39,CONCATENATE(CHAR(CELL("col",I16)+64),CELL("ligne",I16)-6))>0,"",".") | K16: REPARTITION DU TIRAGE DANS LES CASES | R16: TIRAGE DES CASES A REMPLIR
R18: TIRAGE N° | V18: COLONNE : | W18: LIGNE :
M19: colonne | N19: ligne | R19: 1 | S19: =INT(RAND()*5+1) -> 1 | T19: =INT(S19*$S$40) -> 1 | V19: =IF(INT(T19/10)*10=T19,INT(T19/10)+1,INT(T19/10)+2) -> 2 | W19: =IF(T19-INT(T19/10)*10=0,10,T19-INT(T19/10)*10) -> 1
A20: NOM et PRENOM: | G20: Classe : | K20: TIRAGE N° | L20: 1 | M20: =V19 -> 2 | N20: =W19 -> 1 | O20: =CHAR(M20+64) -> B | P20: =CONCATENATE(O20,N20) -> B1 | R20: 2 | S20: =INT(RAND()*5+1)+S19 -> 2 | T20: =INT(S20*$S$40) -> 2 | V20: =IF(INT(T20/10)*10=T20,INT(T20/10)+1,INT(T20/10)+2) -> 2 | W20: =IF(T20-INT(T20/10)*10=0,10,T20-INT(T20/10)*10) -> 2
B21: CONTRÔLE : TABLE DE MULTIPLICATION | L21: 2 | M21: =V20 -> 2 | N21: =W20 -> 2 | O21: =CHAR(M21+64) -> B | P21: =CONCATENATE(O21,N21) -> B2 | R21: 3 | S21: =INT(RAND()*5+1)+S20 -> 6 | T21: =INT(S21*$S$40) -> 8 | V21: =IF(INT(T21/10)*10=T21,INT(T21/10)+1,INT(T21/10)+2) -> 2 | W21: =IF(T21-INT(T21/10)*10=0,10,T21-INT(T21/10)*10) -> 8
L22: 3 | M22: =V21 -> 2 | N22: =W21 -> 8 | O22: =CHAR(M22+64) -> B | P22: =CONCATENATE(O22,N22) -> B8 | R22: 4 | S22: =INT(RAND()*5+1)+S21 -> 8 | T22: =INT(S22*$S$40) -> 11 | V22: =IF(INT(T22/10)*10=T22,INT(T22/10)+1,INT(T22/10)+2) -> 3 | W22: =IF(T22-INT(T22/10)*10=0,10,T22-INT(T22/10)*10) -> 1
L23: 4 | M23: =V22 -> 3 | N23: =W22 -> 1 | O23: =CHAR(M23+64) -> C | P23: =CONCATENATE(O23,N23) -> C1 | R23: 5 | S23: =INT(RAND()*5+1)+S22 -> 12 | T23: =INT(S23*$S$40) -> 17 | V23: =IF(INT(T23/10)*10=T23,INT(T23/10)+1,INT(T23/10)+2) -> 3 | W23: =IF(T23-INT(T23/10)*10=0,10,T23-INT(T23/10)*10) -> 7
L24: 5 | M24: =V23 -> 3 | N24: =W23 -> 7 | O24: =CHAR(M24+64) -> C | P24: =CONCATENATE(O24,N24) -> C7 | R24: 6 | S24: =INT(RAND()*5+1)+S23 -> 14 | T24: =INT(S24*$S$40) -> 20 | V24: =IF(INT(T24/10)*10=T24,INT(T24/10)+1,INT(T24/10)+2) -> 3 | W24: =IF(T24-INT(T24/10)*10=0,10,T24-INT(T24/10)*10) -> 10
L25: 6 | M25: =V24 -> 3 | N25: =W24 -> 10 | O25: =CHAR(M25+64) -> C | P25: =CONCATENATE(O25,N25) -> C10 | R25: 7 | S25: =INT(RAND()*5+1)+S24 -> 18 | T25: =INT(S25*$S$40) -> 26 | V25: =IF(INT(T25/10)*10=T25,INT(T25/10)+1,INT(T25/10)+2) -> 4 | W25: =IF(T25-INT(T25/10)*10=0,10,T25-INT(T25/10)*10) -> 6
B26: 2 | C26: 3 | D26: 4 | E26: 5 | F26: 6 | G26: 7 | H26: 8 | I26: 9 | L26: 7 | M26: =V25 -> 4 | N26: =W25 -> 6 | O26: =CHAR(M26+64) -> D | P26: =CONCATENATE(O26,N26) -> D6 | R26: 8 | S26: =INT(RAND()*5+1)+S25 -> 19 | T26: =INT(S26*$S$40) -> 27 | V26: =IF(INT(T26/10)*10=T26,INT(T26/10)+1,INT(T26/10)+2) -> 4 | W26: =IF(T26-INT(T26/10)*10=0,10,T26-INT(T26/10)*10) -> 7
A27: 1 | B27: =IF(COUNTIF($P$20:$P$39,CONCATENATE(CHAR(CELL("col",B7)+64),CELL("ligne",B7)-6))>0,"",".") | C27: =IF(COUNTIF($P$20:$P$39,CONCATENATE(CHAR(CELL("col",C7)+64),CELL("ligne",C7)-6))>0,"",".") | D27: =IF(COUNTIF($P$20:$P$39,CONCATENATE(CHAR(CELL("col",D7)+64),CELL("ligne",D7)-6))>0,"",".") -> . | E27: =IF(COUNTIF($P$20:$P$39,CONCATENATE(CHAR(CELL("col",E7)+64),CELL("ligne",E7)-6))>0,"",".") -> . | F27: =IF(COUNTIF($P$20:$P$39,CONCATENATE(CHAR(CELL("col",F7)+64),CELL("ligne",F7)-6))>0,"",".") -> . | G27: =IF(COUNTIF($P$20:$P$39,CONCATENATE(CHAR(CELL("col",G7)+64),CELL("ligne",G7)-6))>0,"",".") -> . | H27: =IF(COUNTIF($P$20:$P$39,CONCATENATE(CHAR(CELL("col",H7)+64),CELL("ligne",H7)-6))>0,"",".") | I27: =IF(COUNTIF($P$20:$P$39,CONCATENATE(CHAR(CELL("col",I7)+64),CELL("ligne",I7)-6))>0,"",".") -> . | L27: 8 | M27: =V26 -> 4 | N27: =W26 -> 7 | O27: =CHAR(M27+64) -> D | P27: =CONCATENATE(O27,N27) -> D7 | R27: 9 | S27: =INT(RAND()*5+1)+S26 -> 22 | T27: =INT(S27*$S$40) -> 32 | V27: =IF(INT(T27/10)*10=T27,INT(T27/10)+1,INT(T27/10)+2) -> 5 | W27: =IF(T27-INT(T27/10)*10=0,10,T27-INT(T27/10)*10) -> 2
A28: 2 | B28: =IF(COUNTIF($P$20:$P$39,CONCATENATE(CHAR(CELL("col",B8)+64),CELL("ligne",B8)-6))>0,"",".") | C28: =IF(COUNTIF($P$20:$P$39,CONCATENATE(CHAR(CELL("col",C8)+64),CELL("ligne",C8)-6))>0,"",".") -> . | D28: =IF(COUNTIF($P$20:$P$39,CONCATENATE(CHAR(CELL("col",D8)+64),CELL("ligne",D8)-6))>0,"",".") -> . | E28: =IF(COUNTIF($P$20:$P$39,CONCATENATE(CHAR(CELL("col",E8)+64),CELL("ligne",E8)-6))>0,"",".") | F28: =IF(COUNTIF($P$20:$P$39,CONCATENATE(CHAR(CELL("col",F8)+64),CELL("ligne",F8)-6))>0,"",".") -> . | G28: =IF(COUNTIF($P$20:$P$39,CONCATENATE(CHAR(CELL("col",G8)+64),CELL("ligne",G8)-6))>0,"",".") -> . | H28: =IF(COUNTIF($P$20:$P$39,CONCATENATE(CHAR(CELL("col",H8)+64),CELL("ligne",H8)-6))>0,"",".") | I28: =IF(COUNTIF($P$20:$P$39,CONCATENATE(CHAR(CELL("col",I8)+64),CELL("ligne",I8)-6))>0,"",".") -> . | L28: 9 | M28: =V27 -> 5 | N28: =W27 -> 2 | O28: =CHAR(M28+64) -> E | P28: =CONCATENATE(O28,N28) -> E2 | R28: 10 | S28: =INT(RAND()*5+1)+S27 -> 25 | T28: =INT(S28*$S$40) -> 36 | V28: =IF(INT(T28/10)*10=T28,INT(T28/10)+1,INT(T28/10)+2) -> 5 | W28: =IF(T28-INT(T28/10)*10=0,10,T28-INT(T28/10)*10) -> 6
A29: 3 | B29: =IF(COUNTIF($P$20:$P$39,CONCATENATE(CHAR(CELL("col",B9)+64),CELL("ligne",B9)-6))>0,"",".") -> . | C29: =IF(COUNTIF($P$20:$P$39,CONCATENATE(CHAR(CELL("col",C9)+64),CELL("ligne",C9)-6))>0,"",".") -> . | D29: =IF(COUNTIF($P$20:$P$39,CONCATENATE(CHAR(CELL("col",D9)+64),CELL("ligne",D9)-6))>0,"",".") -> . | E29: =IF(COUNTIF($P$20:$P$39,CONCATENATE(CHAR(CELL("col",E9)+64),CELL("ligne",E9)-6))>0,"",".") -> . | F29: =IF(COUNTIF($P$20:$P$39,CONCATENATE(CHAR(CELL("col",F9)+64),CELL("ligne",F9)-6))>0,"",".") | G29: =IF(COUNTIF($P$20:$P$39,CONCATENATE(CHAR(CELL("col",G9)+64),CELL("ligne",G9)-6))>0,"",".") -> . | H29: =IF(COUNTIF($P$20:$P$39,CONCATENATE(CHAR(CELL("col",H9)+64),CELL("ligne",H9)-6))>0,"",".") -> . | I29: =IF(COUNTIF($P$20:$P$39,CONCATENATE(CHAR(CELL("col",I9)+64),CELL("ligne",I9)-6))>0,"",".") -> . | L29: 10 | M29: =V28 -> 5 | N29: =W28 -> 6 | O29: =CHAR(M29+64) -> E | P29: =CONCATENATE(O29,N29) -> E6 | R29: 11 | S29: =INT(RAND()*5+1)+S28 -> 27 | T29: =INT(S29*$S$40) -> 39 | V29: =IF(INT(T29/10)*10=T29,INT(T29/10)+1,INT(T29/10)+2) -> 5 | W29: =IF(T29-INT(T29/10)*10=0,10,T29-INT(T29/10)*10) -> 9
A30: 4 | B30: =IF(COUNTIF($P$20:$P$39,CONCATENATE(CHAR(CELL("col",B10)+64),CELL("ligne",B10)-6))>0,"",".") -> . | C30: =IF(COUNTIF($P$20:$P$39,CONCATENATE(CHAR(CELL("col",C10)+64),CELL("ligne",C10)-6))>0,"",".") -> . | D30: =IF(COUNTIF($P$20:$P$39,CONCATENATE(CHAR(CELL("col",D10)+64),CELL("ligne",D10)-6))>0,"",".") -> . | E30: =IF(COUNTIF($P$20:$P$39,CONCATENATE(CHAR(CELL("col",E10)+64),CELL("ligne",E10)-6))>0,"",".") -> . | F30: =IF(COUNTIF($P$20:$P$39,CONCATENATE(CHAR(CELL("col",F10)+64),CELL("ligne",F10)-6))>0,"",".") -> . | G30: =IF(COUNTIF($P$20:$P$39,CONCATENATE(CHAR(CELL("col",G10)+64),CELL("ligne",G10)-6))>0,"",".") -> . | H30: =IF(COUNTIF($P$20:$P$39,CONCATENATE(CHAR(CELL("col",H10)+64),CELL("ligne",H10)-6))>0,"",".") -> . | I30: =IF(COUNTIF($P$20:$P$39,CONCATENATE(CHAR(CELL("col",I10)+64),CELL("ligne",I10)-6))>0,"",".") | L30: 11 | M30: =V29 -> 5 | N30: =W29 -> 9 | O30: =CHAR(M30+64) -> E | P30: =CONCATENATE(O30,N30) -> E9 | R30: 12 | S30: =INT(RAND()*5+1)+S29 -> 30 | T30: =INT(S30*$S$40) -> 43 | V30: =IF(INT(T30/10)*10=T30,INT(T30/10)+1,INT(T30/10)+2) -> 6 | W30: =IF(T30-INT(T30/10)*10=0,10,T30-INT(T30/10)*10) -> 3
A31: 5 | B31: =IF(COUNTIF($P$20:$P$39,CONCATENATE(CHAR(CELL("col",B11)+64),CELL("ligne",B11)-6))>0,"",".") -> . | C31: =IF(COUNTIF($P$20:$P$39,CONCATENATE(CHAR(CELL("col",C11)+64),CELL("ligne",C11)-6))>0,"",".") -> . | D31: =IF(COUNTIF($P$20:$P$39,CONCATENATE(CHAR(CELL("col",D11)+64),CELL("ligne",D11)-6))>0,"",".") -> . | E31: =IF(COUNTIF($P$20:$P$39,CONCATENATE(CHAR(CELL("col",E11)+64),CELL("ligne",E11)-6))>0,"",".") -> . | F31: =IF(COUNTIF($P$20:$P$39,CONCATENATE(CHAR(CELL("col",F11)+64),CELL("ligne",F11)-6))>0,"",".") -> . | G31: =IF(COUNTIF($P$20:$P$39,CONCATENATE(CHAR(CELL("col",G11)+64),CELL("ligne",G11)-6))>0,"",".") | H31: =IF(COUNTIF($P$20:$P$39,CONCATENATE(CHAR(CELL("col",H11)+64),CELL("ligne",H11)-6))>0,"",".") -> . | I31: =IF(COUNTIF($P$20:$P$39,CONCATENATE(CHAR(CELL("col",I11)+64),CELL("ligne",I11)-6))>0,"",".") | L31: 12 | M31: =V30 -> 6 | N31: =W30 -> 3 | O31: =CHAR(M31+64) -> F | P31: =CONCATENATE(O31,N31) -> F3 | R31: 13 | S31: =INT(RAND()*5+1)+S30 -> 33 | T31: =INT(S31*$S$40) -> 48 | V31: =IF(INT(T31/10)*10=T31,INT(T31/10)+1,INT(T31/10)+2) -> 6 | W31: =IF(T31-INT(T31/10)*10=0,10,T31-INT(T31/10)*10) -> 8
A32: 6 | B32: =IF(COUNTIF($P$20:$P$39,CONCATENATE(CHAR(CELL("col",B12)+64),CELL("ligne",B12)-6))>0,"",".") -> . | C32: =IF(COUNTIF($P$20:$P$39,CONCATENATE(CHAR(CELL("col",C12)+64),CELL("ligne",C12)-6))>0,"",".") -> . | D32: =IF(COUNTIF($P$20:$P$39,CONCATENATE(CHAR(CELL("col",D12)+64),CELL("ligne",D12)-6))>0,"",".") | E32: =IF(COUNTIF($P$20:$P$39,CONCATENATE(CHAR(CELL("col",E12)+64),CELL("ligne",E12)-6))>0,"",".") | F32: =IF(COUNTIF($P$20:$P$39,CONCATENATE(CHAR(CELL("col",F12)+64),CELL("ligne",F12)-6))>0,"",".") -> . | G32: =IF(COUNTIF($P$20:$P$39,CONCATENATE(CHAR(CELL("col",G12)+64),CELL("ligne",G12)-6))>0,"",".") -> . | H32: =IF(COUNTIF($P$20:$P$39,CONCATENATE(CHAR(CELL("col",H12)+64),CELL("ligne",H12)-6))>0,"",".") -> . | I32: =IF(COUNTIF($P$20:$P$39,CONCATENATE(CHAR(CELL("col",I12)+64),CELL("ligne",I12)-6))>0,"",".") -> . | L32: 13 | M32: =V31 -> 6 | N32: =W31 -> 8 | O32: =CHAR(M32+64) -> F | P32: =CONCATENATE(O32,N32) -> F8 | R32: 14 | S32: =INT(RAND()*5+1)+S31 -> 38 | T32: =INT(S32*$S$40) -> 55 | V32: =IF(INT(T32/10)*10=T32,INT(T32/10)+1,INT(T32/10)+2) -> 7 | W32: =IF(T32-INT(T32/10)*10=0,10,T32-INT(T32/10)*10) -> 5
A33: 7 | B33: =IF(COUNTIF($P$20:$P$39,CONCATENATE(CHAR(CELL("col",B13)+64),CELL("ligne",B13)-6))>0,"",".") -> . | C33: =IF(COUNTIF($P$20:$P$39,CONCATENATE(CHAR(CELL("col",C13)+64),CELL("ligne",C13)-6))>0,"",".") | D33: =IF(COUNTIF($P$20:$P$39,CONCATENATE(CHAR(CELL("col",D13)+64),CELL("ligne",D13)-6))>0,"",".") | E33: =IF(COUNTIF($P$20:$P$39,CONCATENATE(CHAR(CELL("col",E13)+64),CELL("ligne",E13)-6))>0,"",".") -> . | F33: =IF(COUNTIF($P$20:$P$39,CONCATENATE(CHAR(CELL("col",F13)+64),CELL("ligne",F13)-6))>0,"",".") -> . | G33: =IF(COUNTIF($P$20:$P$39,CONCATENATE(CHAR(CELL("col",G13)+64),CELL("ligne",G13)-6))>0,"",".") -> . | H33: =IF(COUNTIF($P$20:$P$39,CONCATENATE(CHAR(CELL("col",H13)+64),CELL("ligne",H13)-6))>0,"",".") -> . | I33: =IF(COUNTIF($P$20:$P$39,CONCATENATE(CHAR(CELL("col",I13)+64),CELL("ligne",I13)-6))>0,"",".") -> . | L33: 14 | M33: =V32 -> 7 | N33: =W32 -> 5 | O33: =CHAR(M33+64) -> G | P33: =CONCATENATE(O33,N33) -> G5 | R33: 15 | S33: =INT(RAND()*5+1)+S32 -> 42 | T33: =INT(S33*$S$40) -> 61 | V33: =IF(INT(T33/10)*10=T33,INT(T33/10)+1,INT(T33/10)+2) -> 8 | W33: =IF(T33-INT(T33/10)*10=0,10,T33-INT(T33/10)*10) -> 1
A34: 8 | B34: =IF(COUNTIF($P$20:$P$39,CONCATENATE(CHAR(CELL("col",B14)+64),CELL("ligne",B14)-6))>0,"",".") | C34: =IF(COUNTIF($P$20:$P$39,CONCATENATE(CHAR(CELL("col",C14)+64),CELL("ligne",C14)-6))>0,"",".") -> . | D34: =IF(COUNTIF($P$20:$P$39,CONCATENATE(CHAR(CELL("col",D14)+64),CELL("ligne",D14)-6))>0,"",".") -> . | E34: =IF(COUNTIF($P$20:$P$39,CONCATENATE(CHAR(CELL("col",E14)+64),CELL("ligne",E14)-6))>0,"",".") -> . | F34: =IF(COUNTIF($P$20:$P$39,CONCATENATE(CHAR(CELL("col",F14)+64),CELL("ligne",F14)-6))>0,"",".") | G34: =IF(COUNTIF($P$20:$P$39,CONCATENATE(CHAR(CELL("col",G14)+64),CELL("ligne",G14)-6))>0,"",".") -> . | H34: =IF(COUNTIF($P$20:$P$39,CONCATENATE(CHAR(CELL("col",H14)+64),CELL("ligne",H14)-6))>0,"",".") -> . | I34: =IF(COUNTIF($P$20:$P$39,CONCATENATE(CHAR(CELL("col",I14)+64),CELL("ligne",I14)-6))>0,"",".") -> . | L34: 15 | M34: =V33 -> 8 | N34: =W33 -> 1 | O34: =CHAR(M34+64) -> H | P34: =CONCATENATE(O34,N34) -> H1 | R34: 16 | S34: =INT(RAND()*5+1)+S33 -> 43 | T34: =INT(S34*$S$40) -> 62 | V34: =IF(INT(T34/10)*10=T34,INT(T34/10)+1,INT(T34/10)+2) -> 8 | W34: =IF(T34-INT(T34/10)*10=0,10,T34-INT(T34/10)*10) -> 2
A35: 9 | B35: =IF(COUNTIF($P$20:$P$39,CONCATENATE(CHAR(CELL("col",B15)+64),CELL("ligne",B15)-6))>0,"",".") -> . | C35: =IF(COUNTIF($P$20:$P$39,CONCATENATE(CHAR(CELL("col",C15)+64),CELL("ligne",C15)-6))>0,"",".") -> . | D35: =IF(COUNTIF($P$20:$P$39,CONCATENATE(CHAR(CELL("col",D15)+64),CELL("ligne",D15)-6))>0,"",".") -> . | E35: =IF(COUNTIF($P$20:$P$39,CONCATENATE(CHAR(CELL("col",E15)+64),CELL("ligne",E15)-6))>0,"",".") | F35: =IF(COUNTIF($P$20:$P$39,CONCATENATE(CHAR(CELL("col",F15)+64),CELL("ligne",F15)-6))>0,"",".") -> . | G35: =IF(COUNTIF($P$20:$P$39,CONCATENATE(CHAR(CELL("col",G15)+64),CELL("ligne",G15)-6))>0,"",".") -> . | H35: =IF(COUNTIF($P$20:$P$39,CONCATENATE(CHAR(CELL("col",H15)+64),CELL("ligne",H15)-6))>0,"",".") | I35: =IF(COUNTIF($P$20:$P$39,CONCATENATE(CHAR(CELL("col",I15)+64),CELL("ligne",I15)-6))>0,"",".") -> . | L35: 16 | M35: =V34 -> 8 | N35: =W34 -> 2 | O35: =CHAR(M35+64) -> H | P35: =CONCATENATE(O35,N35) -> H2 | R35: 17 | S35: =INT(RAND()*5+1)+S34 -> 48 | T35: =INT(S35*$S$40) -> 69 | V35: =IF(INT(T35/10)*10=T35,INT(T35/10)+1,INT(T35/10)+2) -> 8 | W35: =IF(T35-INT(T35/10)*10=0,10,T35-INT(T35/10)*10) -> 9
A36: 10 | B36: =IF(COUNTIF($P$20:$P$39,CONCATENATE(CHAR(CELL("col",B16)+64),CELL("ligne",B16)-6))>0,"",".") -> . | C36: =IF(COUNTIF($P$20:$P$39,CONCATENATE(CHAR(CELL("col",C16)+64),CELL("ligne",C16)-6))>0,"",".") | D36: =IF(COUNTIF($P$20:$P$39,CONCATENATE(CHAR(CELL("col",D16)+64),CELL("ligne",D16)-6))>0,"",".") -> . | E36: =IF(COUNTIF($P$20:$P$39,CONCATENATE(CHAR(CELL("col",E16)+64),CELL("ligne",E16)-6))>0,"",".") -> . | F36: =IF(COUNTIF($P$20:$P$39,CONCATENATE(CHAR(CELL("col",F16)+64),CELL("ligne",F16)-6))>0,"",".") -> . | G36: =IF(COUNTIF($P$20:$P$39,CONCATENATE(CHAR(CELL("col",G16)+64),CELL("ligne",G16)-6))>0,"",".") -> . | H36: =IF(COUNTIF($P$20:$P$39,CONCATENATE(CHAR(CELL("col",H16)+64),CELL("ligne",H16)-6))>0,"",".") -> . | I36: =IF(COUNTIF($P$20:$P$39,CONCATENATE(CHAR(CELL("col",I16)+64),CELL("ligne",I16)-6))>0,"",".") | L36: 17 | M36: =V35 -> 8 | N36: =W35 -> 9 | O36: =CHAR(M36+64) -> H | P36: =CONCATENATE(O36,N36) -> H9 | R36: 18 | S36: =INT(RAND()*5+1)+S35 -> 51 | T36: =INT(S36*$S$40) -> 74 | V36: =IF(INT(T36/10)*10=T36,INT(T36/10)+1,INT(T36/10)+2) -> 9 | W36: =IF(T36-INT(T36/10)*10=0,10,T36-INT(T36/10)*10) -> 4
L37: 18 | M37: =V36 -> 9 | N37: =W36 -> 4 | O37: =CHAR(M37+64) -> I | P37: =CONCATENATE(O37,N37) -> I4 | R37: 19 | S37: =INT(RAND()*5+1)+S36 -> 52 | T37: =INT(S37*$S$40) -> 75 | V37: =IF(INT(T37/10)*10=T37,INT(T37/10)+1,INT(T37/10)+2) -> 9 | W37: =IF(T37-INT(T37/10)*10=0,10,T37-INT(T37/10)*10) -> 5
L38: 19 | M38: =V37 -> 9 | N38: =W37 -> 5 | O38: =CHAR(M38+64) -> I | P38: =CONCATENATE(O38,N38) -> I5 | R38: 20 | S38: =INT(RAND()*5+1)+S37 -> 55 | T38: =INT(S38*$S$40) -> 80 | V38: =IF(INT(T38/10)*10=T38,INT(T38/10)+1,INT(T38/10)+2) -> 9 | W38: =IF(T38-INT(T38/10)*10=0,10,T38-INT(T38/10)*10) -> 10
L39: 20 | M39: =V38 -> 9 | N39: =W38 -> 10 | O39: =CHAR(M39+64) -> I | P39: =CONCATENATE(O39,N39) -> I10
R40: COEFF. REPARTITION : | S40: =(80-INT(RAND()*6))/S38 -> 1.4545455

Sheet Calcul mental (5e 4e 3e)
A2: NOM et PRENOM: | G2: Classe : | L2: NOM et PRENOM: | R2: Classe : | V2: appuyer sur la touche F9 pour générer une nouvelle feuille
A4: CONTRÔLE : CALCUL MENTAL | L4: CONTRÔLE : CALCUL MENTAL
A10: + | B10: =CONCATENATE("opération n° ",CELL("ligne",B10)-9) -> opération n° 1 | D10: =Z15 -> 20 + 95 = | L10: + | M10: =CONCATENATE("opération n° ",CELL("ligne",M10)-9) -> opération n° 1 | O10: =Z15 -> 20 + 95 = | V10: CTRL + P pour lancer l'impression
B11: =CONCATENATE("opération n° ",CELL("ligne",B11)-9) -> opération n° 2 | D11: =Z16 -> 76 + 32 = | M11: =CONCATENATE("opération n° ",CELL("ligne",M11)-9) -> opération n° 2 | O11: =Z16 -> 76 + 32 =
B12: =CONCATENATE("opération n° ",CELL("ligne",B12)-9) -> opération n° 3 | D12: =Z17 -> 42 + 60 = | M12: =CONCATENATE("opération n° ",CELL("ligne",M12)-9) -> opération n° 3 | O12: =Z17 -> 42 + 60 =
B13: =CONCATENATE("opération n° ",CELL("ligne",B13)-9) -> opération n° 4 | D13: =Z18 -> 49 + 11 = | M13: =CONCATENATE("opération n° ",CELL("ligne",M13)-9) -> opération n° 4 | O13: =Z18 -> 49 + 11 = | X13: OPERATIONS :
B14: =CONCATENATE("opération n° ",CELL("ligne",B14)-9) -> opération n° 5 | D14: =Z19 -> 63 + 51 = | M14: =CONCATENATE("opération n° ",CELL("ligne",M14)-9) -> opération n° 5 | O14: =Z19 -> 63 + 51 =
B15: =CONCATENATE("opération n° ",CELL("ligne",B15)-9) -> opération n° 6 | D15: =Z20 -> 70 + 43 = | M15: =CONCATENATE("opération n° ",CELL("ligne",M15)-9) -> opération n° 6 | O15: =Z20 -> 70 + 43 = | V15: 7 additions | W15: =INT(RAND()*90+10) -> 20 | X15: + | Y15: =INT(RAND()*90+10) -> 95 | Z15: =CONCATENATE(W15," ",X15," ",Y15," =") -> 20 + 95 = | AB15: =W15+Y15 -> 115
B16: =CONCATENATE("opération n° ",CELL("ligne",B16)-9) -> opération n° 7 | D16: =Z21 -> 11 + 74 = | M16: =CONCATENATE("opération n° ",CELL("ligne",M16)-9) -> opération n° 7 | O16: =Z21 -> 11 + 74 = | W16: =INT(RAND()*90+10) -> 76 | X16: + | Y16: =INT(RAND()*90+10) -> 32 | Z16: =CONCATENATE(W16," ",X16," ",Y16," =") -> 76 + 32 = | AB16: =W16+Y16 -> 108
A17: - | B17: =CONCATENATE("opération n° ",CELL("ligne",B17)-9) -> opération n° 8 | D17: =Z23 -> 113 - 47 = | L17: - | M17: =CONCATENATE("opération n° ",CELL("ligne",M17)-9) -> opération n° 8 | O17: =Z23 -> 113 - 47 = | W17: =INT(RAND()*90+10) -> 42 | X17: + | Y17: =INT(RAND()*90+10) -> 60 | Z17: =CONCATENATE(W17," ",X17," ",Y17," =") -> 42 + 60 = | AB17: =W17+Y17 -> 102
B18: =CONCATENATE("opération n° ",CELL("ligne",B18)-9) -> opération n° 9 | D18: =Z24 -> 61 - 51 = | M18: =CONCATENATE("opération n° ",CELL("ligne",M18)-9) -> opération n° 9 | O18: =Z24 -> 61 - 51 = | W18: =INT(RAND()*90+10) -> 49 | X18: + | Y18: =INT(RAND()*90+10) -> 11 | Z18: =CONCATENATE(W18," ",X18," ",Y18," =") -> 49 + 11 = | AB18: =W18+Y18 -> 60
B19: =CONCATENATE("opération n° ",CELL("ligne",B19)-9) -> opération n° 10 | D19: =Z25 -> 142 - 98 = | M19: =CONCATENATE("opération n° ",CELL("ligne",M19)-9) -> opération n° 10 | O19: =Z25 -> 142 - 98 = | W19: =INT(RAND()*90+10) -> 63 | X19: + | Y19: =INT(RAND()*90+10) -> 51 | Z19: =CONCATENATE(W19," ",X19," ",Y19," =") -> 63 + 51 = | AB19: =W19+Y19 -> 114
B20: =CONCATENATE("opération n° ",CELL("ligne",B20)-9) -> opération n° 11 | D20: =Z26 -> 41 - 11 = | M20: =CONCATENATE("opération n° ",CELL("ligne",M20)-9) -> opération n° 11 | O20: =Z26 -> 41 - 11 = | W20: =INT(RAND()*90+10) -> 70 | X20: + | Y20: =INT(RAND()*90+10) -> 43 | Z20: =CONCATENATE(W20," ",X20," ",Y20," =") -> 70 + 43 = | AB20: =W20+Y20 -> 113
B21: =CONCATENATE("opération n° ",CELL("ligne",B21)-9) -> opération n° 12 | D21: =Z27 -> 93 - 73 = | M21: =CONCATENATE("opération n° ",CELL("ligne",M21)-9) -> opération n° 12 | O21: =Z27 -> 93 - 73 = | W21: =INT(RAND()*90+10) -> 11 | X21: + | Y21: =INT(RAND()*90+10) -> 74 | Z21: =CONCATENATE(W21," ",X21," ",Y21," =") -> 11 + 74 = | AB21: =W21+Y21 -> 85
B22: =CONCATENATE("opération n° ",CELL("ligne",B22)-9) -> opération n° 13 | D22: =Z28 -> 103 - 66 = | M22: =CONCATENATE("opération n° ",CELL("ligne",M22)-9) -> opération n° 13 | O22: =Z28 -> 103 - 66 =
B23: =CONCATENATE("opération n° ",CELL("ligne",B23)-9) -> opération n° 14 | D23: =Z29 -> 148 - 141 = | M23: =CONCATENATE("opération n° ",CELL("ligne",M23)-9) -> opération n° 14 | O23: =Z29 -> 148 - 141 = | V23: 7 soustractions | W23: =INT(RAND()*140+10) -> 113 | X23: - | Y23: =INT(RAND()*140+10) -> 47 | Z23: =IF(W23>Y23,CONCATENATE(W23," - ",Y23," ="),CONCATENATE(Y23," - ",W23," =")) -> 113 - 47 = | AB23: =IF(W23>Y23,W23-Y23,Y23-W23) -> 66
A24: x | B24: =CONCATENATE("opération n° ",CELL("ligne",B24)-9) -> opération n° 15 | D24: =Z32 -> 14 x 2 = | L24: x | M24: =CONCATENATE("opération n° ",CELL("ligne",M24)-9) -> opération n° 15 | O24: =Z32 -> 14 x 2 = | W24: =INT(RAND()*140+10) -> 61 | X24: - | Y24: =INT(RAND()*140+10) -> 51 | Z24: =IF(W24>Y24,CONCATENATE(W24," - ",Y24," ="),CONCATENATE(Y24," - ",W24," =")) -> 61 - 51 = | AB24: =IF(W24>Y24,W24-Y24,Y24-W24) -> 10
B25: =CONCATENATE("opération n° ",CELL("ligne",B25)-9) -> opération n° 16 | D25: =Z33 -> 57 x 4 = | M25: =CONCATENATE("opération n° ",CELL("ligne",M25)-9) -> opération n° 16 | O25: =Z33 -> 57 x 4 = | W25: =INT(RAND()*140+10) -> 98 | X25: - | Y25: =INT(RAND()*140+10) -> 142 | Z25: =IF(W25>Y25,CONCATENATE(W25," - ",Y25," ="),CONCATENATE(Y25," - ",W25," =")) -> 142 - 98 = | AB25: =IF(W25>Y25,W25-Y25,Y25-W25) -> 44
B26: =CONCATENATE("opération n° ",CELL("ligne",B26)-9) -> opération n° 17 | D26: =Z34 -> 71 x 5 = | M26: =CONCATENATE("opération n° ",CELL("ligne",M26)-9) -> opération n° 17 | O26: =Z34 -> 71 x 5 = | W26: =INT(RAND()*140+10) -> 41 | X26: - | Y26: =INT(RAND()*140+10) -> 11 | Z26: =IF(W26>Y26,CONCATENATE(W26," - ",Y26," ="),CONCATENATE(Y26," - ",W26," =")) -> 41 - 11 = | AB26: =IF(W26>Y26,W26-Y26,Y26-W26) -> 30
B27: =CONCATENATE("opération n° ",CELL("ligne",B27)-9) -> opération n° 18 | D27: =Z35 -> 50 x 5 = | M27: =CONCATENATE("opération n° ",CELL("ligne",M27)-9) -> opération n° 18 | O27: =Z35 -> 50 x 5 = | W27: =INT(RAND()*140+10) -> 73 | X27: - | Y27: =INT(RAND()*140+10) -> 93 | Z27: =IF(W27>Y27,CONCATENATE(W27," - ",Y27," ="),CONCATENATE(Y27," - ",W27," =")) -> 93 - 73 = | AB27: =IF(W27>Y27,W27-Y27,Y27-W27) -> 20
B28: =CONCATENATE("opération n° ",CELL("ligne",B28)-9) -> opération n° 19 | D28: =Z36 -> 90 x 2 = | M28: =CONCATENATE("opération n° ",CELL("ligne",M28)-9) -> opération n° 19 | O28: =Z36 -> 90 x 2 = | W28: =INT(RAND()*140+10) -> 66 | X28: - | Y28: =INT(RAND()*140+10) -> 103 | Z28: =IF(W28>Y28,CONCATENATE(W28," - ",Y28," ="),CONCATENATE(Y28," - ",W28," =")) -> 103 - 66 = | AB28: =IF(W28>Y28,W28-Y28,Y28-W28) -> 37
B29: =CONCATENATE("opération n° ",CELL("ligne",B29)-9) -> opération n° 20 | D29: =Z37 -> 13 x 5 = | M29: =CONCATENATE("opération n° ",CELL("ligne",M29)-9) -> opération n° 20 | O29: =Z37 -> 13 x 5 = | W29: =INT(RAND()*140+10) -> 141 | X29: - | Y29: =INT(RAND()*140+10) -> 148 | Z29: =IF(W29>Y29,CONCATENATE(W29," - ",Y29," ="),CONCATENATE(Y29," - ",W29," =")) -> 148 - 141 = | AB29: =IF(W29>Y29,W29-Y29,Y29-W29) -> 7
V32: 6 multiplications | W32: =INT(RAND()*90+10) -> 14 | X32: x | Y32: =INT(RAND()*4+2) -> 2 | Z32: =CONCATENATE(W32," ",X32," ",Y32," =") -> 14 x 2 = | AB32: =W32*Y32 -> 28
W33: =INT(RAND()*90+10) -> 57 | X33: x | Y33: =INT(RAND()*4+2) -> 4 | Z33: =CONCATENATE(W33," ",X33," ",Y33," =") -> 57 x 4 = | AB33: =W33*Y33 -> 228
W34: =INT(RAND()*90+10) -> 71 | X34: x | Y34: =INT(RAND()*4+2) -> 5 | Z34: =CONCATENATE(W34," ",X34," ",Y34," =") -> 71 x 5 = | AB34: =W34*Y34 -> 355
W35: =INT(RAND()*90+10) -> 50 | X35: x | Y35: =INT(RAND()*4+2) -> 5 | Z35: =CONCATENATE(W35," ",X35," ",Y35," =") -> 50 x 5 = | AB35: =W35*Y35 -> 250
A36: NOM et PRENOM: | G36: Classe : | L36: NOM et PRENOM: | R36: Classe : | W36: =INT(RAND()*90+10) -> 90 | X36: x | Y36: =INT(RAND()*4+2) -> 2 | Z36: =CONCATENATE(W36," ",X36," ",Y36," =") -> 90 x 2 = | AB36: =W36*Y36 -> 180
W37: =INT(RAND()*90+10) -> 13 | X37: x | Y37: =INT(RAND()*4+2) -> 5 | Z37: =CONCATENATE(W37," ",X37," ",Y37," =") -> 13 x 5 = | AB37: =W37*Y37 -> 65
A38: CONTRÔLE : CALCUL MENTAL | L38: CONTRÔLE : CALCUL MENTAL
A43: + | B43: =CONCATENATE("opération n° ",CELL("ligne",B43)-42) -> opération n° 1 | D43: =Z15 -> 20 + 95 = | L43: + | M43: =CONCATENATE("opération n° ",CELL("ligne",M43)-42) -> opération n° 1 | O43: =Z15 -> 20 + 95 =
B44: =CONCATENATE("opération n° ",CELL("ligne",B44)-42) -> opération n° 2 | D44: =Z16 -> 76 + 32 = | M44: =CONCATENATE("opération n° ",CELL("ligne",M44)-42) -> opération n° 2 | O44: =Z16 -> 76 + 32 =
B45: =CONCATENATE("opération n° ",CELL("ligne",B45)-42) -> opération n° 3 | D45: =Z17 -> 42 + 60 = | M45: =CONCATENATE("opération n° ",CELL("ligne",M45)-42) -> opération n° 3 | O45: =Z17 -> 42 + 60 =
B46: =CONCATENATE("opération n° ",CELL("ligne",B46)-42) -> opération n° 4 | D46: =Z18 -> 49 + 11 = | M46: =CONCATENATE("opération n° ",CELL("ligne",M46)-42) -> opération n° 4 | O46: =Z18 -> 49 + 11 =
B47: =CONCATENATE("opération n° ",CELL("ligne",B47)-42) -> opération n° 5 | D47: =Z19 -> 63 + 51 = | M47: =CONCATENATE("opération n° ",CELL("ligne",M47)-42) -> opération n° 5 | O47: =Z19 -> 63 + 51 =
B48: =CONCATENATE("opération n° ",CELL("ligne",B48)-42) -> opération n° 6 | D48: =Z20 -> 70 + 43 = | M48: =CONCATENATE("opération n° ",CELL("ligne",M48)-42) -> opération n° 6 | O48: =Z20 -> 70 + 43 =
B49: =CONCATENATE("opération n° ",CELL("ligne",B49)-42) -> opération n° 7 | D49: =Z21 -> 11 + 74 = | M49: =CONCATENATE("opération n° ",CELL("ligne",M49)-42) -> opération n° 7 | O49: =Z21 -> 11 + 74 =
A50: - | B50: =CONCATENATE("opération n° ",CELL("ligne",B50)-42) -> opération n° 8 | D50: =Z23 -> 113 - 47 = | L50: - | M50: =CONCATENATE("opération n° ",CELL("ligne",M50)-42) -> opération n° 8 | O50: =Z23 -> 113 - 47 =
B51: =CONCATENATE("opération n° ",CELL("ligne",B51)-42) -> opération n° 9 | D51: =Z24 -> 61 - 51 = | M51: =CONCATENATE("opération n° ",CELL("ligne",M51)-42) -> opération n° 9 | O51: =Z24 -> 61 - 51 =
B52: =CONCATENATE("opération n° ",CELL("ligne",B52)-42) -> opération n° 10 | D52: =Z25 -> 142 - 98 = | M52: =CONCATENATE("opération n° ",CELL("ligne",M52)-42) -> opération n° 10 | O52: =Z25 -> 142 - 98 =
B53: =CONCATENATE("opération n° ",CELL("ligne",B53)-42) -> opération n° 11 | D53: =Z26 -> 41 - 11 = | M53: =CONCATENATE("opération n° ",CELL("ligne",M53)-42) -> opération n° 11 | O53: =Z26 -> 41 - 11 =
...

Sheet Fractions (5e 4e 3e)
B1: NOM et PRENOM : | G1: Classe : | J1: NOM et PRENOM : | O1: Classe :
AA2: OPERATIONS GENEREES ALEATOIREMENT (NE PAS MODIFIER)
B3: CONTRÔLE : Calcul de fractions | J3: CONTRÔLE : Calcul de fractions
S4: Choix des opérations : | AA4: Liste des opérations : | AC4: 10 ADDITIONS | AG4: résultats: | AI4: 10 SOUSTRACT° | AM4: Dans le bon sens | AP4: résultats: | AS4: Listing des opérations pour le tirage
B5: Opération n° 1 | C5: =VLOOKUP(INT($Z13),$AS$5:$BB$44,3) -> 2 | D5: =VLOOKUP(INT($Z13),$AS$5:$BB$44,5) -> + | E5: =VLOOKUP(INT($Z13),$AS$5:$BB$44,6) -> 4 | J5: Opération n° 1 | K5: =C5 -> 2 | L5: =D5 -> + | M5: =E5 -> 4 | AA5: + | AC5: opération 1 | AD5: =IF(AC6=0,INT(RAND()*8+2),INT(RAND()*28+2)) -> 2 | AE5: + | AF5: =IF(AC6=1,INT(RAND()*8+2),INT(RAND()*28+2)) -> 4 | AG5: =IF(AC6=0,AD5*(AF6/AD6)+AF5,AF5*(AD6/AF6)+AD5) -> 14 | AI5: opération 1 | AJ5: =IF(AI6=0,INT(RAND()*8+2),INT(RAND()*28+2)) -> 24 | AK5: - | AL5: =IF(AI6=1,INT(RAND()*8+2),INT(RAND()*28+2)) -> 5 | AM5: =IF(AJ5/AJ6>AL5/AL6,AJ5,AL5) -> 5 | AO5: =IF(AJ5/AJ6>AL5/AL6,AL5,AJ5) -> 24 | AP5: =IF(AO6>AM6,AM5*(AO6/AM6)-AO5,AM5-AO5*(AM6/AO6)) -> 11 | AS5: 1 | AT5: A1 | AU5: =AD5 -> 2 | AV5: =AD6 -> 3 | AW5: =AE5 -> + | AX5: =AF5 -> 4 | AY5: =AF6 -> 15 | AZ5: ="=" -> = | BA5: =AG5 -> 14 | BB5: =AG6 -> 15
C6: ― | D6: =VLOOKUP(INT($Z$13),$AS$5:$BB$44,3) -> 2 | E6: ― | F6: = | K6: ― | L6: =D6 -> 2 | M6: ― | N6: = | S6: Nombres de + | U6: 4 | AA6: - | AC6: =INT(RAND()*2) -> 0 | AD6: =IF(AC6=0,INT(RAND()*8+2),INT(RAND()*8+2)*AF6) -> 3 | AF6: =IF(AC6=1,INT(RAND()*8+2),INT(RAND()*8+2)*AD6) -> 15 | AG6: =IF(AC6=1,AD6,AF6) -> 15 | AI6: =INT(RAND()*2) -> 1 | AJ6: =IF(AI6=0,INT(RAND()*8+2),INT(RAND()*8+2)*AL6) -> 42 | AL6: =IF(AI6=1,INT(RAND()*8+2),INT(RAND()*8+2)*AJ6) -> 6 | AM6: =IF(AJ5/AJ6>AL5/AL6,AJ6,AL6) -> 6 | AO6: =IF(AJ5/AJ6>AL5/AL6,AL6,AJ6) -> 42 | AP6: =IF(AM6>AO6,AM6,AO6) -> 42 | AS6: 2 | AT6: A2 | AU6: =AD7 -> 5 | AV6: =AD8 -> 9 | AW6: =AE7 -> + | AX6: =AF7 -> 29 | AY6: =AF8 -> 36 | AZ6: ="=" -> = | BA6: =AG7 -> 49 | BB6: =AG8 -> 36
C7: =VLOOKUP(INT($Z13),$AS$5:$BB$44,4) -> 3 | D7: =VLOOKUP(INT($Z$13),$AS$5:$BB$44,3) -> 2 | E7: =VLOOKUP(INT($Z13),$AS$5:$BB$44,7) -> 15 | K7: =C7 -> 3 | L7: =D7 -> 2 | M7: =E7 -> 15 | S7: Nombres de - | U7: 3 | AA7: × | AC7: opération 2 | AD7: =IF(AC8=0,INT(RAND()*8+2),INT(RAND()*28+2)) -> 5 | AE7: + | AF7: =IF(AC8=1,INT(RAND()*8+2),INT(RAND()*28+2)) -> 29 | AG7: =IF(AC8=0,AD7*(AF8/AD8)+AF7,AF7*(AD8/AF8)+AD7) -> 49 | AI7: opération 2 | AJ7: =IF(AI8=0,INT(RAND()*8+2),INT(RAND()*28+2)) -> 2 | AK7: - | AL7: =IF(AI8=1,INT(RAND()*8+2),INT(RAND()*28+2)) -> 27 | AM7: =IF(AJ7/AJ8>AL7/AL8,AJ7,AL7) -> 27 | AO7: =IF(AJ7/AJ8>AL7/AL8,AL7,AJ7) -> 2 | AP7: =IF(AO8>AM8,AM7*(AO8/AM8)-AO7,AM7-AO7*(AM8/AO8)) -> 17 | AS7: 3 | AT7: A3 | AU7: =AD9 -> 19 | AV7: =AD10 -> 72 | AW7: =AE9 -> + | AX7: =AF9 -> 5 | AY7: =AF10 -> 8 | AZ7: ="=" -> = | BA7: =AG9 -> 64 | BB7: =AG10 -> 72
B8: Opération n° 2 | C8: =VLOOKUP(INT($Z14),$AS$5:$BB$44,3) -> 27 | D8: =VLOOKUP(INT($Z14),$AS$5:$BB$44,5) -> - | E8: =VLOOKUP(INT($Z14),$AS$5:$BB$44,6) -> 2 | J8: Opération n° 2 | K8: =C8 -> 27 | L8: =D8 -> - | M8: =E8 -> 2 | S8: Nombres de × | U8: 1 | AA8: ÷ | AC8: =INT(RAND()*2) -> 0 | AD8: =IF(AC8=0,INT(RAND()*8+2),INT(RAND()*8+2)*AF8) -> 9 | AF8: =IF(AC8=1,INT(RAND()*8+2),INT(RAND()*8+2)*AD8) -> 36 | AG8: =IF(AC8=1,AD8,AF8) -> 36 | AI8: =INT(RAND()*2) -> 0 | AJ8: =IF(AI8=0,INT(RAND()*8+2),INT(RAND()*8+2)*AL8) -> 7 | AL8: =IF(AI8=1,INT(RAND()*8+2),INT(RAND()*8+2)*AJ8) -> 35 | AM8: =IF(AJ7/AJ8>AL7/AL8,AJ8,AL8) -> 35 | AO8: =IF(AJ7/AJ8>AL7/AL8,AL8,AJ8) -> 7 | AP8: =IF(AM8>AO8,AM8,AO8) -> 35 | AS8: 4 | AT8: A4 | AU8: =AD11 -> 9 | AV8: =AD12 -> 8 | AW8: =AE11 -> + | AX8: =AF11 -> 24 | AY8: =AF12 -> 32 | AZ8: ="=" -> = | BA8: =AG11 -> 60 | BB8: =AG12 -> 32
C9: ― | D9: =VLOOKUP(INT($Z$13),$AS$5:$BB$44,3) -> 2 | E9: ― | F9: = | K9: ― | L9: =D9 -> 2 | M9: ― | N9: = | S9: Nombres de ÷ | U9: 2 | AC9: opération 3 | AD9: =IF(AC10=0,INT(RAND()*8+2),INT(RAND()*28+2)) -> 19 | AE9: + | AF9: =IF(AC10=1,INT(RAND()*8+2),INT(RAND()*28+2)) -> 5 | AG9: =IF(AC10=0,AD9*(AF10/AD10)+AF9,AF9*(AD10/AF10)+AD9) -> 64 | AI9: opération 3 | AJ9: =IF(AI10=0,INT(RAND()*8+2),INT(RAND()*28+2)) -> 4 | AK9: - | AL9: =IF(AI10=1,INT(RAND()*8+2),INT(RAND()*28+2)) -> 2 | AM9: =IF(AJ9/AJ10>AL9/AL10,AJ9,AL9) -> 2 | AO9: =IF(AJ9/AJ10>AL9/AL10,AL9,AJ9) -> 4 | AP9: =IF(AO10>AM10,AM9*(AO10/AM10)-AO9,AM9-AO9*(AM10/AO10)) -> 12 | AS9: 5 | AT9: A5 | AU9: =AD13 -> 3 | AV9: =AD14 -> 9 | AW9: =AE13 -> + | AX9: =AF13 -> 5 | AY9: =AF14 -> 36 | AZ9: ="=" -> = | BA9: =AG13 -> 17 | BB9: =AG14 -> 36
C10: =VLOOKUP(INT($Z14),$AS$5:$BB$44,4) -> 35 | D10: =VLOOKUP(INT($Z$13),$AS$5:$BB$44,3) -> 2 | E10: =VLOOKUP(INT($Z14),$AS$5:$BB$44,7) -> 7 | K10: =C10 -> 35 | L10: =D10 -> 2 | M10: =E10 -> 7 | S10: TOTAL = | U10: =SUM(U6:U9) -> 10 | AC10: =INT(RAND()*2) -> 1 | AD10: =IF(AC10=0,INT(RAND()*8+2),INT(RAND()*8+2)*AF10) -> 72 | AF10: =IF(AC10=1,INT(RAND()*8+2),INT(RAND()*8+2)*AD10) -> 8 | AG10: =IF(AC10=1,AD10,AF10) -> 72 | AI10: =INT(RAND()*2) -> 1 | AJ10: =IF(AI10=0,INT(RAND()*8+2),INT(RAND()*8+2)*AL10) -> 40 | AL10: =IF(AI10=1,INT(RAND()*8+2),INT(RAND()*8+2)*AJ10) -> 5 | AM10: =IF(AJ9/AJ10>AL9/AL10,AJ10,AL10) -> 5 | AO10: =IF(AJ9/AJ10>AL9/AL10,AL10,AJ10) -> 40 | AP10: =IF(AM10>AO10,AM10,AO10) -> 40 | AS10: 6 | AT10: A6 | AU10: =AD15 -> 4 | AV10: =AD16 -> 5 | AW10: =AE15 -> + | AX10: =AF15 -> 13 | AY10: =AF16 -> 40 | AZ10: ="=" -> = | BA10: =AG15 -> 45 | BB10: =AG16 -> 40
B11: Opération n° 3 | C11: =VLOOKUP(INT($Z15),$AS$5:$BB$44,3) -> 2 | D11: =VLOOKUP(INT($Z15),$AS$5:$BB$44,5) -> - | E11: =VLOOKUP(INT($Z15),$AS$5:$BB$44,6) -> 4 | J11: Opération n° 3 | K11: =C11 -> 2 | L11: =D11 -> - | M11: =E11 -> 4 | AC11: opération 4 | AD11: =IF(AC12=0,INT(RAND()*8+2),INT(RAND()*28+2)) -> 9 | AE11: + | AF11: =IF(AC12=1,INT(RAND()*8+2),INT(RAND()*28+2)) -> 24 | AG11: =IF(AC12=0,AD11*(AF12/AD12)+AF11,AF11*(AD12/AF12)+AD11) -> 60 | AI11: opération 4 | AJ11: =IF(AI12=0,INT(RAND()*8+2),INT(RAND()*28+2)) -> 9 | AK11: - | AL11: =IF(AI12=1,INT(RAND()*8+2),INT(RAND()*28+2)) -> 18 | AM11: =IF(AJ11/AJ12>AL11/AL12,AJ11,AL11) -> 9 | AO11: =IF(AJ11/AJ12>AL11/AL12,AL11,AJ11) -> 18 | AP11: =IF(AO12>AM12,AM11*(AO12/AM12)-AO11,AM11-AO11*(AM12/AO12)) -> 18 | AS11: 7 | AT11: A7 | AU11: =AD17 -> 5 | AV11: =AD18 -> 6 | AW11: =AE17 -> + | AX11: =AF17 -> 14 | AY11: =AF18 -> 54 | AZ11: ="=" -> = | BA11: =AG17 -> 59 | BB11: =AG18 -> 54
C12: ― | D12: =VLOOKUP(INT($Z$13),$AS$5:$BB$44,3) -> 2 | E12: ― | F12: = | K12: ― | L12: =D12 -> 2 | M12: ― | N12: = | S12: RECHERCHE des opérations | X12: Mélange des opérations | AC12: =INT(RAND()*2) -> 0 | AD12: =IF(AC12=0,INT(RAND()*8+2),INT(RAND()*8+2)*AF12) -> 8 | AF12: =IF(AC12=1,INT(RAND()*8+2),INT(RAND()*8+2)*AD12) -> 32 | AG12: =IF(AC12=1,AD12,AF12) -> 32 | AI12: =INT(RAND()*2) -> 0 | AJ12: =IF(AI12=0,INT(RAND()*8+2),INT(RAND()*8+2)*AL12) -> 4 | AL12: =IF(AI12=1,INT(RAND()*8+2),INT(RAND()*8+2)*AJ12) -> 16 | AM12: =IF(AJ11/AJ12>AL11/AL12,AJ12,AL12) -> 4 | AO12: =IF(AJ11/AJ12>AL11/AL12,AL12,AJ12) -> 16 | AP12: =IF(AM12>AO12,AM12,AO12) -> 16 | AS12: 8 | AT12: A8 | AU12: =AD19 -> 14 | AV12: =AD20 -> 20 | AW12: =AE19 -> + | AX12: =AF19 -> 2 | AY12: =AF20 -> 5 | AZ12: ="=" -> = | BA12: =AG19 -> 22 | BB12: =AG20 -> 20
C13: =VLOOKUP(INT($Z15),$AS$5:$BB$44,4) -> 5 | D13: =VLOOKUP(INT($Z$13),$AS$5:$BB$44,3) -> 2 | E13: =VLOOKUP(INT($Z15),$AS$5:$BB$44,7) -> 40 | K13: =C13 -> 5 | L13: =D13 -> 2 | M13: =E13 -> 40 | S13: 1 | T13: =IF($U$6>(S13-1),AT5,"") -> A1 | U13: =IF(S13>$U$6,IF(S13>($U$7+$U$6),IF(S13>($U$7+$U$6+$U$8),IF(S13>($U$7+$U$6+$U$8+$U$9),"",OFFSET(T13,(10-$U$6)+(10-$U$7)+(10-$U$8),0,1,1)),OFFSET(T13,(10-$U$6)+(10-$U$7),0,1,1)),OFFSET(T13,10-$U$6,0,1,1)),T13) -> A1 | X13: =U13 -> A1 | Z13: =IF(RIGHT(X13)="0",IF(LEFT(X13)="A",10,IF(LEFT(X13)="M",30,IF(LEFT(X13)="S",20,40))),IF(LEFT(X13)="A",RIGHT(X13),IF(LEFT(X13)="M",RIGHT(X13)+20,IF(LEFT(X13)="S",RIGHT(X13)+10,RIGHT(X13)+30)))) -> 1 | AC13: opération 5 | AD13: =IF(AC14=0,INT(RAND()*8+2),INT(RAND()*28+2)) -> 3 | AE13: + | AF13: =IF(AC14=1,INT(RAND()*8+2),INT(RAND()*28+2)) -> 5 | AG13: =IF(AC14=0,AD13*(AF14/AD14)+AF13,AF13*(AD14/AF14)+AD13) -> 17 | AI13: opération 5 | AJ13: =IF(AI14=0,INT(RAND()*8+2),INT(RAND()*28+2)) -> 8 | AK13: - | AL13: =IF(AI14=1,INT(RAND()*8+2),INT(RAND()*28+2)) -> 25 | AM13: =IF(AJ13/AJ14>AL13/AL14,AJ13,AL13) -> 8 | AO13: =IF(AJ13/AJ14>AL13/AL14,AL13,AJ13) -> 25 | AP13: =IF(AO14>AM14,AM13*(AO14/AM14)-AO13,AM13-AO13*(AM14/AO14)) -> 7 | AS13: 9 | AT13: A9 | AU13: =AD21 -> 28 | AV13: =AD22 -> 63 | AW13: =AE21 -> + | AX13: =AF21 -> 9 | AY13: =AF22 -> 9 | AZ13: ="=" -> = | BA13: =AG21 -> 91 | BB13: =AG22 -> 63
B14: Opération n° 4 | C14: =VLOOKUP(INT($Z16),$AS$5:$BB$44,3) -> 19 | D14: =VLOOKUP(INT($Z16),$AS$5:$BB$44,5) -> + | E14: =VLOOKUP(INT($Z16),$AS$5:$BB$44,6) -> 5 | J14: Opération n° 4 | K14: =C14 -> 19 | L14: =D14 -> + | M14: =E14 -> 5 | S14: 2 | T14: =IF($U$6>(S14-1),AT6,"") -> A2 | U14: =IF(S14>$U$6,IF(S14>($U$7+$U$6),IF(S14>($U$7+$U$6+$U$8),IF(S14>($U$7+$U$6+$U$8+$U$9),"",OFFSET(T14,(10-$U$6)+(10-$U$7)+(10-$U$8),0,1,1)),OFFSET(T14,(10-$U$6)+(10-$U$7),0,1,1)),OFFSET(T14,10-$U$6,0,1,1)),T14) -> A2 | X14: =U18 -> S2 | Z14: =IF(RIGHT(X14)="0",IF(LEFT(X14)="A",10,IF(LEFT(X14)="M",30,IF(LEFT(X14)="S",20,40))),IF(LEFT(X14)="A",RIGHT(X14),IF(LEFT(X14)="M",RIGHT(X14)+20,IF(LEFT(X14)="S",RIGHT(X14)+10,RIGHT(X14)+30)))) -> 12 | AC14: =INT(RAND()*2) -> 0 | AD14: =IF(AC14=0,INT(RAND()*8+2),INT(RAND()*8+2)*AF14) -> 9 | AF14: =IF(AC14=1,INT(RAND()*8+2),INT(RAND()*8+2)*AD14) -> 36 | AG14: =IF(AC14=1,AD14,AF14) -> 36 | AI14: =INT(RAND()*2) -> 0 | AJ14: =IF(AI14=0,INT(RAND()*8+2),INT(RAND()*8+2)*AL14) -> 7 | AL14: =IF(AI14=1,INT(RAND()*8+2),INT(RAND()*8+2)*AJ14) -> 28 | AM14: =IF(AJ13/AJ14>AL13/AL14,AJ14,AL14) -> 7 | AO14: =IF(AJ13/AJ14>AL13/AL14,AL14,AJ14) -> 28 | AP14: =IF(AM14>AO14,AM14,AO14) -> 28 | AS14: 10 | AT14: A10 | AU14: =AD23 -> 10 | AV14: =AD24 -> 42 | AW14: =AE23 -> + | AX14: =AF23 -> 3 | AY14: =AF24 -> 7 | AZ14: ="=" -> = | BA14: =AG23 -> 28 | BB14: =AG24 -> 42
C15: ― | D15: =VLOOKUP(INT($Z$13),$AS$5:$BB$44,3) -> 2 | E15: ― | F15: = | K15: ― | L15: =D15 -> 2 | M15: ― | N15: = | S15: 3 | T15: =IF($U$6>(S15-1),AT7,"") -> A3 | U15: =IF(S15>$U$6,IF(S15>($U$7+$U$6),IF(S15>($U$7+$U$6+$U$8),IF(S15>($U$7+$U$6+$U$8+$U$9),"",OFFSET(T15,(10-$U$6)+(10-$U$7)+(10-$U$8),0,1,1)),OFFSET(T15,(10-$U$6)+(10-$U$7),0,1,1)),OFFSET(T15,10-$U$6,0,1,1)),T15) -> A3 | X15: =U19 -> S3 | Z15: =IF(RIGHT(X15)="0",IF(LEFT(X15)="A",10,IF(LEFT(X15)="M",30,IF(LEFT(X15)="S",20,40))),IF(LEFT(X15)="A",RIGHT(X15),IF(LEFT(X15)="M",RIGHT(X15)+20,IF(LEFT(X15)="S",RIGHT(X15)+10,RIGHT(X15)+30)))) -> 13 | AC15: opération 6 | AD15: =IF(AC16=0,INT(RAND()*8+2),INT(RAND()*28+2)) -> 4 | AE15: + | AF15: =IF(AC16=1,INT(RAND()*8+2),INT(RAND()*28+2)) -> 13 | AG15: =IF(AC16=0,AD15*(AF16/AD16)+AF15,AF15*(AD16/AF16)+AD15) -> 45 | AI15: opération 6 | AJ15: =IF(AI16=0,INT(RAND()*8+2),INT(RAND()*28+2)) -> 8 | AK15: - | AL15: =IF(AI16=1,INT(RAND()*8+2),INT(RAND()*28+2)) -> 7 | AM15: =IF(AJ15/AJ16>AL15/AL16,AJ15,AL15) -> 8 | AO15: =IF(AJ15/AJ16>AL15/AL16,AL15,AJ15) -> 7 | AP15: =IF(AO16>AM16,AM15*(AO16/AM16)-AO15,AM15-AO15*(AM16/AO16)) -> 57 | AS15: 11 | AT15: S1 | AU15: =AM5 -> 5 | AV15: =AM6 -> 6 | AW15: =AK5 -> - | AX15: =AO5 -> 24 | AY15: =AO6 -> 42 | AZ15: ="=" -> = | BA15: =AP5 -> 11 | BB15: =AP6 -> 42
C16: =VLOOKUP(INT($Z16),$AS$5:$BB$44,4) -> 72 | D16: =VLOOKUP(INT($Z$13),$AS$5:$BB$44,3) -> 2 | E16: =VLOOKUP(INT($Z16),$AS$5:$BB$44,7) -> 8 | K16: =C16 -> 72 | L16: =D16 -> 2 | M16: =E16 -> 8 | S16: 4 | T16: =IF($U$6>(S16-1),AT8,"") -> A4 | U16: =IF(S16>$U$6,IF(S16>($U$7+$U$6),IF(S16>($U$7+$U$6+$U$8),IF(S16>($U$7+$U$6+$U$8+$U$9),"",OFFSET(T16,(10-$U$6)+(10-$U$7)+(10-$U$8),0,1,1)),OFFSET(T16,(10-$U$6)+(10-$U$7),0,1,1)),OFFSET(T16,10-$U$6,0,1,1)),T16) -> A4 | X16: =U15 -> A3 | Z16: =IF(RIGHT(X16)="0",IF(LEFT(X16)="A",10,IF(LEFT(X16)="M",30,IF(LEFT(X16)="S",20,40))),IF(LEFT(X16)="A",RIGHT(X16),IF(LEFT(X16)="M",RIGHT(X16)+20,IF(LEFT(X16)="S",RIGHT(X16)+10,RIGHT(X16)+30)))) -> 3 | AC16: =INT(RAND()*2) -> 0 | AD16: =IF(AC16=0,INT(RAND()*8+2),INT(RAND()*8+2)*AF16) -> 5 | AF16: =IF(AC16=1,INT(RAND()*8+2),INT(RAND()*8+2)*AD16) -> 40 | AG16: =IF(AC16=1,AD16,AF16) -> 40 | AI16: =INT(RAND()*2) -> 0 | AJ16: =IF(AI16=0,INT(RAND()*8+2),INT(RAND()*8+2)*AL16) -> 3 | AL16: =IF(AI16=1,INT(RAND()*8+2),INT(RAND()*8+2)*AJ16) -> 24 | AM16: =IF(AJ15/AJ16>AL15/AL16,AJ16,AL16) -> 3 | AO16: =IF(AJ15/AJ16>AL15/AL16,AL16,AJ16) -> 24 | AP16: =IF(AM16>AO16,AM16,AO16) -> 24 | AS16: 12 | AT16: S2 | AU16: =AM7 -> 27 | AV16: =AM8 -> 35 | AW16: =AK7 -> - | AX16: =AO7 -> 2 | AY16: =AO8 -> 7 | AZ16: ="=" -> = | BA16: =AP7 -> 17 | BB16: =AP8 -> 35
B17: Opération n° 5 | C17: =VLOOKUP(INT($Z17),$AS$5:$BB$44,3) -> 9 | D17: =VLOOKUP(INT($Z17),$AS$5:$BB$44,5) -> + | E17: =VLOOKUP(INT($Z17),$AS$5:$BB$44,6) -> 24 | J17: Opération n° 5 | K17: =C17 -> 9 | L17: =D17 -> + | M17: =E17 -> 24 | S17: 5 | T17: =IF($U$6>(S17-1),AT9,"") | U17: =IF(S17>$U$6,IF(S17>($U$7+$U$6),IF(S17>($U$7+$U$6+$U$8),IF(S17>($U$7+$U$6+$U$8+$U$9),"",OFFSET(T17,(10-$U$6)+(10-$U$7)+(10-$U$8),0,1,1)),OFFSET(T17,(10-$U$6)+(10-$U$7),0,1,1)),OFFSET(T17,10-$U$6,0,1,1)),T17) -> S1 | X17: =U16 -> A4 | Z17: =IF(RIGHT(X17)="0",IF(LEFT(X17)="A",10,IF(LEFT(X17)="M",30,IF(LEFT(X17)="S",20,40))),IF(LEFT(X17)="A",RIGHT(X17),IF(LEFT(X17)="M",RIGHT(X17)+20,IF(LEFT(X17)="S",RIGHT(X17)+10,RIGHT(X17)+30)))) -> 4 | AC17: opération 7 | AD17: =IF(AC18=0,INT(RAND()*8+2),INT(RAND()*28+2)) -> 5 | AE17: + | AF17: =IF(AC18=1,INT(RAND()*8+2),INT(RAND()*28+2)) -> 14 | AG17: =IF(AC18=0,AD17*(AF18/AD18)+AF17,AF17*(AD18/AF18)+AD17) -> 59 | AI17: opération 7 | AJ17: =IF(AI18=0,INT(RAND()*8+2),INT(RAND()*28+2)) -> 6 | AK17: - | AL17: =IF(AI18=1,INT(RAND()*8+2),INT(RAND()*28+2)) -> 6 | AM17: =IF(AJ17/AJ18>AL17/AL18,AJ17,AL17) -> 6 | AO17: =IF(AJ17/AJ18>AL17/AL18,AL17,AJ17) -> 6 | AP17: =IF(AO18>AM18,AM17*(AO18/AM18)-AO17,AM17-AO17*(AM18/AO18)) -> 24 | AS17: 13 | AT17: S3 | AU17: =AM9 -> 2 | AV17: =AM10 -> 5 | AW17: =AK9 -> - | AX17: =AO9 -> 4 | AY17: =AO10 -> 40 | AZ17: ="=" -> = | BA17: =AP9 -> 12 | BB17: =AP10 -> 40
C18: ― | D18: =VLOOKUP(INT($Z$13),$AS$5:$BB$44,3) -> 2 | E18: ― | F18: = | K18: ― | L18: =D18 -> 2 | M18: ― | N18: = | S18: 6 | T18: =IF($U$6>(S18-1),AT10,"") | U18: =IF(S18>$U$6,IF(S18>($U$7+$U$6),IF(S18>($U$7+$U$6+$U$8),IF(S18>($U$7+$U$6+$U$8+$U$9),"",OFFSET(T18,(10-$U$6)+(10-$U$7)+(10-$U$8),0,1,1)),OFFSET(T18,(10-$U$6)+(10-$U$7),0,1,1)),OFFSET(T18,10-$U$6,0,1,1)),T18) -> S2 | X18: =U22 -> D2 | Z18: =IF(RIGHT(X18)="0",IF(LEFT(X18)="A",10,IF(LEFT(X18)="M",30,IF(LEFT(X18)="S",20,40))),IF(LEFT(X18)="A",RIGHT(X18),IF(LEFT(X18)="M",RIGHT(X18)+20,IF(LEFT(X18)="S",RIGHT(X18)+10,RIGHT(X18)+30)))) -> 32 | AC18: =INT(RAND()*2) -> 0 | AD18: =IF(AC18=0,INT(RAND()*8+2),INT(RAND()*8+2)*AF18) -> 6 | AF18: =IF(AC18=1,INT(RAND()*8+2),INT(RAND()*8+2)*AD18) -> 54 | AG18: =IF(AC18=1,AD18,AF18) -> 54 | AI18: =INT(RAND()*2) -> 1 | AJ18: =IF(AI18=0,INT(RAND()*8+2),INT(RAND()*8+2)*AL18) -> 15 | AL18: =IF(AI18=1,INT(RAND()*8+2),INT(RAND()*8+2)*AJ18) -> 3 | AM18: =IF(AJ17/AJ18>AL17/AL18,AJ18,AL18) -> 3 | AO18: =IF(AJ17/AJ18>AL17/AL18,AL18,AJ18) -> 15 | AP18: =IF(AM18>AO18,AM18,AO18) -> 15 | AS18: 14 | AT18: S4 | AU18: =AM11 -> 9 | AV18: =AM12 -> 4 | AW18: =AK11 -> - | AX18: =AO11 -> 18 | AY18: =AO12 -> 16 | AZ18: ="=" -> = | BA18: =AP11 -> 18 | BB18: =AP12 -> 16
C19: =VLOOKUP(INT($Z17),$AS$5:$BB$44,4) -> 8 | D19: =VLOOKUP(INT($Z$13),$AS$5:$BB$44,3) -> 2 | E19: =VLOOKUP(INT($Z17),$AS$5:$BB$44,7) -> 32 | K19: =C19 -> 8 | L19: =D19 -> 2 | M19: =E19 -> 32 | S19: 7 | T19: =IF($U$6>(S19-1),AT11,"") | U19: =IF(S19>$U$6,IF(S19>($U$7+$U$6),IF(S19>($U$7+$U$6+$U$8),IF(S19>($U$7+$U$6+$U$8+$U$9),"",OFFSET(T19,(10-$U$6)+(10-$U$7)+(10-$U$8),0,1,1)),OFFSET(T19,(10-$U$6)+(10-$U$7),0,1,1)),OFFSET(T19,10-$U$6,0,1,1)),T19) -> S3 | X19: =U14 -> A2 | Z19: =IF(RIGHT(X19)="0",IF(LEFT(X19)="A",10,IF(LEFT(X19)="M",30,IF(LEFT(X19)="S",20,40))),IF(LEFT(X19)="A",RIGHT(X19),IF(LEFT(X19)="M",RIGHT(X19)+20,IF(LEFT(X19)="S",RIGHT(X19)+10,RIGHT(X19)+30)))) -> 2 | AC19: opération 8 | AD19: =IF(AC20=0,INT(RAND()*8+2),INT(RAND()*28+2)) -> 14 | AE19: + | AF19: =IF(AC20=1,INT(RAND()*8+2),INT(RAND()*28+2)) -> 2 | AG19: =IF(AC20=0,AD19*(AF20/AD20)+AF19,AF19*(AD20/AF20)+AD19) -> 22 | AI19: opération 8 | AJ19: =IF(AI20=0,INT(RAND()*8+2),INT(RAND()*28+2)) -> 19 | AK19: - | AL19: =IF(AI20=1,INT(RAND()*8+2),INT(RAND()*28+2)) -> 6 | AM19: =IF(AJ19/AJ20>AL19/AL20,AJ19,AL19) -> 6 | AO19: =IF(AJ19/AJ20>AL19/AL20,AL19,AJ19) -> 19 | AP19: =IF(AO20>AM20,AM19*(AO20/AM20)-AO19,AM19-AO19*(AM20/AO20)) -> 23 | AS19: 15 | AT19: S5 | AU19: =AM13 -> 8 | AV19: =AM14 -> 7 | AW19: =AK13 -> - | AX19: =AO13 -> 25 | AY19: =AO14 -> 28 | AZ19: ="=" -> = | BA19: =AP13 -> 7 | BB19: =AP14 -> 28
B20: Opération n° 6 | C20: =VLOOKUP(INT($Z18),$AS$5:$BB$44,3) -> 3 | D20: =VLOOKUP(INT($Z18),$AS$5:$BB$44,5) -> ÷ | E20: =VLOOKUP(INT($Z18),$AS$5:$BB$44,6) -> 8 | J20: Opération n° 6 | K20: =C20 -> 3 | L20: =D20 -> ÷ | M20: =E20 -> 8 | S20: 8 | T20: =IF($U$6>(S20-1),AT12,"") | U20: =IF(S20>$U$6,IF(S20>($U$7+$U$6),IF(S20>($U$7+$U$6+$U$8),IF(S20>($U$7+$U$6+$U$8+$U$9),"",OFFSET(T20,(10-$U$6)+(10-$U$7)+(10-$U$8),0,1,1)),OFFSET(T20,(10-$U$6)+(10-$U$7),0,1,1)),OFFSET(T20,10-$U$6,0,1,1)),T20) -> M1 | X20: =U17 -> S1 | Z20: =IF(RIGHT(X20)="0",IF(LEFT(X20)="A",10,IF(LEFT(X20)="M",30,IF(LEFT(X20)="S",20,40))),IF(LEFT(X20)="A",RIGHT(X20),IF(LEFT(X20)="M",RIGHT(X20)+20,IF(LEFT(X20)="S",RIGHT(X20)+10,RIGHT(X20)+30)))) -> 11 | AC20: =INT(RAND()*2) -> 1 | AD20: =IF(AC20=0,INT(RAND()*8+2),INT(RAND()*8+2)*AF20) -> 20 | AF20: =IF(AC20=1,INT(RAND()*8+2),INT(RAND()*8+2)*AD20) -> 5 | AG20: =IF(AC20=1,AD20,AF20) -> 20 | AI20: =INT(RAND()*2) -> 1 | AJ20: =IF(AI20=0,INT(RAND()*8+2),INT(RAND()*8+2)*AL20) -> 42 | AL20: =IF(AI20=1,INT(RAND()*8+2),INT(RAND()*8+2)*AJ20) -> 6 | AM20: =IF(AJ19/AJ20>AL19/AL20,AJ20,AL20) -> 6 | AO20: =IF(AJ19/AJ20>AL19/AL20,AL20,AJ20) -> 42 | AP20: =IF(AM20>AO20,AM20,AO20) -> 42 | AS20: 16 | AT20: S6 | AU20: =AM15 -> 8 | AV20: =AM16 -> 3 | AW20: =AK15 -> - | AX20: =AO15 -> 7 | AY20: =AO16 -> 24 | AZ20: ="=" -> = | BA20: =AP15 -> 57 | BB20: =AP16 -> 24
C21: ― | D21: =VLOOKUP(INT($Z$13),$AS$5:$BB$44,3) -> 2 | E21: ― | F21: = | K21: ― | L21: =D21 -> 2 | M21: ― | N21: = | S21: 9 | T21: =IF($U$6>(S21-1),AT13,"") | U21: =IF(S21>$U$6,IF(S21>($U$7+$U$6),IF(S21>($U$7+$U$6+$U$8),IF(S21>($U$7+$U$6+$U$8+$U$9),"",OFFSET(T21,(10-$U$6)+(10-$U$7)+(10-$U$8),0,1,1)),OFFSET(T21,(10-$U$6)+(10-$U$7),0,1,1)),OFFSET(T21,10-$U$6,0,1,1)),T21) -> D1 | X21: =U21 -> D1 | Z21: =IF(RIGHT(X21)="0",IF(LEFT(X21)="A",10,IF(LEFT(X21)="M",30,IF(LEFT(X21)="S",20,40))),IF(LEFT(X21)="A",RIGHT(X21),IF(LEFT(X21)="M",RIGHT(X21)+20,IF(LEFT(X21)="S",RIGHT(X21)+10,RIGHT(X21)+30)))) -> 31 | AC21: opération 9 | AD21: =IF(AC22=0,INT(RAND()*8+2),INT(RAND()*28+2)) -> 28 | AE21: + | AF21: =IF(AC22=1,INT(RAND()*8+2),INT(RAND()*28+2)) -> 9 | AG21: =IF(AC22=0,AD21*(AF22/AD22)+AF21,AF21*(AD22/AF22)+AD21) -> 91 | AI21: opération 9 | AJ21: =IF(AI22=0,INT(RAND()*8+2),INT(RAND()*28+2)) -> 11 | AK21: - | AL21: =IF(AI22=1,INT(RAND()*8+2),INT(RAND()*28+2)) -> 8 | AM21: =IF(AJ21/AJ22>AL21/AL22,AJ21,AL21) -> 8 | AO21: =IF(AJ21/AJ22>AL21/AL22,AL21,AJ21) -> 11 | AP21: =IF(AO22>AM22,AM21*(AO22/AM22)-AO21,AM21-AO21*(AM22/AO22)) -> 29 | AS21: 17 | AT21: S7 | AU21: =AM17 -> 6 | AV21: =AM18 -> 3 | AW21: =AK17 -> - | AX21: =AO17 -> 6 | AY21: =AO18 -> 15 | AZ21: ="=" -> = | BA21: =AP17 -> 24 | BB21: =AP18 -> 15
C22: =VLOOKUP(INT($Z18),$AS$5:$BB$44,4) -> 2 | D22: =VLOOKUP(INT($Z$13),$AS$5:$BB$44,3) -> 2 | E22: =VLOOKUP(INT($Z18),$AS$5:$BB$44,7) -> 3 | K22: =C22 -> 2 | L22: =D22 -> 2 | M22: =E22 -> 3 | S22: 10 | T22: =IF($U$6>(S22-1),AT14,"") | U22: =IF(S22>$U$6,IF(S22>($U$7+$U$6),IF(S22>($U$7+$U$6+$U$8),IF(S22>($U$7+$U$6+$U$8+$U$9),"",OFFSET(T22,(10-$U$6)+(10-$U$7)+(10-$U$8),0,1,1)),OFFSET(T22,(10-$U$6)+(10-$U$7),0,1,1)),OFFSET(T22,10-$U$6,0,1,1)),T22) -> D2 | X22: =U20 -> M1 | Z22: =IF(RIGHT(X22)="0",IF(LEFT(X22)="A",10,IF(LEFT(X22)="M",30,IF(LEFT(X22)="S",20,40))),IF(LEFT(X22)="A",RIGHT(X22),IF(LEFT(X22)="M",RIGHT(X22)+20,IF(LEFT(X22)="S",RIGHT(X22)+10,RIGHT(X22)+30)))) -> 21 | AC22: =INT(RAND()*2) -> 1 | AD22: =IF(AC22=0,INT(RAND()*8+2),INT(RAND()*8+2)*AF22) -> 63 | AF22: =IF(AC22=1,INT(RAND()*8+2),INT(RAND()*8+2)*AD22) -> 9 | AG22: =IF(AC22=1,AD22,AF22) -> 63 | AI22: =INT(RAND()*2) -> 1 | AJ22: =IF(AI22=0,INT(RAND()*8+2),INT(RAND()*8+2)*AL22) -> 40 | AL22: =IF(AI22=1,INT(RAND()*8+2),INT(RAND()*8+2)*AJ22) -> 8 | AM22: =IF(AJ21/AJ22>AL21/AL22,AJ22,AL22) -> 8 | AO22: =IF(AJ21/AJ22>AL21/AL22,AL22,AJ22) -> 40 | AP22: =IF(AM22>AO22,AM22,AO22) -> 40 | AS22: 18 | AT22: S8 | AU22: =AM19 -> 6 | AV22: =AM20 -> 6 | AW22: =AK19 -> - | AX22: =AO19 -> 19 | AY22: =AO20 -> 42 | AZ22: ="=" -> = | BA22: =AP19 -> 23 | BB22: =AP20 -> 42
B23: Opération n° 7 | C23: =VLOOKUP(INT($Z19),$AS$5:$BB$44,3) -> 5 | D23: =VLOOKUP(INT($Z19),$AS$5:$BB$44,5) -> + | E23: =VLOOKUP(INT($Z19),$AS$5:$BB$44,6) -> 29 | J23: Opération n° 7 | K23: =C23 -> 5 | L23: =D23 -> + | M23: =E23 -> 29 | S23: 11 | T23: =IF($U$7>(S23-11),AT15,"") -> S1 | U23: =IF(S23>$U$6,IF(S23>($U$7+$U$6),IF(S23>($U$7+$U$6+$U$8),IF(S23>($U$7+$U$6+$U$8+$U$9),"",OFFSET(T23,(10-$U$6)+(10-$U$7)+(10-$U$8),0,1,1)),OFFSET(T23,(10-$U$6)+(10-$U$7),0,1,1)),OFFSET(T23,10-$U$6,0,1,1)),T23) | AC23: opération 10 | AD23: =IF(AC24=0,INT(RAND()*8+2),INT(RAND()*28+2)) -> 10 | AE23: + | AF23: =IF(AC24=1,INT(RAND()*8+2),INT(RAND()*28+2)) -> 3 | AG23: =IF(AC24=0,AD23*(AF24/AD24)+AF23,AF23*(AD24/AF24)+AD23) -> 28 | AI23: opération 10 | AJ23: =IF(AI24=0,INT(RAND()*8+2),INT(RAND()*28+2)) -> 14 | AK23: - | AL23: =IF(AI24=1,INT(RAND()*8+2),INT(RAND()*28+2)) -> 6 | AM23: =IF(AJ23/AJ24>AL23/AL24,AJ23,AL23) -> 6 | AO23: =IF(AJ23/AJ24>AL23/AL24,AL23,AJ23) -> 14 | AP23: =IF(AO24>AM24,AM23*(AO24/AM24)-AO23,AM23-AO23*(AM24/AO24)) -> 16 | AS23: 19 | AT23: S9 | AU23: =AM21 -> 8 | AV23: =AM22 -> 8 | AW23: =AK21 -> - | AX23: =AO21 -> 11 | AY23: =AO22 -> 40 | AZ23: ="=" -> = | BA23: =AP21 -> 29 | BB23: =AP22 -> 40
C24: ― | D24: =VLOOKUP(INT($Z$13),$AS$5:$BB$44,3) -> 2 | E24: ― | F24: = | K24: ― | L24: =D24 -> 2 | M24: ― | N24: = | S24: 12 | T24: =IF($U$7>(S24-11),AT16,"") -> S2 | U24: =IF(S24>$U$6,IF(S24>($U$7+$U$6),IF(S24>($U$7+$U$6+$U$8),IF(S24>($U$7+$U$6+$U$8+$U$9),"",OFFSET(T24,(10-$U$6)+(10-$U$7)+(10-$U$8),0,1,1)),OFFSET(T24,(10-$U$6)+(10-$U$7),0,1,1)),OFFSET(T24,10-$U$6,0,1,1)),T24) | AC24: =INT(RAND()*2) -> 1 | AD24: =IF(AC24=0,INT(RAND()*8+2),INT(RAND()*8+2)*AF24) -> 42 | AF24: =IF(AC24=1,INT(RAND()*8+2),INT(RAND()*8+2)*AD24) -> 7 | AG24: =IF(AC24=1,AD24,AF24) -> 42 | AI24: =INT(RAND()*2) -> 1 | AJ24: =IF(AI24=0,INT(RAND()*8+2),INT(RAND()*8+2)*AL24) -> 15 | AL24: =IF(AI24=1,INT(RAND()*8+2),INT(RAND()*8+2)*AJ24) -> 3 | AM24: =IF(AJ23/AJ24>AL23/AL24,AJ24,AL24) -> 3 | AO24: =IF(AJ23/AJ24>AL23/AL24,AL24,AJ24) -> 15 | AP24: =IF(AM24>AO24,AM24,AO24) -> 15 | AS24: 20 | AT24: S10 | AU24: =AM23 -> 6 | AV24: =AM24 -> 3 | AW24: =AK23 -> - | AX24: =AO23 -> 14 | AY24: =AO24 -> 15 | AZ24: ="=" -> = | BA24: =AP23 -> 16 | BB24: =AP24 -> 15
C25: =VLOOKUP(INT($Z19),$AS$5:$BB$44,4) -> 9 | D25: =VLOOKUP(INT($Z$13),$AS$5:$BB$44,3) -> 2 | E25: =VLOOKUP(INT($Z19),$AS$5:$BB$44,7) -> 36 | K25: =C25 -> 9 | L25: =D25 -> 2 | M25: =E25 -> 36 | S25: 13 | T25: =IF($U$7>(S25-11),AT17,"") -> S3 | U25: =IF(S25>$U$6,IF(S25>($U$7+$U$6),IF(S25>($U$7+$U$6+$U$8),IF(S25>($U$7+$U$6+$U$8+$U$9),"",OFFSET(T25,(10-$U$6)+(10-$U$7)+(10-$U$8),0,1,1)),OFFSET(T25,(10-$U$6)+(10-$U$7),0,1,1)),OFFSET(T25,10-$U$6,0,1,1)),T25) | AS25: 21 | AT25: M1 | AU25: =AD28 -> 2 | AV25: =AD29 -> 9 | AW25: =AE28 -> × | AX25: =AF28 -> 8 | AY25: =AF29 -> 9 | AZ25: ="=" -> = | BA25: =AG28 -> 16 | BB25: =AG29 -> 81
B26: Opération n° 8 | C26: =VLOOKUP(INT($Z20),$AS$5:$BB$44,3) -> 5 | D26: =VLOOKUP(INT($Z20),$AS$5:$BB$44,5) -> - | E26: =VLOOKUP(INT($Z20),$AS$5:$BB$44,6) -> 24 | J26: Opération n° 8 | K26: =C26 -> 5 | L26: =D26 -> - | M26: =E26 -> 24 | S26: 14 | T26: =IF($U$7>(S26-11),AT18,"") | U26: =IF(S26>$U$6,IF(S26>($U$7+$U$6),IF(S26>($U$7+$U$6+$U$8),IF(S26>($U$7+$U$6+$U$8+$U$9),"",OFFSET(T26,(10-$U$6)+(10-$U$7)+(10-$U$8),0,1,1)),OFFSET(T26,(10-$U$6)+(10-$U$7),0,1,1)),OFFSET(T26,10-$U$6,0,1,1)),T26) | AS26: 22 | AT26: M2 | AU26: =AD30 -> 5 | AV26: =AD31 -> 2 | AW26: =AE30 -> × | AX26: =AF30 -> 4 | AY26: =AF31 -> 9 | AZ26: ="=" -> = | BA26: =AG30 -> 20 | BB26: =AG31 -> 18
C27: ― | D27: =VLOOKUP(INT($Z$13),$AS$5:$BB$44,3) -> 2 | E27: ― | F27: = | K27: ― | L27: =D27 -> 2 | M27: ― | N27: = | S27: 15 | T27: =IF($U$7>(S27-11),AT19,"") | U27: =IF(S27>$U$6,IF(S27>($U$7+$U$6),IF(S27>($U$7+$U$6+$U$8),IF(S27>($U$7+$U$6+$U$8+$U$9),"",OFFSET(T27,(10-$U$6)+(10-$U$7)+(10-$U$8),0,1,1)),OFFSET(T27,(10-$U$6)+(10-$U$7),0,1,1)),OFFSET(T27,10-$U$6,0,1,1)),T27) | AC27: 10 mulitplications | AG27: résultats | AI27: 10 divisions | AM27: résultats | AS27: 23 | AT27: M3 | AU27: =AD32 -> 4 | AV27: =AD33 -> 5 | AW27: =AE32 -> × | AX27: =AF32 -> 9 | AY27: =AF33 -> 4 | AZ27: ="=" -> = | BA27: =AG32 -> 36 | BB27: =AG33 -> 20
C28: =VLOOKUP(INT($Z20),$AS$5:$BB$44,4) -> 6 | D28: =VLOOKUP(INT($Z$13),$AS$5:$BB$44,3) -> 2 | E28: =VLOOKUP(INT($Z20),$AS$5:$BB$44,7) -> 42 | K28: =C28 -> 6 | L28: =D28 -> 2 | M28: =E28 -> 42 | S28: 16 | T28: =IF($U$7>(S28-11),AT20,"") | U28: =IF(S28>$U$6,IF(S28>($U$7+$U$6),IF(S28>($U$7+$U$6+$U$8),IF(S28>($U$7+$U$6+$U$8+$U$9),"",OFFSET(T28,(10-$U$6)+(10-$U$7)+(10-$U$8),0,1,1)),OFFSET(T28,(10-$U$6)+(10-$U$7),0,1,1)),OFFSET(T28,10-$U$6,0,1,1)),T28) | AC28: opération 1 | AD28: =INT(RAND()*8+2) -> 2 | AE28: × | AF28: =INT(RAND()*8+2) -> 8 | AG28: =AD28*AF28 -> 16 | AI28: opération 1 | AJ28: =INT(RAND()*8+2) -> 9 | AK28: ÷ | AL28: =INT(RAND()*8+2) -> 7 | AM28: =AJ28*AL29 -> 36 | AS28: 24 | AT28: M4 | AU28: =AD34 -> 6 | AV28: =AD35 -> 7 | AW28: =AE34 -> × | AX28: =AF34 -> 3 | AY28: =AF35 -> 2 | AZ28: ="=" -> = | BA28: =AG34 -> 18 | BB28: =AG35 -> 14
